BEGIN:VCALENDAR
VERSION:2.0
PRODID:itakvim.com
CALSCALE:GREGORIAN
METHOD:PUBLISH
UID:9dn6skcwe5n
X-WR-CALNAME:Balıkesir Ali Hikmet Paşa Spor Tesisleri Takvimi
X-ITAKVIM-LANGUAGE:tr
X-ORIGINAL-URL:itakvim.com
REFRESH-INTERVAL;VALUE=DURATION:PT1H
X-ITAKVIM-REGION:TR
X-Robots-Tag:noindex
X-PUBLISHED-TTL:PT1H
BEGIN:VEVENT
UID:daa309c6-efca-4e09-5279-08de9f183112
DTSTAMP:20260420T200816Z
TRANSP:TRANSPARENT
DTSTART:20260924T060000Z
DTEND:20260927T150000Z
STATUS:CONFIRMED
SUMMARY:3. Balıkesir Tarım Ve Hayvancılık Fuarı
DESCRIPTION:Btkexpo Fuarcılık Etkinlik Caterıng Reklam Tanıtım Ve St
 ant Üretim Hizmetleri Limited Şirketi tarafından düzenlenen İklime 
 uygun tarım konulu fuarda görüşmek üzere: \n\nWeb:balikesirtarimveh
 ayvancilikfuari.com\nE-Posta: daghank@gmail.com
LOCATION:Ali Hikmet Paşa Spor Tesisleri
BEGIN:VALARM
ACTION:DISPLAY
DESCRIPTION:3. Balıkesir Tarım Ve Hayvancılık Fuarı
TRIGGER:-PT24H
END:VALARM
END:VEVENT
END:VCALENDAR
