BEGIN:VCALENDAR
VERSION:2.0
PRODID:itakvim.com
CALSCALE:GREGORIAN
METHOD:PUBLISH
UID:9qfoi5qsdcx
X-WR-CALNAME:Üsküdar Musahipzade Celal Sahnesi
X-ITAKVIM-LANGUAGE:tr
X-ORIGINAL-URL:itakvim.com
REFRESH-INTERVAL;VALUE=DURATION:PT1H
X-ITAKVIM-REGION:TR
X-Robots-Tag:noindex
X-PUBLISHED-TTL:PT1H
BEGIN:VEVENT
UID:489788e5-a7c5-4a3f-5a8d-08de9f8ee600
DTSTAMP:20260421T101704Z
TRANSP:TRANSPARENT
DTSTART:20260429T120000Z
DTEND:20260429T120000Z
STATUS:CONFIRMED
SUMMARY:Cadı Kazanı
LOCATION:Üsküdar Musahipzade Celal Sahnesi
END:VEVENT
BEGIN:VEVENT
UID:04b4da23-4062-45df-5a8e-08de9f8ee600
DTSTAMP:20260421T101704Z
TRANSP:TRANSPARENT
DTSTART:20260429T170000Z
DTEND:20260429T170000Z
STATUS:CONFIRMED
SUMMARY:Cadı Kazanı
LOCATION:Üsküdar Musahipzade Celal Sahnesi
END:VEVENT
BEGIN:VEVENT
UID:a56720c2-f6ab-49a2-5a8f-08de9f8ee600
DTSTAMP:20260421T101704Z
TRANSP:TRANSPARENT
DTSTART:20260430T170000Z
DTEND:20260430T170000Z
STATUS:CONFIRMED
SUMMARY:Cadı Kazanı
LOCATION:Üsküdar Musahipzade Celal Sahnesi
END:VEVENT
BEGIN:VEVENT
UID:295d8e4b-e37a-44ac-5a90-08de9f8ee600
DTSTAMP:20260421T101704Z
TRANSP:TRANSPARENT
DTSTART:20260502T120000Z
DTEND:20260502T120000Z
STATUS:CONFIRMED
SUMMARY:Cadı Kazanı
LOCATION:Üsküdar Musahipzade Celal Sahnesi
END:VEVENT
BEGIN:VEVENT
UID:f15fe9f5-07e6-4c0d-5a91-08de9f8ee600
DTSTAMP:20260421T101704Z
TRANSP:TRANSPARENT
DTSTART:20260502T170000Z
DTEND:20260502T170000Z
STATUS:CONFIRMED
SUMMARY:Cadı Kazanı
LOCATION:Üsküdar Musahipzade Celal Sahnesi
END:VEVENT
BEGIN:VEVENT
UID:10dec22f-caa1-4d22-5a92-08de9f8ee600
DTSTAMP:20260421T101704Z
TRANSP:TRANSPARENT
DTSTART:20260423T100000Z
DTEND:20260423T100000Z
STATUS:CONFIRMED
SUMMARY:Çöpsüz Dünya
LOCATION:Üsküdar Musahipzade Celal Sahnesi
END:VEVENT
BEGIN:VEVENT
UID:b1e6b21a-3548-4fa8-5a93-08de9f8ee600
DTSTAMP:20260421T101704Z
TRANSP:TRANSPARENT
DTSTART:20260423T130000Z
DTEND:20260423T130000Z
STATUS:CONFIRMED
SUMMARY:Çöpsüz Dünya
LOCATION:Üsküdar Musahipzade Celal Sahnesi
END:VEVENT
BEGIN:VEVENT
UID:e37dc411-4407-4865-5a94-08de9f8ee600
DTSTAMP:20260421T101704Z
TRANSP:TRANSPARENT
DTSTART:20260426T120000Z
DTEND:20260426T120000Z
STATUS:CONFIRMED
SUMMARY:İtfaiyecinin Sırrı
LOCATION:Üsküdar Musahipzade Celal Sahnesi
END:VEVENT
BEGIN:VEVENT
UID:4e8e6005-0c2f-4eac-5a95-08de9f8ee600
DTSTAMP:20260421T101704Z
TRANSP:TRANSPARENT
DTSTART:20260422T120000Z
DTEND:20260422T120000Z
STATUS:CONFIRMED
SUMMARY:Yaftalı Tabut
LOCATION:Üsküdar Musahipzade Celal Sahnesi
END:VEVENT
BEGIN:VEVENT
UID:d93b1b8f-90a7-43ff-5a96-08de9f8ee600
DTSTAMP:20260421T101704Z
TRANSP:TRANSPARENT
DTSTART:20260422T170000Z
DTEND:20260422T170000Z
STATUS:CONFIRMED
SUMMARY:Yaftalı Tabut
LOCATION:Üsküdar Musahipzade Celal Sahnesi
END:VEVENT
BEGIN:VEVENT
UID:e1027380-afbc-4472-5a97-08de9f8ee600
DTSTAMP:20260421T101704Z
TRANSP:TRANSPARENT
DTSTART:20260424T170000Z
DTEND:20260424T170000Z
STATUS:CONFIRMED
SUMMARY:Yaftalı Tabut
LOCATION:Üsküdar Musahipzade Celal Sahnesi
END:VEVENT
BEGIN:VEVENT
UID:3a6f0aa6-9445-4406-5a98-08de9f8ee600
DTSTAMP:20260421T101704Z
TRANSP:TRANSPARENT
DTSTART:20260425T120000Z
DTEND:20260425T120000Z
STATUS:CONFIRMED
SUMMARY:Yaftalı Tabut
LOCATION:Üsküdar Musahipzade Celal Sahnesi
END:VEVENT
BEGIN:VEVENT
UID:d7d1eed6-28e1-4b39-5a99-08de9f8ee600
DTSTAMP:20260421T101704Z
TRANSP:TRANSPARENT
DTSTART:20260425T170000Z
DTEND:20260425T170000Z
STATUS:CONFIRMED
SUMMARY:Yaftalı Tabut
LOCATION:Üsküdar Musahipzade Celal Sahnesi
END:VEVENT
END:VCALENDAR
