BEGIN:VCALENDAR
VERSION:2.0
PRODID:itakvim.com
CALSCALE:GREGORIAN
METHOD:PUBLISH
UID:9rdeq16321z
X-WR-CALNAME:Kasimpaşa A.Ş.
X-ITAKVIM-LANGUAGE:tr
X-ORIGINAL-URL:itakvim.com
REFRESH-INTERVAL;VALUE=DURATION:PT1H
X-ITAKVIM-REGION:TR
X-Robots-Tag:noindex
X-PUBLISHED-TTL:PT1H
BEGIN:VEVENT
UID:b5255a5f-d2a2-4a7a-450d-08de6f3b2b0e
DTSTAMP:20260218T223334Z
TRANSP:TRANSPARENT
DTSTART:20250809T183000Z
DTEND:20250809T200000Z
STATUS:CONFIRMED
SUMMARY:HESAP.COM ANTALYASPOR - KASIMPAŞA A.Ş.
LOCATION:CORENDON AIRLINES PARK ANTALYA STADI - ANTALYA - A
END:VEVENT
BEGIN:VEVENT
UID:3108471b-4d3f-48d7-450e-08de6f3b2b0e
DTSTAMP:20260218T223334Z
TRANSP:TRANSPARENT
DTSTART:20250818T183000Z
DTEND:20250818T200000Z
STATUS:CONFIRMED
SUMMARY:KASIMPAŞA A.Ş. - TRABZONSPOR A.Ş.
LOCATION:RECEP TAYYİP ERDOĞAN STADYUMU - İSTANBUL - BEYOĞLU
END:VEVENT
BEGIN:VEVENT
UID:1ff2d556-de62-4311-450f-08de6f3b2b0e
DTSTAMP:20260218T223334Z
TRANSP:TRANSPARENT
DTSTART:20250917T170000Z
DTEND:20250917T183000Z
STATUS:CONFIRMED
SUMMARY:SAMSUNSPOR A.Ş. - KASIMPAŞA A.Ş.
LOCATION:SAMSUN YENİ 19 MAYIS - SAMSUN - SAMSUN MERKEZ
END:VEVENT
BEGIN:VEVENT
UID:90436147-11a1-4f0d-4510-08de6f3b2b0e
DTSTAMP:20260218T223334Z
TRANSP:TRANSPARENT
DTSTART:20250830T160000Z
DTEND:20250830T173000Z
STATUS:CONFIRMED
SUMMARY:KASIMPAŞA A.Ş. - GAZİANTEP FUTBOL KULÜBÜ A.Ş.
LOCATION:RECEP TAYYİP ERDOĞAN STADYUMU - İSTANBUL - BEYOĞLU
END:VEVENT
BEGIN:VEVENT
UID:94856acf-46c2-431c-4511-08de6f3b2b0e
DTSTAMP:20260218T223334Z
TRANSP:TRANSPARENT
DTSTART:20250913T140000Z
DTEND:20250913T153000Z
STATUS:CONFIRMED
SUMMARY:MISIRLI.COM.TR FATİH KARAGÜMRÜK - KASIMPAŞA A.Ş.
LOCATION:BAŞAKŞEHİR FATİH TERİM - İSTANBUL - BAŞAKŞEHİR
END:VEVENT
BEGIN:VEVENT
UID:a8f8d8aa-6ebc-4d0e-4512-08de6f3b2b0e
DTSTAMP:20260218T223334Z
TRANSP:TRANSPARENT
DTSTART:20250921T170000Z
DTEND:20250921T183000Z
STATUS:CONFIRMED
SUMMARY:KASIMPAŞA A.Ş. - FENERBAHÇE A.Ş.
LOCATION:RECEP TAYYİP ERDOĞAN STADYUMU - İSTANBUL - BEYOĞLU
END:VEVENT
BEGIN:VEVENT
UID:9dfabb03-3993-40d3-4513-08de6f3b2b0e
DTSTAMP:20260218T223334Z
TRANSP:TRANSPARENT
DTSTART:20250928T140000Z
DTEND:20250928T153000Z
STATUS:CONFIRMED
SUMMARY:ÇAYKUR RİZESPOR A.Ş. - KASIMPAŞA A.Ş.
LOCATION:ÇAYKUR DİDİ - RİZE - RİZE MERKEZ
END:VEVENT
BEGIN:VEVENT
UID:7c59092b-46ec-4398-4514-08de6f3b2b0e
DTSTAMP:20260218T223334Z
TRANSP:TRANSPARENT
DTSTART:20251005T113000Z
DTEND:20251005T130000Z
STATUS:CONFIRMED
SUMMARY:KASIMPAŞA A.Ş. - TÜMOSAN KONYASPOR
LOCATION:RECEP TAYYİP ERDOĞAN STADYUMU - İSTANBUL - BEYOĞLU
END:VEVENT
BEGIN:VEVENT
UID:d78349b1-eefc-4d07-4515-08de6f3b2b0e
DTSTAMP:20260218T223334Z
TRANSP:TRANSPARENT
DTSTART:20251020T170000Z
DTEND:20251020T183000Z
STATUS:CONFIRMED
SUMMARY:İKAS EYÜPSPOR - KASIMPAŞA A.Ş.
LOCATION:RECEP TAYYİP ERDOĞAN STADYUMU - İSTANBUL - BEYOĞLU
END:VEVENT
BEGIN:VEVENT
UID:fb839f84-35ea-4683-4516-08de6f3b2b0e
DTSTAMP:20260218T223334Z
TRANSP:TRANSPARENT
DTSTART:20251026T170000Z
DTEND:20251026T183000Z
STATUS:CONFIRMED
SUMMARY:KASIMPAŞA A.Ş. - BEŞİKTAŞ A.Ş.
LOCATION:RECEP TAYYİP ERDOĞAN STADYUMU - İSTANBUL - BEYOĞLU
END:VEVENT
BEGIN:VEVENT
UID:f73f0f36-ae32-430e-4517-08de6f3b2b0e
DTSTAMP:20260218T223334Z
TRANSP:TRANSPARENT
DTSTART:20251102T140000Z
DTEND:20251102T153000Z
STATUS:CONFIRMED
SUMMARY:ZECORNER KAYSERİSPOR - KASIMPAŞA A.Ş.
LOCATION:RHG ENERTÜRK ENERJİ STADYUMU - KAYSERİ - MERKEZ
END:VEVENT
BEGIN:VEVENT
UID:5932f633-7245-4173-4518-08de6f3b2b0e
DTSTAMP:20260218T223334Z
TRANSP:TRANSPARENT
DTSTART:20251108T170000Z
DTEND:20251108T183000Z
STATUS:CONFIRMED
SUMMARY:KASIMPAŞA A.Ş. - GÖZTEPE A.Ş.
LOCATION:RECEP TAYYİP ERDOĞAN STADYUMU - İSTANBUL - BEYOĞLU
END:VEVENT
BEGIN:VEVENT
UID:39ecc6c3-f216-4cd1-4519-08de6f3b2b0e
DTSTAMP:20260218T223334Z
TRANSP:TRANSPARENT
DTSTART:20251123T140000Z
DTEND:20251123T153000Z
STATUS:CONFIRMED
SUMMARY:CORENDON ALANYASPOR - KASIMPAŞA A.Ş.
LOCATION:ALANYA OBA STADYUMU - ANTALYA - ALANYA
END:VEVENT
BEGIN:VEVENT
UID:0266a964-7c62-4b63-451a-08de6f3b2b0e
DTSTAMP:20260218T223334Z
TRANSP:TRANSPARENT
DTSTART:20251129T170000Z
DTEND:20251129T183000Z
STATUS:CONFIRMED
SUMMARY:KASIMPAŞA A.Ş. - RAMS BAŞAKŞEHİR FUTBOL KULÜBÜ
LOCATION:RECEP TAYYİP ERDOĞAN STADYUMU - İSTANBUL - BEYOĞLU
END:VEVENT
BEGIN:VEVENT
UID:8c300c87-e375-4c6d-451b-08de6f3b2b0e
DTSTAMP:20260218T223334Z
TRANSP:TRANSPARENT
DTSTART:20251207T140300Z
DTEND:20251207T153300Z
STATUS:CONFIRMED
SUMMARY:KOCAELİSPOR - KASIMPAŞA A.Ş.
LOCATION:TURKA ARAÇ MUAYENE KOCAELİ STADYUMU - KOCAELİ - KO
END:VEVENT
BEGIN:VEVENT
UID:927f3aad-565d-48c9-451c-08de6f3b2b0e
DTSTAMP:20260218T223334Z
TRANSP:TRANSPARENT
DTSTART:20251212T170000Z
DTEND:20251212T183000Z
STATUS:CONFIRMED
SUMMARY:KASIMPAŞA A.Ş. - GENÇLERBİRLİĞİ
LOCATION:RECEP TAYYİP ERDOĞAN STADYUMU - İSTANBUL - BEYOĞLU
END:VEVENT
BEGIN:VEVENT
UID:773a8f73-f618-4a7a-451d-08de6f3b2b0e
DTSTAMP:20260218T223334Z
TRANSP:TRANSPARENT
DTSTART:20251221T170000Z
DTEND:20251221T183000Z
STATUS:CONFIRMED
SUMMARY:GALATASARAY A.Ş. - KASIMPAŞA A.Ş.
LOCATION:ALİ SAMİ YEN SPOR KOMPLEKSİ RAMS PARK - İSTANBUL -
END:VEVENT
BEGIN:VEVENT
UID:d9b89599-1d5e-4f79-451e-08de6f3b2b0e
DTSTAMP:20260218T223334Z
TRANSP:TRANSPARENT
DTSTART:20260118T113000Z
DTEND:20260118T130000Z
STATUS:CONFIRMED
SUMMARY:KASIMPAŞA A.Ş. - HESAP.COM ANTALYASPOR
LOCATION:RECEP TAYYİP ERDOĞAN STADYUMU - İSTANBUL - BEYOĞLU
END:VEVENT
BEGIN:VEVENT
UID:25ac068d-2c18-4a4f-451f-08de6f3b2b0e
DTSTAMP:20260218T223334Z
TRANSP:TRANSPARENT
DTSTART:20260123T170000Z
DTEND:20260123T183000Z
STATUS:CONFIRMED
SUMMARY:TRABZONSPOR A.Ş. - KASIMPAŞA A.Ş.
LOCATION:PAPARA PARK - TRABZON - TRABZON MERKEZ
END:VEVENT
BEGIN:VEVENT
UID:12611d10-0429-431d-4520-08de6f3b2b0e
DTSTAMP:20260218T223334Z
TRANSP:TRANSPARENT
DTSTART:20260130T170000Z
DTEND:20260130T183000Z
STATUS:CONFIRMED
SUMMARY:KASIMPAŞA A.Ş. - SAMSUNSPOR A.Ş.
LOCATION:RECEP TAYYİP ERDOĞAN STADYUMU - İSTANBUL - BEYOĞLU
END:VEVENT
BEGIN:VEVENT
UID:5c769043-dcbb-4a39-4521-08de6f3b2b0e
DTSTAMP:20260218T223334Z
TRANSP:TRANSPARENT
DTSTART:20260209T170200Z
DTEND:20260209T183200Z
STATUS:CONFIRMED
SUMMARY:GAZİANTEP FUTBOL KULÜBÜ A.Ş. - KASIMPAŞA A.Ş.
LOCATION:GAZİANTEP STADYUMU - GAZİANTEP - ŞEHİTKAMİL
END:VEVENT
BEGIN:VEVENT
UID:15e8e241-8af9-42b0-4522-08de6f3b2b0e
DTSTAMP:20260218T223334Z
TRANSP:TRANSPARENT
DTSTART:20260216T170000Z
DTEND:20260216T183000Z
STATUS:CONFIRMED
SUMMARY:KASIMPAŞA A.Ş. - MISIRLI.COM.TR FATİH KARAGÜMRÜK
LOCATION:RECEP TAYYİP ERDOĞAN STADYUMU - İSTANBUL - BEYOĞLU
END:VEVENT
BEGIN:VEVENT
UID:e3e2337f-a051-45c3-4523-08de6f3b2b0e
DTSTAMP:20260218T223334Z
TRANSP:TRANSPARENT
DTSTART:20260223T170000Z
DTEND:20260223T183000Z
STATUS:CONFIRMED
SUMMARY:FENERBAHÇE A.Ş. - KASIMPAŞA A.Ş.
LOCATION:CHOBANI STADYUMU FB ŞÜKRÜ SARACOĞLU SPOR KOMPLEKSİ
END:VEVENT
BEGIN:VEVENT
UID:d1b021f1-91bf-41be-4524-08de6f3b2b0e
DTSTAMP:20260218T223334Z
TRANSP:TRANSPARENT
DTSTART:20260228T103000Z
DTEND:20260228T120000Z
STATUS:CONFIRMED
SUMMARY:KASIMPAŞA A.Ş. - ÇAYKUR RİZESPOR A.Ş.
LOCATION:RECEP TAYYİP ERDOĞAN STADYUMU
END:VEVENT
BEGIN:VEVENT
UID:8b8775e1-0e0f-451a-4525-08de6f3b2b0e
DTSTAMP:20260218T223334Z
TRANSP:TRANSPARENT
DTSTART:20260308T130000Z
DTEND:20260308T143000Z
STATUS:CONFIRMED
SUMMARY:TÜMOSAN KONYASPOR - KASIMPAŞA A.Ş.
LOCATION:MEDAŞ KONYA BÜYÜKŞEHİR STADYUMU - KONYA
END:VEVENT
BEGIN:VEVENT
UID:3ca61364-4c54-47fb-4526-08de6f3b2b0e
DTSTAMP:20260218T223334Z
TRANSP:TRANSPARENT
DTSTART:20260314T210000Z
DTEND:20260314T223000Z
STATUS:CONFIRMED
SUMMARY:KASIMPAŞA A.Ş. - İKAS EYÜPSPOR
LOCATION:RECEP TAYYİP ERDOĞAN STADYUMU
END:VEVENT
BEGIN:VEVENT
UID:8d791ef3-ec9d-4771-4527-08de6f3b2b0e
DTSTAMP:20260218T223334Z
TRANSP:TRANSPARENT
DTSTART:20260317T210000Z
DTEND:20260317T223000Z
STATUS:CONFIRMED
SUMMARY:BEŞİKTAŞ A.Ş. - KASIMPAŞA A.Ş.
LOCATION:BEŞİKTAŞ PARK - İSTANBUL
END:VEVENT
BEGIN:VEVENT
UID:86f275bb-6484-4862-4528-08de6f3b2b0e
DTSTAMP:20260218T223334Z
TRANSP:TRANSPARENT
DTSTART:20260404T210000Z
DTEND:20260404T223000Z
STATUS:CONFIRMED
SUMMARY:KASIMPAŞA A.Ş. - ZECORNER KAYSERİSPOR
LOCATION:RECEP TAYYİP ERDOĞAN STADYUMU
END:VEVENT
BEGIN:VEVENT
UID:eb21047c-50e8-43cb-4529-08de6f3b2b0e
DTSTAMP:20260218T223334Z
TRANSP:TRANSPARENT
DTSTART:20260411T210000Z
DTEND:20260411T223000Z
STATUS:CONFIRMED
SUMMARY:GÖZTEPE A.Ş. - KASIMPAŞA A.Ş.
LOCATION:ISONEM PARK GÜRSEL AKSEL SPOR VE SAĞLIKLI YAŞAM M.
END:VEVENT
BEGIN:VEVENT
UID:1f021fc8-422b-4de8-452a-08de6f3b2b0e
DTSTAMP:20260218T223334Z
TRANSP:TRANSPARENT
DTSTART:20260418T210000Z
DTEND:20260418T223000Z
STATUS:CONFIRMED
SUMMARY:KASIMPAŞA A.Ş. - CORENDON ALANYASPOR
LOCATION:RECEP TAYYİP ERDOĞAN STADYUMU
END:VEVENT
BEGIN:VEVENT
UID:24a84d42-86ba-4aec-452b-08de6f3b2b0e
DTSTAMP:20260218T223334Z
TRANSP:TRANSPARENT
DTSTART:20260425T210000Z
DTEND:20260425T223000Z
STATUS:CONFIRMED
SUMMARY:RAMS BAŞAKŞEHİR FUTBOL KULÜBÜ - KASIMPAŞA A.Ş.
LOCATION:BAŞAKŞEHİR FATİH TERİM - İSTANBUL
END:VEVENT
BEGIN:VEVENT
UID:ec57bd82-9cbe-4600-452c-08de6f3b2b0e
DTSTAMP:20260218T223334Z
TRANSP:TRANSPARENT
DTSTART:20260502T210000Z
DTEND:20260502T223000Z
STATUS:CONFIRMED
SUMMARY:KASIMPAŞA A.Ş. - KOCAELİSPOR
LOCATION:RECEP TAYYİP ERDOĞAN STADYUMU
END:VEVENT
BEGIN:VEVENT
UID:3339a5ea-c6d9-443b-452d-08de6f3b2b0e
DTSTAMP:20260218T223334Z
TRANSP:TRANSPARENT
DTSTART:20260509T210000Z
DTEND:20260509T223000Z
STATUS:CONFIRMED
SUMMARY:NATURA DÜNYASI GENÇLERBİRLİĞİ - KASIMPAŞA A.Ş.
LOCATION:ERYAMAN STADYUMU - ANKARA
END:VEVENT
BEGIN:VEVENT
UID:75984d85-fe6c-4be0-452e-08de6f3b2b0e
DTSTAMP:20260218T223334Z
TRANSP:TRANSPARENT
DTSTART:20260516T210000Z
DTEND:20260516T223000Z
STATUS:CONFIRMED
SUMMARY:KASIMPAŞA A.Ş. - GALATASARAY A.Ş.
LOCATION:RECEP TAYYİP ERDOĞAN STADYUMU
END:VEVENT
END:VCALENDAR
