BEGIN:VCALENDAR
VERSION:2.0
PRODID:itakvim.com
CALSCALE:GREGORIAN
METHOD:PUBLISH
UID:a3w4f4vti8d
X-WR-CALNAME:Rams Başakşehir Futbol Kulübü
X-ITAKVIM-LANGUAGE:tr
X-ORIGINAL-URL:itakvim.com
REFRESH-INTERVAL;VALUE=DURATION:PT1H
X-ITAKVIM-REGION:TR
X-Robots-Tag:noindex
X-PUBLISHED-TTL:PT1H
BEGIN:VEVENT
UID:d11f5929-7ec9-48b6-dd1e-08de9c03c470
DTSTAMP:20260416T220746Z
TRANSP:TRANSPARENT
DTSTART:20260419T170000Z
DTEND:20260419T170000Z
STATUS:CONFIRMED
SUMMARY:TRABZONSPOR A.Ş. - RAMS BAŞAKŞEHİR FUTBOL KULÜBÜ
LOCATION:PAPARA PARK - TRABZON
BEGIN:VALARM
ACTION:DISPLAY
DESCRIPTION:TRABZONSPOR A.Ş. - RAMS BAŞAKŞEHİR FUTBOL KULÜBÜ
TRIGGER:PT0S
END:VALARM
END:VEVENT
BEGIN:VEVENT
UID:8206e2a8-b5fc-4fc6-dd1f-08de9c03c470
DTSTAMP:20260416T220746Z
TRANSP:TRANSPARENT
DTSTART:20260424T170000Z
DTEND:20260424T170000Z
STATUS:CONFIRMED
SUMMARY:RAMS BAŞAKŞEHİR FUTBOL KULÜBÜ - KASIMPAŞA A.Ş.
LOCATION:BAŞAKŞEHİR FATİH TERİM - İSTANBUL
BEGIN:VALARM
ACTION:DISPLAY
DESCRIPTION:RAMS BAŞAKŞEHİR FUTBOL KULÜBÜ - KASIMPAŞA A.Ş.
TRIGGER:PT0S
END:VALARM
END:VEVENT
BEGIN:VEVENT
UID:8bba57f7-34e7-436c-dd20-08de9c03c470
DTSTAMP:20260416T220746Z
TRANSP:TRANSPARENT
DTSTART:20260502T210000Z
DTEND:20260502T210000Z
STATUS:CONFIRMED
SUMMARY:FENERBAHÇE A.Ş. - RAMS BAŞAKŞEHİR FUTBOL KULÜBÜ
LOCATION:CHOBANI STADYUMU FB ŞÜKRÜ SARACOĞLU SPOR KOMPLEKSİ
BEGIN:VALARM
ACTION:DISPLAY
DESCRIPTION:FENERBAHÇE A.Ş. - RAMS BAŞAKŞEHİR FUTBOL KULÜBÜ
TRIGGER:PT0S
END:VALARM
END:VEVENT
BEGIN:VEVENT
UID:f8ca9f3d-acc2-4b66-dd21-08de9c03c470
DTSTAMP:20260416T220746Z
TRANSP:TRANSPARENT
DTSTART:20260509T210000Z
DTEND:20260509T210000Z
STATUS:CONFIRMED
SUMMARY:RAMS BAŞAKŞEHİR FUTBOL KULÜBÜ - SAMSUNSPOR A.Ş.
LOCATION:BAŞAKŞEHİR FATİH TERİM - İSTANBUL
BEGIN:VALARM
ACTION:DISPLAY
DESCRIPTION:RAMS BAŞAKŞEHİR FUTBOL KULÜBÜ - SAMSUNSPOR A.Ş.
TRIGGER:PT0S
END:VALARM
END:VEVENT
BEGIN:VEVENT
UID:9ef72330-fb28-483c-dd22-08de9c03c470
DTSTAMP:20260416T220746Z
TRANSP:TRANSPARENT
DTSTART:20260516T210000Z
DTEND:20260516T210000Z
STATUS:CONFIRMED
SUMMARY:GAZİANTEP FUTBOL KULÜBÜ A.Ş. - RAMS BAŞAKŞEHİR FUTBOL KUL
 ÜBÜ
LOCATION:GAZİANTEP STADYUMU - GAZİANTEP
BEGIN:VALARM
ACTION:DISPLAY
DESCRIPTION:GAZİANTEP FUTBOL KULÜBÜ A.Ş. - RAMS BAŞAKŞEHİR FUTBOL 
 KULÜBÜ
TRIGGER:PT0S
END:VALARM
END:VEVENT
END:VCALENDAR
