BEGIN:VCALENDAR
VERSION:2.0
PRODID:itakvim.com
CALSCALE:GREGORIAN
METHOD:PUBLISH
UID:ap9i49df7sg
X-WR-CALNAME:2. Öğretim Lisansüstü Akademik Takvimi
X-ITAKVIM-LANGUAGE:tr
X-ORIGINAL-URL:itakvim.com
REFRESH-INTERVAL;VALUE=DURATION:PT1H
X-ITAKVIM-REGION:TR
X-Robots-Tag:noindex
X-PUBLISHED-TTL:PT1H
BEGIN:VEVENT
UID:470c63e8-4813-4922-51a1-08de9f183112
DTSTAMP:20260420T200724Z
TRANSP:TRANSPARENT
DTSTART:20250409T060000Z
DTEND:20250516T140000Z
STATUS:CONFIRMED
SUMMARY:II.Öğretim Tezsiz Yüksek Lisans Başvuru Tarihi
END:VEVENT
BEGIN:VEVENT
UID:434eb0ba-965e-4784-51a2-08de9f183112
DTSTAMP:20260420T200724Z
TRANSP:TRANSPARENT
DTSTART:20250520T210000Z
DTEND:20250521T210000Z
STATUS:CONFIRMED
SUMMARY:Mülakat
END:VEVENT
BEGIN:VEVENT
UID:73574edd-955f-4a86-51a3-08de9f183112
DTSTAMP:20260420T200724Z
TRANSP:TRANSPARENT
DTSTART:20250522T210000Z
DTEND:20250522T210000Z
STATUS:CONFIRMED
SUMMARY:Mülakat Sonuçlarının Mülakat Komisyonu Tarafından Sisteme G
 irilmesi
END:VEVENT
BEGIN:VEVENT
UID:6e248f03-a24f-43ec-51a4-08de9f183112
DTSTAMP:20260420T200724Z
TRANSP:TRANSPARENT
DTSTART:20250527T210000Z
DTEND:20250527T210000Z
STATUS:CONFIRMED
SUMMARY:Kazananların İlanı
END:VEVENT
BEGIN:VEVENT
UID:1e8d8d2d-5a50-4d1a-51a5-08de9f183112
DTSTAMP:20260420T200724Z
TRANSP:TRANSPARENT
DTSTART:20250529T060000Z
DTEND:20250530T140000Z
STATUS:CONFIRMED
SUMMARY:Kesin Kayıtların Yapılması
END:VEVENT
BEGIN:VEVENT
UID:a734436a-10c3-4d8d-51a6-08de9f183112
DTSTAMP:20260420T200724Z
TRANSP:TRANSPARENT
DTSTART:20250801T060000Z
DTEND:20250827T140000Z
STATUS:CONFIRMED
SUMMARY:II.Öğretim Tezsiz Yüksek Lisans Başvuru Tarihi
END:VEVENT
BEGIN:VEVENT
UID:e53ffe28-0a66-44b5-51a7-08de9f183112
DTSTAMP:20260420T200724Z
TRANSP:TRANSPARENT
DTSTART:20250831T210000Z
DTEND:20250901T210000Z
STATUS:CONFIRMED
SUMMARY:Mülakat
END:VEVENT
BEGIN:VEVENT
UID:afb0ba2e-af17-44a9-51a8-08de9f183112
DTSTAMP:20260420T200724Z
TRANSP:TRANSPARENT
DTSTART:20250902T210000Z
DTEND:20250902T210000Z
STATUS:CONFIRMED
SUMMARY:Mülakat Sonuçlarının (Mülakat Komisyonu Tarafından) Öğren
 ci Bilgi Sistemine Son Giriş Tarihi
END:VEVENT
BEGIN:VEVENT
UID:d4c29ec4-6756-4cc4-51a9-08de9f183112
DTSTAMP:20260420T200724Z
TRANSP:TRANSPARENT
DTSTART:20250904T210000Z
DTEND:20250904T210000Z
STATUS:CONFIRMED
SUMMARY:Kazananların İlanı
END:VEVENT
BEGIN:VEVENT
UID:6083ddfa-1745-41ab-51aa-08de9f183112
DTSTAMP:20260420T200724Z
TRANSP:TRANSPARENT
DTSTART:20250908T060000Z
DTEND:20250909T140000Z
STATUS:CONFIRMED
SUMMARY:Yeni Alınan Öğrencilerin Kesin Kayıtları
END:VEVENT
BEGIN:VEVENT
UID:9700e311-a81d-4d93-51ab-08de9f183112
DTSTAMP:20260420T200724Z
TRANSP:TRANSPARENT
DTSTART:20250909T210000Z
DTEND:20250909T210000Z
STATUS:CONFIRMED
SUMMARY:Yedek Kayıt Listelerinin İlanı
END:VEVENT
BEGIN:VEVENT
UID:a1d4c6f2-b901-4835-51ac-08de9f183112
DTSTAMP:20260420T200724Z
TRANSP:TRANSPARENT
DTSTART:20250911T060000Z
DTEND:20250911T140000Z
STATUS:CONFIRMED
SUMMARY:Kayıt Yaptırmayanların Yerine Yedek Kayıt Tarihi
END:VEVENT
BEGIN:VEVENT
UID:e7807acb-fbdd-43c1-51ad-08de9f183112
DTSTAMP:20260420T200724Z
TRANSP:TRANSPARENT
DTSTART:20250912T070000Z
DTEND:20250915T140000Z
STATUS:CONFIRMED
SUMMARY:1. Dönem Derslerinin Seçimi
END:VEVENT
BEGIN:VEVENT
UID:98940cd8-ce98-44c7-51ae-08de9f183112
DTSTAMP:20260420T200724Z
TRANSP:TRANSPARENT
DTSTART:20250915T210000Z
DTEND:20250917T210000Z
STATUS:CONFIRMED
SUMMARY:1. Dönem Derslerinin Öğrenim Ücret Ödemeleri
END:VEVENT
BEGIN:VEVENT
UID:49177add-b36d-46c9-51af-08de9f183112
DTSTAMP:20260420T200724Z
TRANSP:TRANSPARENT
DTSTART:20250918T210000Z
DTEND:20250918T210000Z
STATUS:CONFIRMED
SUMMARY:Öğrenim ücretini Yatırmayan Öğrencilerin Derslerinin Düş
 ürülmesi
END:VEVENT
BEGIN:VEVENT
UID:4a757e50-43ad-4fab-51b0-08de9f183112
DTSTAMP:20260420T200724Z
TRANSP:TRANSPARENT
DTSTART:20250928T210000Z
DTEND:20250928T210000Z
STATUS:CONFIRMED
SUMMARY:1. Dönem Derslerinin Başlaması
END:VEVENT
BEGIN:VEVENT
UID:ebe217c6-5d30-4f2c-51b1-08de9f183112
DTSTAMP:20260420T200724Z
TRANSP:TRANSPARENT
DTSTART:20251212T210000Z
DTEND:20251212T210000Z
STATUS:CONFIRMED
SUMMARY:1. Dönem Derslerinin Tamamlanması
END:VEVENT
BEGIN:VEVENT
UID:43d2f90b-9c35-41e2-51b2-08de9f183112
DTSTAMP:20260420T200724Z
TRANSP:TRANSPARENT
DTSTART:20251214T210000Z
DTEND:20251218T210000Z
STATUS:CONFIRMED
SUMMARY:1. Dönem Final Sınavları (Dersin Öğretim üyesi tarafından 
 ilan edilecektir.)
END:VEVENT
BEGIN:VEVENT
UID:80e3dbdf-0005-422e-51b3-08de9f183112
DTSTAMP:20260420T200724Z
TRANSP:TRANSPARENT
DTSTART:20251222T210000Z
DTEND:20251222T210000Z
STATUS:CONFIRMED
SUMMARY:Notların Sisteme Son Girişi
END:VEVENT
BEGIN:VEVENT
UID:e45e4535-f1e4-471c-51b4-08de9f183112
DTSTAMP:20260420T200724Z
TRANSP:TRANSPARENT
DTSTART:20251223T210000Z
DTEND:20251230T210000Z
STATUS:CONFIRMED
SUMMARY:2. Dönem Derslerinin Seçimi
END:VEVENT
BEGIN:VEVENT
UID:e2e1eb5f-203a-4c0d-51b5-08de9f183112
DTSTAMP:20260420T200724Z
TRANSP:TRANSPARENT
DTSTART:20260101T210000Z
DTEND:20260105T210000Z
STATUS:CONFIRMED
SUMMARY:2. Dönem Derslerinin Öğrenim Ücret Ödemeleri
END:VEVENT
BEGIN:VEVENT
UID:005d634e-7b5c-4a20-51b6-08de9f183112
DTSTAMP:20260420T200724Z
TRANSP:TRANSPARENT
DTSTART:20260107T210000Z
DTEND:20260107T210000Z
STATUS:CONFIRMED
SUMMARY:Öğrenim ücretini Yatırmayan Öğrencilerin Derslerinin Düş
 ürülmesi
END:VEVENT
BEGIN:VEVENT
UID:16e88a60-3e48-46a9-51b7-08de9f183112
DTSTAMP:20260420T200724Z
TRANSP:TRANSPARENT
DTSTART:20260111T210000Z
DTEND:20260111T210000Z
STATUS:CONFIRMED
SUMMARY:2. Dönem Derslerinin Başlaması
END:VEVENT
BEGIN:VEVENT
UID:d186648a-0e77-4daa-51b8-08de9f183112
DTSTAMP:20260420T200724Z
TRANSP:TRANSPARENT
DTSTART:20260315T210000Z
DTEND:20260319T210000Z
STATUS:CONFIRMED
SUMMARY:Ara Tatil
END:VEVENT
BEGIN:VEVENT
UID:82fb7bcc-7774-458b-51b9-08de9f183112
DTSTAMP:20260420T200724Z
TRANSP:TRANSPARENT
DTSTART:20260403T210000Z
DTEND:20260403T210000Z
STATUS:CONFIRMED
SUMMARY:2. Dönem Derslerinin Tamamlanması
END:VEVENT
BEGIN:VEVENT
UID:565c3740-39ea-4be8-51ba-08de9f183112
DTSTAMP:20260420T200724Z
TRANSP:TRANSPARENT
DTSTART:20260405T210000Z
DTEND:20260409T210000Z
STATUS:CONFIRMED
SUMMARY:2. Dönem Final Sınavları (Dersin Öğretim üyesi tarafından 
 ilan edilecektir.)
END:VEVENT
BEGIN:VEVENT
UID:ba56fe5a-0f36-4b0e-51bb-08de9f183112
DTSTAMP:20260420T200724Z
TRANSP:TRANSPARENT
DTSTART:20260413T210000Z
DTEND:20260413T210000Z
STATUS:CONFIRMED
SUMMARY:Notların Sisteme Son Girişi
END:VEVENT
BEGIN:VEVENT
UID:3b805602-9d25-4cb4-51bc-08de9f183112
DTSTAMP:20260420T200724Z
TRANSP:TRANSPARENT
DTSTART:20260415T210000Z
DTEND:20260416T210000Z
STATUS:CONFIRMED
SUMMARY:3. Dönem Derslerinin Seçimi
END:VEVENT
BEGIN:VEVENT
UID:2739ce1a-02b2-45d9-51bd-08de9f183112
DTSTAMP:20260420T200724Z
TRANSP:TRANSPARENT
DTSTART:20260419T210000Z
DTEND:20260421T210000Z
STATUS:CONFIRMED
SUMMARY:3. Dönem Derslerinin Öğrenim Ücret Ödemeleri
END:VEVENT
BEGIN:VEVENT
UID:cdcc0c63-f9e4-4f3c-51be-08de9f183112
DTSTAMP:20260420T200724Z
TRANSP:TRANSPARENT
DTSTART:20260423T210000Z
DTEND:20260423T210000Z
STATUS:CONFIRMED
SUMMARY:Öğrenim ücretini Yatırmayan Öğrencilerin Derslerinin Düş
 ürülmesi
END:VEVENT
BEGIN:VEVENT
UID:7dc2f2bd-df36-48e9-51bf-08de9f183112
DTSTAMP:20260420T200724Z
TRANSP:TRANSPARENT
DTSTART:20260426T210000Z
DTEND:20260426T210000Z
STATUS:CONFIRMED
SUMMARY:3. Dönem Derslerinin Başlaması
END:VEVENT
BEGIN:VEVENT
UID:976344ac-0a95-40f3-51c0-08de9f183112
DTSTAMP:20260420T200724Z
TRANSP:TRANSPARENT
DTSTART:20260717T210000Z
DTEND:20260717T210000Z
STATUS:CONFIRMED
SUMMARY:3. Dönem Derslerinin Tamamlanması
END:VEVENT
BEGIN:VEVENT
UID:c03de1b2-98b6-4ee4-51c1-08de9f183112
DTSTAMP:20260420T200724Z
TRANSP:TRANSPARENT
DTSTART:20260719T210000Z
DTEND:20260723T210000Z
STATUS:CONFIRMED
SUMMARY:3. Dönem Final Sınavları  (Dersin Öğretim üyesi tarafından
  ilan edilecektir.)
END:VEVENT
BEGIN:VEVENT
UID:b48b6077-929a-4dc6-51c2-08de9f183112
DTSTAMP:20260420T200724Z
TRANSP:TRANSPARENT
DTSTART:20260727T210000Z
DTEND:20260727T210000Z
STATUS:CONFIRMED
SUMMARY:Notların Sisteme Son Girişi
END:VEVENT
END:VCALENDAR
