BEGIN:VCALENDAR
VERSION:2.0
PRODID:itakvim.com
CALSCALE:GREGORIAN
METHOD:PUBLISH
UID:avf74bllv7d
X-WR-CALNAME:Elektrik ve Havagazı Tüketim Vergisi
X-ITAKVIM-LANGUAGE:tr
X-ORIGINAL-URL:itakvim.com
REFRESH-INTERVAL;VALUE=DURATION:PT1H
X-ITAKVIM-REGION:TR
X-Robots-Tag:noindex
X-PUBLISHED-TTL:PT1H
BEGIN:VEVENT
UID:2182e90d-df41-4619-501c-08de9f183112
DTSTAMP:20260420T200618Z
TRANSP:TRANSPARENT
DTSTART:20260401T060000Z
DTEND:20260401T060000Z
STATUS:CONFIRMED
SUMMARY:Mart 2026 Dönemine Ait Elektrik ve Havagazı Tüketim Vergisinin
  Beyanı ve Ödemesi Başlangıç
DESCRIPTION:Mart 2026 Dönemi Elektrik ve Havagazı Tüketim Vergisi Beya
 n ve Ödemesi
BEGIN:VALARM
ACTION:DISPLAY
DESCRIPTION:Mart 2026 Dönemine Ait Elektrik ve Havagazı Tüketim Vergis
 inin Beyanı ve Ödemesi Başlangıç
TRIGGER:PT0S
END:VALARM
END:VEVENT
BEGIN:VEVENT
UID:1bff1d12-2734-4586-501d-08de9f183112
DTSTAMP:20260420T200618Z
TRANSP:TRANSPARENT
DTSTART:20260420T140000Z
DTEND:20260420T140000Z
STATUS:CONFIRMED
SUMMARY:Mart 2026 Dönemi Elektrik ve Havagazı Tüketim Vergisi Beyan ve
  Ödemesi Son Gün
DESCRIPTION:Mart 2026 Dönemine Ait Elektrik ve Havagazı Tüketim Vergis
 inin Beyanı ve Ödemesi
BEGIN:VALARM
ACTION:DISPLAY
DESCRIPTION:Mart 2026 Dönemi Elektrik ve Havagazı Tüketim Vergisi Beya
 n ve Ödemesi Son Gün
TRIGGER:-PT8H
END:VALARM
END:VEVENT
BEGIN:VEVENT
UID:58753a1f-64b5-47c7-501e-08de9f183112
DTSTAMP:20260420T200618Z
TRANSP:TRANSPARENT
DTSTART:20260401T060000Z
DTEND:20260401T060000Z
STATUS:CONFIRMED
SUMMARY:Mart 2026 Dönemine Ait Elektrik ve Havagazı Tüketim Vergisinin
  Beyanı ve Ödemesi Başlangıç
DESCRIPTION:Mart 2026 Dönemi Elektrik ve Havagazı Tüketim Vergisi Beya
 n ve Ödemesi
BEGIN:VALARM
ACTION:DISPLAY
DESCRIPTION:Mart 2026 Dönemine Ait Elektrik ve Havagazı Tüketim Vergis
 inin Beyanı ve Ödemesi Başlangıç
TRIGGER:PT0S
END:VALARM
END:VEVENT
BEGIN:VEVENT
UID:e9532d4f-288d-4734-501f-08de9f183112
DTSTAMP:20260420T200618Z
TRANSP:TRANSPARENT
DTSTART:20260420T140000Z
DTEND:20260420T140000Z
STATUS:CONFIRMED
SUMMARY:Mart 2026 Dönemi Elektrik ve Havagazı Tüketim Vergisi Beyan ve
  Ödemesi Son Gün
DESCRIPTION:Mart 2026 Dönemine Ait Elektrik ve Havagazı Tüketim Vergis
 inin Beyanı ve Ödemesi
BEGIN:VALARM
ACTION:DISPLAY
DESCRIPTION:Mart 2026 Dönemi Elektrik ve Havagazı Tüketim Vergisi Beya
 n ve Ödemesi Son Gün
TRIGGER:-PT8H
END:VALARM
END:VEVENT
END:VCALENDAR
