BEGIN:VCALENDAR
VERSION:2.0
PRODID:itakvim.com
CALSCALE:GREGORIAN
METHOD:PUBLISH
UID:bkimcnqffgh
X-WR-CALNAME:ÖZYES Sınav Takvimi
X-ITAKVIM-LANGUAGE:tr
X-ORIGINAL-URL:itakvim.com
REFRESH-INTERVAL;VALUE=DURATION:PT1H
X-ITAKVIM-REGION:TR
X-Robots-Tag:noindex
X-PUBLISHED-TTL:PT1H
BEGIN:VEVENT
UID:f89a5e77-5513-4cde-4f13-08de9f183112
DTSTAMP:20260420T200538Z
TRANSP:TRANSPARENT
DTSTART:20260814T210000Z
DTEND:20260817T210000Z
STATUS:CONFIRMED
SUMMARY:ÖZYES YKS Kapsamında Spor Bilimleri İçin Özel Yetenek Sınav
 ı 2026-ÖZYES Sınav
END:VEVENT
BEGIN:VEVENT
UID:6d4aace2-d9a1-4aaf-4f14-08de9f183112
DTSTAMP:20260420T200538Z
TRANSP:TRANSPARENT
DTSTART:20260722T210000Z
DTEND:20260722T210000Z
STATUS:CONFIRMED
SUMMARY:ÖZYES YKS Kapsamında Spor Bilimleri İçin Özel Yetenek Sınav
 ı 2026-ÖZYES Başvuru Başlangıç
END:VEVENT
BEGIN:VEVENT
UID:4ea5a6a4-b039-4e6e-4f15-08de9f183112
DTSTAMP:20260420T200538Z
TRANSP:TRANSPARENT
DTSTART:20260727T210000Z
DTEND:20260727T210000Z
STATUS:CONFIRMED
SUMMARY:ÖZYES YKS Kapsamında Spor Bilimleri İçin Özel Yetenek Sınav
 ı 2026-ÖZYES Başvuru Bitiş
END:VEVENT
BEGIN:VEVENT
UID:090b0f9e-30c7-4f61-4f16-08de9f183112
DTSTAMP:20260420T200538Z
TRANSP:TRANSPARENT
DTSTART:20260729T210000Z
DTEND:20260729T210000Z
STATUS:CONFIRMED
SUMMARY:ÖZYES YKS Kapsamında Spor Bilimleri İçin Özel Yetenek Sınav
 ı 2026-ÖZYES Geç Başvuru Başlangıç
END:VEVENT
BEGIN:VEVENT
UID:02eec43a-6e93-4edd-4f17-08de9f183112
DTSTAMP:20260420T200538Z
TRANSP:TRANSPARENT
DTSTART:20260730T205900Z
DTEND:20260730T205900Z
STATUS:CONFIRMED
SUMMARY:ÖZYES YKS Kapsamında Spor Bilimleri İçin Özel Yetenek Sınav
 ı 2026-ÖZYES Geç Başvuru Bitiş
END:VEVENT
BEGIN:VEVENT
UID:888e34f4-8e96-441a-4f18-08de9f183112
DTSTAMP:20260420T200538Z
TRANSP:TRANSPARENT
DTSTART:20260908T210000Z
DTEND:20260908T210000Z
STATUS:CONFIRMED
SUMMARY:ÖZYES YKS Kapsamında Spor Bilimleri İçin Özel Yetenek Sınav
 ı 2026-ÖZYES Sonuç
END:VEVENT
END:VCALENDAR
