BEGIN:VCALENDAR
VERSION:2.0
PRODID:itakvim.com
CALSCALE:GREGORIAN
METHOD:PUBLISH
UID:bllhihokmeg
X-WR-CALNAME:Ankara Anfa Altınpark Fuar Merkezi Takvimi
X-ITAKVIM-LANGUAGE:tr
X-ORIGINAL-URL:itakvim.com
REFRESH-INTERVAL;VALUE=DURATION:PT1H
X-ITAKVIM-REGION:TR
X-Robots-Tag:noindex
X-PUBLISHED-TTL:PT1H
BEGIN:VEVENT
UID:07bbb483-e09d-483e-5969-08de9f8ee600
DTSTAMP:20260421T101545Z
TRANSP:TRANSPARENT
DTSTART:20260205T060000Z
DTEND:20260208T150000Z
STATUS:CONFIRMED
SUMMARY:Ankara 5. Kamp Karavan Ve Doğa Sporları Fuarı
DESCRIPTION:Zümrüt Fuarcılık Tan. Org. San. Ve Tic. Ltd. Şti. taraf
 ından düzenlenen kamp\, karavan araçları\, aksesuar\, doğa spor mal
 zemeleri konulu fuarda görüşmek üzere: \n\nWeb:www.zumrutfuarcilik.c
 om.tr\nE-Posta: info@zumrutfuarcilik.com.tr
LOCATION:Anfa Altınpark Fuar Merkezi
BEGIN:VALARM
ACTION:DISPLAY
DESCRIPTION:Ankara 5. Kamp Karavan Ve Doğa Sporları Fuarı
TRIGGER:-PT24H
END:VALARM
END:VEVENT
BEGIN:VEVENT
UID:d60b94fb-174d-4c30-596a-08de9f8ee600
DTSTAMP:20260421T101545Z
TRANSP:TRANSPARENT
DTSTART:20260211T060000Z
DTEND:20260215T150000Z
STATUS:CONFIRMED
SUMMARY:Ankara Kahvaltılık Ürünler Fuarı
DESCRIPTION:Zirve Fuarcılık Dış Ticaret Limited Şirketi tarafından 
 düzenlenen kahvalatılık ürünler\,doğal ürünler\,sağlıklı yaş
 am gıda ürünleri\,ekmek\,unlu mamüleri ve servis ekipmanları konulu
  fuarda görüşmek üzere: \n\nWeb:www.zirvefuarcilik.com.tr\nE-Posta: 
 tevfikcayir@risusgrup.com
LOCATION:Anfa Altınpark Fuar Merkezi
BEGIN:VALARM
ACTION:DISPLAY
DESCRIPTION:Ankara Kahvaltılık Ürünler Fuarı
TRIGGER:-PT24H
END:VALARM
END:VEVENT
BEGIN:VEVENT
UID:2aa2ae0d-ce0d-44da-596b-08de9f8ee600
DTSTAMP:20260421T101545Z
TRANSP:TRANSPARENT
DTSTART:20260521T060000Z
DTEND:20260524T150000Z
STATUS:CONFIRMED
SUMMARY:Modiex'26  Ankara Mobilya Dekorasyon İnovasyon Ve Ev Gereçleri 
 Fuarı
DESCRIPTION:Zümrüt Fuarcılık Tan. Org. San. Ve Tic. Ltd. Şti. taraf
 ından düzenlenen ev\, ofis mobilya dekorasyon aksesuar ve yan sanayi k
 onulu fuarda görüşmek üzere: \n\nWeb:www.zumrutfuarcilik.com.tr\nE-P
 osta: info@zumrutfuarcilik.com.tr
LOCATION:Anfa Altınpark Fuar Merkezi
BEGIN:VALARM
ACTION:DISPLAY
DESCRIPTION:Modiex'26  Ankara Mobilya Dekorasyon İnovasyon Ve Ev Gereçl
 eri Fuarı
TRIGGER:-PT24H
END:VALARM
END:VEVENT
BEGIN:VEVENT
UID:3a0090e2-3436-443b-596c-08de9f8ee600
DTSTAMP:20260421T101545Z
TRANSP:TRANSPARENT
DTSTART:20260604T060000Z
DTEND:20260607T150000Z
STATUS:CONFIRMED
SUMMARY:Motobiex'26 Ankara 2. Motosiklet, Bisiklet Endüstrisi Ve Aksesua
 rları Fuarı
DESCRIPTION:Zümrüt Fuarcılık Tan. Org. San. Ve Tic. Ltd. Şti. taraf
 ından düzenlenen motosikletler\, bisikletler\, elektrikli araçlar\, y
 edek parça\, aksesuarlar\, tuning ve servisler konulu fuarda görüşme
 k üzere: \n\nWeb:www.zumrutfuarcilik.com.tr\nE-Posta: info@zumrutfuarci
 lik.com.tr
LOCATION:Anfa Altınpark Fuar Merkezi
BEGIN:VALARM
ACTION:DISPLAY
DESCRIPTION:Motobiex'26 Ankara 2. Motosiklet, Bisiklet Endüstrisi Ve Aks
 esuarları Fuarı
TRIGGER:-PT24H
END:VALARM
END:VEVENT
BEGIN:VEVENT
UID:8ebc3759-a6a7-4a60-596d-08de9f8ee600
DTSTAMP:20260421T101545Z
TRANSP:TRANSPARENT
DTSTART:20260725T060000Z
DTEND:20260726T150000Z
STATUS:CONFIRMED
SUMMARY:11. Ankara Üniversite Tercih Fuarı
DESCRIPTION:Eket Fuarcılık Ticaret Limited Şirketi tarafından düzenl
 enen eğitim \, yüksek öğretim ve üniversite tercihleri konulu fuard
 a görüşmek üzere: \n\nWeb:www.unitercih.com\nE-Posta: info@eket.com.
 tr
LOCATION:Anfa Altınpark Fuar Merkezi
BEGIN:VALARM
ACTION:DISPLAY
DESCRIPTION:11. Ankara Üniversite Tercih Fuarı
TRIGGER:-PT24H
END:VALARM
END:VEVENT
BEGIN:VEVENT
UID:39f93dc7-ccd4-4518-596e-08de9f8ee600
DTSTAMP:20260421T101545Z
TRANSP:TRANSPARENT
DTSTART:20260911T060000Z
DTEND:20260913T150000Z
STATUS:CONFIRMED
SUMMARY:Başkent Optik Fuarı
DESCRIPTION:Başkent Global Optik Fuarcılık Tanıtım Hizmetleri Sanayi
  Ticaret Limited Şirketi tarafından düzenlenen optik ürünleri ve ma
 lzemeleri konulu fuarda görüşmek üzere: \n\nWeb:www.baskentoptikfuar
 cilik.com\nE-Posta: hasanucar06@hotmail.com
LOCATION:Anfa Altınpark Fuar Merkezi
BEGIN:VALARM
ACTION:DISPLAY
DESCRIPTION:Başkent Optik Fuarı
TRIGGER:-PT24H
END:VALARM
END:VEVENT
BEGIN:VEVENT
UID:d6e00302-1661-4179-596f-08de9f8ee600
DTSTAMP:20260421T101545Z
TRANSP:TRANSPARENT
DTSTART:20261001T060000Z
DTEND:20261003T150000Z
STATUS:CONFIRMED
SUMMARY:Pal Expocare Yaşlı Bakım Ve Engelsiz Yaşam Fuarı
DESCRIPTION:Kare Fuar Organizasyon Tanıtım Limited Şirketi tarafından
  düzenlenen yaşlı bakım\, sağlıklı yaşalma\, engellilere yön
 elik ürün\, hizmet ve teknolojiler konulu fuarda görüşmek üzere:
  \n\nWeb:www.palexpocare.com\nE-Posta: ercument.er@karefuar.com
LOCATION:Anfa Altınpark Fuar Merkezi
BEGIN:VALARM
ACTION:DISPLAY
DESCRIPTION:Pal Expocare Yaşlı Bakım Ve Engelsiz Yaşam Fuarı
TRIGGER:-PT24H
END:VALARM
END:VEVENT
END:VCALENDAR
