BEGIN:VCALENDAR
VERSION:2.0
PRODID:itakvim.com
CALSCALE:GREGORIAN
METHOD:PUBLISH
UID:buseyirubh0
X-WR-CALNAME:Damga Vergisi
X-ITAKVIM-LANGUAGE:tr
X-ORIGINAL-URL:itakvim.com
REFRESH-INTERVAL;VALUE=DURATION:PT1H
X-ITAKVIM-REGION:TR
X-Robots-Tag:noindex
X-PUBLISHED-TTL:PT1H
BEGIN:VEVENT
UID:b0a45382-c835-4ee7-d2c9-08de9f271cd7
DTSTAMP:20260420T215235Z
TRANSP:TRANSPARENT
DTSTART:20260401T060000Z
DTEND:20260401T060000Z
STATUS:CONFIRMED
SUMMARY:Mart 2026 Dönemine Ait İstihkaktan Kesinti Suretiyle Tahsil Edi
 len Damga  Vergisinin Beyanı ve Ödemesi Başlangıç
DESCRIPTION:Mart 2026 Dönemi İstihkaktan Kesinti Suretiyle Tahsil Edile
 n Damga Vergisinin  Beyan ve Ödemesi
BEGIN:VALARM
ACTION:DISPLAY
DESCRIPTION:Mart 2026 Dönemine Ait İstihkaktan Kesinti Suretiyle Tahsil
  Edilen Damga  Vergisinin Beyanı ve Ödemesi Başlangıç
TRIGGER:PT0S
END:VALARM
END:VEVENT
BEGIN:VEVENT
UID:b5497ba4-1373-415d-d2ca-08de9f271cd7
DTSTAMP:20260420T215235Z
TRANSP:TRANSPARENT
DTSTART:20260427T140000Z
DTEND:20260427T140000Z
STATUS:CONFIRMED
SUMMARY:Mart 2026 Dönemi İstihkaktan Kesinti Suretiyle Tahsil Edilen Da
 mga Vergisinin  Beyan ve Ödemesi Son Gün
DESCRIPTION:Mart 2026 Dönemine Ait İstihkaktan Kesinti Suretiyle Tahsil
  Edilen Damga  Vergisinin Beyanı ve Ödemesi
BEGIN:VALARM
ACTION:DISPLAY
DESCRIPTION:Mart 2026 Dönemi İstihkaktan Kesinti Suretiyle Tahsil Edile
 n Damga Vergisinin  Beyan ve Ödemesi Son Gün
TRIGGER:-PT8H
END:VALARM
END:VEVENT
BEGIN:VEVENT
UID:6c23c8f7-9f6c-48bc-d2cb-08de9f271cd7
DTSTAMP:20260420T215235Z
TRANSP:TRANSPARENT
DTSTART:20260401T060000Z
DTEND:20260401T060000Z
STATUS:CONFIRMED
SUMMARY:Mart 2026 Dönemine Ait Sürekli Mükellefiyeti Bulunanlar İçin
  Makbuz Karşılığı Ödenmesi Gereken Damga Vergisinin Beyanı ve Öd
 emesi Başlangıç
DESCRIPTION:Mart 2026 Dönemi Sürekli Mükellefiyette Makbuz Karşılı
 ğı Damga Vergisinin Beyan ve Ödemesi
BEGIN:VALARM
ACTION:DISPLAY
DESCRIPTION:Mart 2026 Dönemine Ait Sürekli Mükellefiyeti Bulunanlar İ
 çin Makbuz Karşılığı Ödenmesi Gereken Damga Vergisinin Beyanı ve
  Ödemesi Başlangıç
TRIGGER:PT0S
END:VALARM
END:VEVENT
BEGIN:VEVENT
UID:a79ce7fb-c289-4528-d2cc-08de9f271cd7
DTSTAMP:20260420T215235Z
TRANSP:TRANSPARENT
DTSTART:20260427T140000Z
DTEND:20260427T140000Z
STATUS:CONFIRMED
SUMMARY:Mart 2026 Dönemi Sürekli Mükellefiyette Makbuz Karşılığı 
 Damga Vergisinin Beyan ve Ödemesi Son Gün
DESCRIPTION:Mart 2026 Dönemine Ait Sürekli Mükellefiyeti Bulunanlar İ
 çin Makbuz Karşılığı Ödenmesi Gereken Damga Vergisinin Beyanı ve
  Ödemesi
BEGIN:VALARM
ACTION:DISPLAY
DESCRIPTION:Mart 2026 Dönemi Sürekli Mükellefiyette Makbuz Karşılı
 ğı Damga Vergisinin Beyan ve Ödemesi Son Gün
TRIGGER:-PT8H
END:VALARM
END:VEVENT
END:VCALENDAR
