BEGIN:VCALENDAR
VERSION:2.0
PRODID:itakvim.com
CALSCALE:GREGORIAN
METHOD:PUBLISH
UID:bwnc4u8wzgx
X-WR-CALNAME:Sakarya Kırkpınar Geçici Fuar Alanı Takvimi
X-ITAKVIM-LANGUAGE:tr
X-ORIGINAL-URL:itakvim.com
REFRESH-INTERVAL;VALUE=DURATION:PT1H
X-ITAKVIM-REGION:TR
X-Robots-Tag:noindex
X-PUBLISHED-TTL:PT1H
BEGIN:VEVENT
UID:7bcc34ca-f77e-4670-52bd-08de9f183112
DTSTAMP:20260420T200816Z
TRANSP:TRANSPARENT
DTSTART:20260909T060000Z
DTEND:20260912T150000Z
STATUS:CONFIRMED
SUMMARY:Psb Anatolıa 2026
DESCRIPTION:Karma Fuarcılık Limited Şirketi tarafından düzenlenen pe
 yzaj\, süs bitkileri bahçe sanatları ve ekipmanları konulu fuarda g
 örüşmek üzere: \n\nWeb:www.psbanatolia.com\nE-Posta: karmafuar@gmail
 .com
LOCATION:Kırkpınar Geçici Fuar Alanı
BEGIN:VALARM
ACTION:DISPLAY
DESCRIPTION:Psb Anatolıa 2026
TRIGGER:-PT24H
END:VALARM
END:VEVENT
END:VCALENDAR
