BEGIN:VCALENDAR
VERSION:2.0
PRODID:itakvim.com
CALSCALE:GREGORIAN
METHOD:PUBLISH
UID:c9sr4itdola
X-WR-CALNAME:7440 Sayılı Kanun
X-ITAKVIM-LANGUAGE:tr
X-ORIGINAL-URL:itakvim.com
REFRESH-INTERVAL;VALUE=DURATION:PT1H
X-ITAKVIM-REGION:TR
X-Robots-Tag:noindex
X-PUBLISHED-TTL:PT1H
BEGIN:VEVENT
UID:d156d364-a07b-466b-d2cd-08de9f271cd7
DTSTAMP:20260420T215235Z
TRANSP:TRANSPARENT
DTSTART:20260401T060000Z
DTEND:20260401T060000Z
STATUS:CONFIRMED
SUMMARY:7440 Sayılı Kanun Uyarınca Ödenmesi Gereken 35. Taksit Ödeme
 si Başlangıç
DESCRIPTION:35. Taksit 7440 Sayılı Kanunun Taksit Ödemesi
BEGIN:VALARM
ACTION:DISPLAY
DESCRIPTION:7440 Sayılı Kanun Uyarınca Ödenmesi Gereken 35. Taksit Ö
 demesi Başlangıç
TRIGGER:PT0S
END:VALARM
END:VEVENT
BEGIN:VEVENT
UID:d27be8dc-b86e-4382-d2ce-08de9f271cd7
DTSTAMP:20260420T215235Z
TRANSP:TRANSPARENT
DTSTART:20260430T140000Z
DTEND:20260430T140000Z
STATUS:CONFIRMED
SUMMARY:35. Taksit 7440 Sayılı Kanunun Taksit Ödemesi Son Gün
DESCRIPTION:7440 Sayılı Kanun Uyarınca Ödenmesi Gereken 35. Taksit Ö
 demesi
BEGIN:VALARM
ACTION:DISPLAY
DESCRIPTION:35. Taksit 7440 Sayılı Kanunun Taksit Ödemesi Son Gün
TRIGGER:-PT8H
END:VALARM
END:VEVENT
END:VCALENDAR
