BEGIN:VCALENDAR
VERSION:2.0
PRODID:itakvim.com
CALSCALE:GREGORIAN
METHOD:PUBLISH
UID:cizintfijhn
X-WR-CALNAME:Şanlıurfa Şanlıurfa Fuar Merkezi Takvimi
X-ITAKVIM-LANGUAGE:tr
X-ORIGINAL-URL:itakvim.com
REFRESH-INTERVAL;VALUE=DURATION:PT1H
X-ITAKVIM-REGION:TR
X-Robots-Tag:noindex
X-PUBLISHED-TTL:PT1H
BEGIN:VEVENT
UID:0b3e886d-30b0-4831-7247-08de6facbbe9
DTSTAMP:20260219T114800Z
TRANSP:TRANSPARENT
DTSTART:20260206T060000Z
DTEND:20260215T150000Z
STATUS:CONFIRMED
SUMMARY:Şanlıurfa Gıda Yöresel Ürünler Hediyelik Eşya Ve El Sanatl
 arı Fuarı
DESCRIPTION:Medyatrend Fuarcılık Sanayi Ve Ticaret Limited Şirketi tar
 afından düzenlenen şanlıurfa gıda yöresel ürünler tekstil hediye
 lik eşya ve el sanatları fuarı konulu fuarda görüşmek üzere: \n\n
 Web:www.medyatrend.com.tr\nE-Posta: medyatrend@hotmail.com
LOCATION:Şanlıurfa Fuar Merkezi
END:VEVENT
BEGIN:VEVENT
UID:273433be-7b8a-4733-7248-08de6facbbe9
DTSTAMP:20260219T114800Z
TRANSP:TRANSPARENT
DTSTART:20260416T060000Z
DTEND:20260419T150000Z
STATUS:CONFIRMED
SUMMARY:3.Şanlıurfa İnşaat Ve Yapı Dekorasyon Fuarı
DESCRIPTION:Us Fuarcılık Ve Organizasyon Ltd. Şti. tarafından düzenl
 enen yapı malzemeleri\, iş ve inşaat makineleri\,isıtma\, soğutma\,
 doğalgaz teknolojisi\, tesisat ve yalıtım konulu fuarda görüşmek 
 üzere: \n\nWeb:www.usfuar.com\nE-Posta: info@usfuar.com
LOCATION:Şanlıurfa Fuar Merkezi
END:VEVENT
BEGIN:VEVENT
UID:3b671877-e87c-4443-7249-08de6facbbe9
DTSTAMP:20260219T114800Z
TRANSP:TRANSPARENT
DTSTART:20260429T060000Z
DTEND:20260503T150000Z
STATUS:CONFIRMED
SUMMARY:Şanlıurfa Otoshow Fuarı
DESCRIPTION:1) Medyatrend Fuarcılık Sanayi Ve Ticaret Limited Şirketi 
 2) Urfa Kültür Ve Bilişim Anonim Şirketi tarafından düzenlenen oto
 mobil\, ticari araç\, motosiklet\, aksesuar\, otomotiv yan sanayii\, ga
 raj ekipmanları\, akaryakıt istasyonları konulu fuarda görüşmek ü
 zere: \n\nWeb:www.trendfuar.com.tr\nE-Posta: medyatrend@hotmail.com
LOCATION:Şanlıurfa Fuar Merkezi
END:VEVENT
BEGIN:VEVENT
UID:734bcdd0-81cd-44f9-724a-08de6facbbe9
DTSTAMP:20260219T114800Z
TRANSP:TRANSPARENT
DTSTART:20261009T060000Z
DTEND:20261018T150000Z
STATUS:CONFIRMED
SUMMARY:Şanlıurfa Gıda Yöresel Ürünler Hediyelik Eşya Ve El Sanatl
 arı Fuarı
DESCRIPTION:Medyatrend Fuarcılık Sanayi Ve Ticaret Limited Şirketi tar
 afından düzenlenen şanlıurfa gıda yöresel ürünler tekstil hediye
 lik eşya ve el sanatları fuarı konulu fuarda görüşmek üzere: \n\n
 Web:www.medyatrend.com.tr\nE-Posta: medyatrend@hotmail.com
LOCATION:Şanlıurfa Fuar Merkezi
END:VEVENT
END:VCALENDAR
