BEGIN:VCALENDAR
VERSION:2.0
PRODID:itakvim.com
CALSCALE:GREGORIAN
METHOD:PUBLISH
UID:coj5wal3ec6
X-WR-CALNAME:TR-YÖS Sınav Takvimi
X-ITAKVIM-LANGUAGE:tr
X-ORIGINAL-URL:itakvim.com
REFRESH-INTERVAL;VALUE=DURATION:PT1H
X-ITAKVIM-REGION:TR
X-Robots-Tag:noindex
X-PUBLISHED-TTL:PT1H
BEGIN:VEVENT
UID:04a63518-9bba-445c-4f19-08de9f183112
DTSTAMP:20260420T200538Z
TRANSP:TRANSPARENT
DTSTART:20260411T210000Z
DTEND:20260411T210000Z
STATUS:CONFIRMED
SUMMARY:TR-YÖS Türkiye Yurt Dışından Öğrenci Kabul Sınavı 2026-T
 R-YÖS/1 Sınav
END:VEVENT
BEGIN:VEVENT
UID:7e194c87-10b0-4969-4f1a-08de9f183112
DTSTAMP:20260420T200538Z
TRANSP:TRANSPARENT
DTSTART:20260114T085000Z
DTEND:20260114T085000Z
STATUS:CONFIRMED
SUMMARY:TR-YÖS Türkiye Yurt Dışından Öğrenci Kabul Sınavı 2026-T
 R-YÖS/1 Başvuru Başlangıç
END:VEVENT
BEGIN:VEVENT
UID:bdc2bb06-7c9a-44fc-4f1b-08de9f183112
DTSTAMP:20260420T200538Z
TRANSP:TRANSPARENT
DTSTART:20260203T205900Z
DTEND:20260203T205900Z
STATUS:CONFIRMED
SUMMARY:TR-YÖS Türkiye Yurt Dışından Öğrenci Kabul Sınavı 2026-T
 R-YÖS/1 Başvuru Bitiş
END:VEVENT
BEGIN:VEVENT
UID:7598b62b-556f-463b-4f1c-08de9f183112
DTSTAMP:20260420T200538Z
TRANSP:TRANSPARENT
DTSTART:20260208T210000Z
DTEND:20260208T210000Z
STATUS:CONFIRMED
SUMMARY:TR-YÖS Türkiye Yurt Dışından Öğrenci Kabul Sınavı 2026-T
 R-YÖS/1 Geç Başvuru Başlangıç
END:VEVENT
BEGIN:VEVENT
UID:039a747b-f90e-4a4e-4f1d-08de9f183112
DTSTAMP:20260420T200538Z
TRANSP:TRANSPARENT
DTSTART:20260211T205900Z
DTEND:20260211T205900Z
STATUS:CONFIRMED
SUMMARY:TR-YÖS Türkiye Yurt Dışından Öğrenci Kabul Sınavı 2026-T
 R-YÖS/1 Geç Başvuru Bitiş
END:VEVENT
BEGIN:VEVENT
UID:a56d5c86-7bc0-40c1-4f1e-08de9f183112
DTSTAMP:20260420T200538Z
TRANSP:TRANSPARENT
DTSTART:20260506T210000Z
DTEND:20260506T210000Z
STATUS:CONFIRMED
SUMMARY:TR-YÖS Türkiye Yurt Dışından Öğrenci Kabul Sınavı 2026-T
 R-YÖS/1 Sonuç
END:VEVENT
BEGIN:VEVENT
UID:e91253ef-0394-4ce8-4f1f-08de9f183112
DTSTAMP:20260420T200538Z
TRANSP:TRANSPARENT
DTSTART:20261010T210000Z
DTEND:20261010T210000Z
STATUS:CONFIRMED
SUMMARY:TR-YÖS Türkiye Yurt Dışından Öğrenci Kabul Sınavı 2026-T
 R-YÖS/2 Sınav
END:VEVENT
BEGIN:VEVENT
UID:55a01144-44e3-42bc-4f20-08de9f183112
DTSTAMP:20260420T200538Z
TRANSP:TRANSPARENT
DTSTART:20260708T210000Z
DTEND:20260708T210000Z
STATUS:CONFIRMED
SUMMARY:TR-YÖS Türkiye Yurt Dışından Öğrenci Kabul Sınavı 2026-T
 R-YÖS/2 Başvuru Başlangıç
END:VEVENT
BEGIN:VEVENT
UID:3682fdec-dd90-47ad-4f21-08de9f183112
DTSTAMP:20260420T200538Z
TRANSP:TRANSPARENT
DTSTART:20260802T210000Z
DTEND:20260802T210000Z
STATUS:CONFIRMED
SUMMARY:TR-YÖS Türkiye Yurt Dışından Öğrenci Kabul Sınavı 2026-T
 R-YÖS/2 Başvuru Bitiş
END:VEVENT
BEGIN:VEVENT
UID:89b0e70b-4a32-46bd-4f22-08de9f183112
DTSTAMP:20260420T200538Z
TRANSP:TRANSPARENT
DTSTART:20260806T210000Z
DTEND:20260806T210000Z
STATUS:CONFIRMED
SUMMARY:TR-YÖS Türkiye Yurt Dışından Öğrenci Kabul Sınavı 2026-T
 R-YÖS/2 Geç Başvuru Başlangıç
END:VEVENT
BEGIN:VEVENT
UID:75612712-9694-4212-4f23-08de9f183112
DTSTAMP:20260420T200538Z
TRANSP:TRANSPARENT
DTSTART:20260811T205900Z
DTEND:20260811T205900Z
STATUS:CONFIRMED
SUMMARY:TR-YÖS Türkiye Yurt Dışından Öğrenci Kabul Sınavı 2026-T
 R-YÖS/2 Geç Başvuru Bitiş
END:VEVENT
BEGIN:VEVENT
UID:d5e68de0-ab25-4a6a-4f24-08de9f183112
DTSTAMP:20260420T200538Z
TRANSP:TRANSPARENT
DTSTART:20261104T210000Z
DTEND:20261104T210000Z
STATUS:CONFIRMED
SUMMARY:TR-YÖS Türkiye Yurt Dışından Öğrenci Kabul Sınavı 2026-T
 R-YÖS/2 Sonuç
END:VEVENT
END:VCALENDAR
