BEGIN:VCALENDAR
VERSION:2.0
PRODID:itakvim.com
CALSCALE:GREGORIAN
METHOD:PUBLISH
UID:coq1vdd1g69
X-WR-CALNAME:STS Tıp Sınav Takvimi
X-ITAKVIM-LANGUAGE:tr
X-ORIGINAL-URL:itakvim.com
REFRESH-INTERVAL;VALUE=DURATION:PT1H
X-ITAKVIM-REGION:TR
X-Robots-Tag:noindex
X-PUBLISHED-TTL:PT1H
BEGIN:VEVENT
UID:81e2f0fb-2744-4dec-4f25-08de9f183112
DTSTAMP:20260420T200538Z
TRANSP:TRANSPARENT
DTSTART:20260315T071500Z
DTEND:20260315T071500Z
STATUS:CONFIRMED
SUMMARY:STS Tıp Tıp Doktorluğu Alanında Yurt Dışı Yükseköğretim
  Diploma Denkliği İçin Seviye Tespit Sınavı 2026-STS Tıp Doktorlu
 ğu 1. Dönem Sınav
END:VEVENT
BEGIN:VEVENT
UID:e902d8bd-2319-41f8-4f26-08de9f183112
DTSTAMP:20260420T200538Z
TRANSP:TRANSPARENT
DTSTART:20260128T074500Z
DTEND:20260128T074500Z
STATUS:CONFIRMED
SUMMARY:STS Tıp Tıp Doktorluğu Alanında Yurt Dışı Yükseköğretim
  Diploma Denkliği İçin Seviye Tespit Sınavı 2026-STS Tıp Doktorlu
 ğu 1. Dönem Başvuru Başlangıç
END:VEVENT
BEGIN:VEVENT
UID:70997726-c208-4b04-4f27-08de9f183112
DTSTAMP:20260420T200538Z
TRANSP:TRANSPARENT
DTSTART:20260205T205900Z
DTEND:20260205T205900Z
STATUS:CONFIRMED
SUMMARY:STS Tıp Tıp Doktorluğu Alanında Yurt Dışı Yükseköğretim
  Diploma Denkliği İçin Seviye Tespit Sınavı 2026-STS Tıp Doktorlu
 ğu 1. Dönem Başvuru Bitiş
END:VEVENT
BEGIN:VEVENT
UID:f1af25f4-c019-4e08-4f28-08de9f183112
DTSTAMP:20260420T200538Z
TRANSP:TRANSPARENT
DTSTART:20260211T210000Z
DTEND:20260211T210000Z
STATUS:CONFIRMED
SUMMARY:STS Tıp Tıp Doktorluğu Alanında Yurt Dışı Yükseköğretim
  Diploma Denkliği İçin Seviye Tespit Sınavı 2026-STS Tıp Doktorlu
 ğu 1. Dönem Geç Başvuru Başlangıç
END:VEVENT
BEGIN:VEVENT
UID:57e9f333-68d6-494c-4f29-08de9f183112
DTSTAMP:20260420T200538Z
TRANSP:TRANSPARENT
DTSTART:20260212T205900Z
DTEND:20260212T205900Z
STATUS:CONFIRMED
SUMMARY:STS Tıp Tıp Doktorluğu Alanında Yurt Dışı Yükseköğretim
  Diploma Denkliği İçin Seviye Tespit Sınavı 2026-STS Tıp Doktorlu
 ğu 1. Dönem Geç Başvuru Bitiş
END:VEVENT
BEGIN:VEVENT
UID:a5542d13-8ef3-4d37-4f2a-08de9f183112
DTSTAMP:20260420T200538Z
TRANSP:TRANSPARENT
DTSTART:20260414T210000Z
DTEND:20260414T210000Z
STATUS:CONFIRMED
SUMMARY:STS Tıp Tıp Doktorluğu Alanında Yurt Dışı Yükseköğretim
  Diploma Denkliği İçin Seviye Tespit Sınavı 2026-STS Tıp Doktorlu
 ğu 1. Dönem Sonuç
END:VEVENT
BEGIN:VEVENT
UID:72826a83-2b9f-44b7-4f2b-08de9f183112
DTSTAMP:20260420T200538Z
TRANSP:TRANSPARENT
DTSTART:20260822T210000Z
DTEND:20260822T210000Z
STATUS:CONFIRMED
SUMMARY:STS Tıp Tıp Doktorluğu Alanında Yurt Dışı Yükseköğretim
  Diploma Denkliği İçin Seviye Tespit Sınavı 2026-STS Tıp Doktorlu
 ğu 2. Dönem Sınav
END:VEVENT
BEGIN:VEVENT
UID:e1113d2f-0b2e-485c-4f2c-08de9f183112
DTSTAMP:20260420T200538Z
TRANSP:TRANSPARENT
DTSTART:20260707T210000Z
DTEND:20260707T210000Z
STATUS:CONFIRMED
SUMMARY:STS Tıp Tıp Doktorluğu Alanında Yurt Dışı Yükseköğretim
  Diploma Denkliği İçin Seviye Tespit Sınavı 2026-STS Tıp Doktorlu
 ğu 2. Dönem Başvuru Başlangıç
END:VEVENT
BEGIN:VEVENT
UID:b8249581-58cd-4c7c-4f2d-08de9f183112
DTSTAMP:20260420T200538Z
TRANSP:TRANSPARENT
DTSTART:20260715T210000Z
DTEND:20260715T210000Z
STATUS:CONFIRMED
SUMMARY:STS Tıp Tıp Doktorluğu Alanında Yurt Dışı Yükseköğretim
  Diploma Denkliği İçin Seviye Tespit Sınavı 2026-STS Tıp Doktorlu
 ğu 2. Dönem Başvuru Bitiş
END:VEVENT
BEGIN:VEVENT
UID:43b24fbe-5f31-435c-4f2e-08de9f183112
DTSTAMP:20260420T200538Z
TRANSP:TRANSPARENT
DTSTART:20260723T210000Z
DTEND:20260723T210000Z
STATUS:CONFIRMED
SUMMARY:STS Tıp Tıp Doktorluğu Alanında Yurt Dışı Yükseköğretim
  Diploma Denkliği İçin Seviye Tespit Sınavı 2026-STS Tıp Doktorlu
 ğu 2. Dönem Geç Başvuru Başlangıç
END:VEVENT
BEGIN:VEVENT
UID:a86f3003-d037-4655-4f2f-08de9f183112
DTSTAMP:20260420T200538Z
TRANSP:TRANSPARENT
DTSTART:20260724T205900Z
DTEND:20260724T205900Z
STATUS:CONFIRMED
SUMMARY:STS Tıp Tıp Doktorluğu Alanında Yurt Dışı Yükseköğretim
  Diploma Denkliği İçin Seviye Tespit Sınavı 2026-STS Tıp Doktorlu
 ğu 2. Dönem Geç Başvuru Bitiş
END:VEVENT
BEGIN:VEVENT
UID:39b7d228-b878-4f40-4f30-08de9f183112
DTSTAMP:20260420T200538Z
TRANSP:TRANSPARENT
DTSTART:20260916T210000Z
DTEND:20260916T210000Z
STATUS:CONFIRMED
SUMMARY:STS Tıp Tıp Doktorluğu Alanında Yurt Dışı Yükseköğretim
  Diploma Denkliği İçin Seviye Tespit Sınavı 2026-STS Tıp Doktorlu
 ğu 2. Dönem Sonuç
END:VEVENT
END:VCALENDAR
