BEGIN:VCALENDAR
VERSION:2.0
PRODID:itakvim.com
CALSCALE:GREGORIAN
METHOD:PUBLISH
UID:d4nvp73y07x
X-WR-CALNAME:Gaziantep Ortadoğu Fuar Merkezi Takvimi
X-ITAKVIM-LANGUAGE:tr
X-ORIGINAL-URL:itakvim.com
REFRESH-INTERVAL;VALUE=DURATION:PT1H
X-ITAKVIM-REGION:TR
X-Robots-Tag:noindex
X-PUBLISHED-TTL:PT1H
BEGIN:VEVENT
UID:a5af35dd-da4f-4ec4-5975-08de9f8ee600
DTSTAMP:20260421T101545Z
TRANSP:TRANSPARENT
DTSTART:20260401T060000Z
DTEND:20260404T150000Z
STATUS:CONFIRMED
SUMMARY:Gaptarım 16. Tarım,Tarım Teknolojileri Ve Hayvancılık Fuarı
DESCRIPTION:Akort Tanıtım Organizasyon Ve Fuarcılık Limited Şirketi 
 tarafından düzenlenen tarım\,  tarım teknolojileri\, gıda ve hayvan
 cılık ürünleri konulu fuarda görüşmek üzere: \n\nWeb:www.akort.c
 om\nE-Posta: akort@akort.com
LOCATION:Ortadoğu Fuar Merkezi
BEGIN:VALARM
ACTION:DISPLAY
DESCRIPTION:Gaptarım 16. Tarım,Tarım Teknolojileri Ve Hayvancılık Fu
 arı
TRIGGER:-PT24H
END:VALARM
END:VEVENT
BEGIN:VEVENT
UID:f3b0d14b-f938-4821-5976-08de9f8ee600
DTSTAMP:20260421T101545Z
TRANSP:TRANSPARENT
DTSTART:20260506T060000Z
DTEND:20260508T150000Z
STATUS:CONFIRMED
SUMMARY:Orta Doğu Gıda Ve Gıda Teknolojileri Fuarı
DESCRIPTION:1) Nobel Expo Uluslararası Fuarcılık Anonim Şirketi 2) Gs
 omem Gaziantep Sanayı Odası Mesleki Eğitim Danışmanlık Hizmetleri 
 Anonim Şirketi tarafından düzenlenen gıda\, gıda işleme\, içecek 
 ve teknolojileri konulu fuarda görüşmek üzere: \n\nWeb:www.nobelexpo
 .com\nE-Posta: info@nobelexpo.com
LOCATION:Ortadoğu Fuar Merkezi
BEGIN:VALARM
ACTION:DISPLAY
DESCRIPTION:Orta Doğu Gıda Ve Gıda Teknolojileri Fuarı
TRIGGER:-PT24H
END:VALARM
END:VEVENT
BEGIN:VEVENT
UID:1436c192-2433-4df6-5977-08de9f8ee600
DTSTAMP:20260421T101545Z
TRANSP:TRANSPARENT
DTSTART:20260701T060000Z
DTEND:20260704T150000Z
STATUS:CONFIRMED
SUMMARY:Gaziantep Triko, İplik, Konfeksiyon Ve Teknolojileri Fuarı
DESCRIPTION:Gsomem Gaziantep Sanayı Odası Mesleki Eğitim Danışmanlı
 k Hizmetleri Anonim Şirketi tarafından düzenlenen triko\, triko ipli
 ği\, konfeksiyon ve teknolojileri konulu fuarda görüşmek üzere: \n\
 nWeb:www.gsomem.com.tr/\nE-Posta: info@gsomem.com.tr
LOCATION:Ortadoğu Fuar Merkezi
BEGIN:VALARM
ACTION:DISPLAY
DESCRIPTION:Gaziantep Triko, İplik, Konfeksiyon Ve Teknolojileri Fuarı
TRIGGER:-PT24H
END:VALARM
END:VEVENT
BEGIN:VEVENT
UID:bab58bfb-ac2c-4247-5978-08de9f8ee600
DTSTAMP:20260421T101545Z
TRANSP:TRANSPARENT
DTSTART:20260909T060000Z
DTEND:20260912T150000Z
STATUS:CONFIRMED
SUMMARY:Aff - Üretim Tesisleri Tedarik Fuarı
DESCRIPTION:1) Nobel Expo Uluslararası Fuarcılık Anonim Şirketi 2) Gs
 omem Gaziantep Sanayı Odası Mesleki Eğitim Danışmanlık Hizmetleri 
 Anonim Şirketi tarafından düzenlenen üretim tesisleri tedarik fuarı
  konulu fuarda görüşmek üzere: \n\nWeb:www.nobelexpo.com\nE-Posta: i
 nfo@nobelexpo.com
LOCATION:Ortadoğu Fuar Merkezi
BEGIN:VALARM
ACTION:DISPLAY
DESCRIPTION:Aff - Üretim Tesisleri Tedarik Fuarı
TRIGGER:-PT24H
END:VALARM
END:VEVENT
BEGIN:VEVENT
UID:04ea4088-6c86-454b-5979-08de9f8ee600
DTSTAMP:20260421T101545Z
TRANSP:TRANSPARENT
DTSTART:20260909T060000Z
DTEND:20260912T150000Z
STATUS:CONFIRMED
SUMMARY:Gaziantep Enerji Ve İklimlendirme Fuarı
DESCRIPTION:1) Nobel Expo Uluslararası Fuarcılık Anonim Şirketi 2) Gs
 omem Gaziantep Sanayı Odası Mesleki Eğitim Danışmanlık Hizmetleri 
 Anonim Şirketi tarafından düzenlenen enerji\, isıtma\, soğutma\, ha
 valandırma ve doğalgaz sistemleri konulu fuarda görüşmek üzere: \n
 \nWeb:www.nobelexpo.com\nE-Posta: info@nobelexpo.com
LOCATION:Ortadoğu Fuar Merkezi
BEGIN:VALARM
ACTION:DISPLAY
DESCRIPTION:Gaziantep Enerji Ve İklimlendirme Fuarı
TRIGGER:-PT24H
END:VALARM
END:VEVENT
BEGIN:VEVENT
UID:1172b1db-4421-40c6-597a-08de9f8ee600
DTSTAMP:20260421T101545Z
TRANSP:TRANSPARENT
DTSTART:20261201T060000Z
DTEND:20261204T150000Z
STATUS:CONFIRMED
SUMMARY:Gafshoes 38. Uluslararası Ayakkabı, Terlik Ve Yan Sanayi Yaz Fu
 arı
DESCRIPTION:Akort Tanıtım Organizasyon Ve Fuarcılık Limited Şirketi 
 tarafından düzenlenen ayakkabı\, terlik ve yan sanayi konulu fuarda g
 örüşmek üzere: \n\nWeb:www.akort.com\nE-Posta: akort@akort.com
LOCATION:Ortadoğu Fuar Merkezi
BEGIN:VALARM
ACTION:DISPLAY
DESCRIPTION:Gafshoes 38. Uluslararası Ayakkabı, Terlik Ve Yan Sanayi Ya
 z Fuarı
TRIGGER:-PT24H
END:VALARM
END:VEVENT
BEGIN:VEVENT
UID:fff6ff00-51b1-4de8-597b-08de9f8ee600
DTSTAMP:20260421T101545Z
TRANSP:TRANSPARENT
DTSTART:20261216T060000Z
DTEND:20261219T150000Z
STATUS:CONFIRMED
SUMMARY:Gaziantep Penye, Tekstil, Hazır Giyim, Aksesuarları, Kumaş Ve 
 Yan Sanayileri Fuarı
DESCRIPTION:Gsomem Gaziantep Sanayı Odası Mesleki Eğitim Danışmanlı
 k Hizmetleri Anonim Şirketi tarafından düzenlenen penye\, tekstil\, h
 azır giyim\, aksesuarları\, kumaş konulu fuarda görüşmek üzere: \
 n\nWeb:www.gsomem.com.tr/\nE-Posta: info@gsomem.com.tr
LOCATION:Ortadoğu Fuar Merkezi
BEGIN:VALARM
ACTION:DISPLAY
DESCRIPTION:Gaziantep Penye, Tekstil, Hazır Giyim, Aksesuarları, Kumaş
  Ve Yan Sanayileri Fuarı
TRIGGER:-PT24H
END:VALARM
END:VEVENT
END:VCALENDAR
