BEGIN:VCALENDAR
VERSION:2.0
PRODID:itakvim.com
CALSCALE:GREGORIAN
METHOD:PUBLISH
UID:dx5rqh9jqrp
X-WR-CALNAME:Öğretmen Yer Değiştirme Takvimi
X-ITAKVIM-LANGUAGE:tr
X-ORIGINAL-URL:itakvim.com
REFRESH-INTERVAL;VALUE=DURATION:PT1H
X-ITAKVIM-REGION:TR
X-Robots-Tag:noindex
X-PUBLISHED-TTL:PT1H
BEGIN:VEVENT
UID:97ae5875-9f7e-4079-b437-08de70e5d47b
DTSTAMP:20260221T040914Z
TRANSP:TRANSPARENT
DTSTART:20260503T210000Z
DTEND:20260506T205900Z
STATUS:CONFIRMED
SUMMARY:İl İçi İsteğe Bağlı Yer Değiştirme - Başvuru
END:VEVENT
BEGIN:VEVENT
UID:6698943f-d6cd-4b10-b438-08de70e5d47b
DTSTAMP:20260221T010923Z
TRANSP:TRANSPARENT
DTSTART:20260510T210000Z
DTEND:20260511T205900Z
STATUS:CONFIRMED
SUMMARY:İl İçi İsteğe Bağlı Yer Değiştirme - Atama ve Sıralaman
 ın Oluşturulması
END:VEVENT
BEGIN:VEVENT
UID:0b59f687-0128-4476-b43a-08de70e5d47b
DTSTAMP:20260221T011151Z
TRANSP:TRANSPARENT
DTSTART:20260626T050000Z
DTEND:20260626T140000Z
STATUS:CONFIRMED
SUMMARY:İl İçi - İl Dışı İsteğe Bağlı Yer Değiştirme - Tebli
 gat ve İlişik Kesme
END:VEVENT
BEGIN:VEVENT
UID:54bcf83a-d600-4895-808a-08de71e8a9ec
DTSTAMP:20260222T081129Z
TRANSP:TRANSPARENT
DTSTART:20260513T210000Z
DTEND:20260520T205900Z
STATUS:CONFIRMED
SUMMARY:İller Arası İsteğe Bağlı Yer Değiştirme - Başvuru
END:VEVENT
BEGIN:VEVENT
UID:751ae1cb-ff4a-4942-808b-08de71e8a9ec
DTSTAMP:20260222T081437Z
TRANSP:TRANSPARENT
DTSTART:20260521T210000Z
DTEND:20260522T205900Z
STATUS:CONFIRMED
SUMMARY:İller Arası İsteğe Bağlı Yer Değiştirme - Atama
END:VEVENT
BEGIN:VEVENT
UID:51bda583-5ab4-41c9-808c-08de71e8a9ec
DTSTAMP:20260222T081842Z
TRANSP:TRANSPARENT
DTSTART:20260702T210000Z
DTEND:20260703T205900Z
STATUS:CONFIRMED
SUMMARY:İl İçi İsteğe Bağlı Yer Değiştirme Sıra Ataması - Sır
 anın Çalıştırılması ve Atama
END:VEVENT
BEGIN:VEVENT
UID:f31a1fc1-5047-462e-808d-08de71e8a9ec
DTSTAMP:20260222T081954Z
TRANSP:TRANSPARENT
DTSTART:20260706T050000Z
DTEND:20260706T140000Z
STATUS:CONFIRMED
SUMMARY:İl İçi İsteğe Bağlı Yer Değiştirme Sıra Ataması - Tebl
 igat ve İlişik Kesme
END:VEVENT
BEGIN:VEVENT
UID:ca6c8744-2369-4cb5-808e-08de71e8a9ec
DTSTAMP:20260222T082740Z
TRANSP:TRANSPARENT
DTSTART:20260712T210000Z
DTEND:20260724T205900Z
STATUS:CONFIRMED
SUMMARY:Yaz Tatili İl İçi Mazerete Bağlı Yer Değiştirme - 1. Aşam
 a Başvuru
END:VEVENT
BEGIN:VEVENT
UID:9bd7b274-8a35-4186-808f-08de71e8a9ec
DTSTAMP:20260222T082752Z
TRANSP:TRANSPARENT
DTSTART:20260726T210000Z
DTEND:20260729T205900Z
STATUS:CONFIRMED
SUMMARY:Yaz Tatili İl İçi Mazerete Bağlı Yer Değiştirme - 2. Aşam
 a Başvuru
END:VEVENT
BEGIN:VEVENT
UID:f7077879-01c9-46c3-8090-08de71e8a9ec
DTSTAMP:20260222T082837Z
TRANSP:TRANSPARENT
DTSTART:20260729T210000Z
DTEND:20260730T205900Z
STATUS:CONFIRMED
SUMMARY:Yaz Tatili İl İçi Mazerete Bağlı Yer Değiştirme - Atama
END:VEVENT
BEGIN:VEVENT
UID:f96f29a4-4bed-4674-8091-08de71e8a9ec
DTSTAMP:20260222T082945Z
TRANSP:TRANSPARENT
DTSTART:20260731T050000Z
DTEND:20260731T140000Z
STATUS:CONFIRMED
SUMMARY:Yaz Tatili İl İçi Mazerete Bağlı Yer Değiştirme - Tebligat
  ve İlişik Kesme
END:VEVENT
BEGIN:VEVENT
UID:1f903e07-167f-4bd7-8092-08de71e8a9ec
DTSTAMP:20260222T083109Z
TRANSP:TRANSPARENT
DTSTART:20260712T210000Z
DTEND:20260724T205900Z
STATUS:CONFIRMED
SUMMARY:Yaz Tatili İller Arası Mazerete Bağlı Yer Değiştirme - 1. A
 şama Başvuru
END:VEVENT
BEGIN:VEVENT
UID:c967932c-d52c-4277-8093-08de71e8a9ec
DTSTAMP:20260222T083305Z
TRANSP:TRANSPARENT
DTSTART:20260803T210000Z
DTEND:20260807T205900Z
STATUS:CONFIRMED
SUMMARY:Yaz Tatili İller Arası Mazerete Bağlı Yer Değiştirme - 2. A
 şama Başvuru
END:VEVENT
BEGIN:VEVENT
UID:0e49e75c-d161-45d3-8094-08de71e8a9ec
DTSTAMP:20260222T083518Z
TRANSP:TRANSPARENT
DTSTART:20260810T210000Z
DTEND:20260811T205900Z
STATUS:CONFIRMED
SUMMARY:Yaz Tatili İller Arası Mazerete Bağlı Yer Değiştirme - Atam
 a
END:VEVENT
BEGIN:VEVENT
UID:b59e8342-0d74-4517-8095-08de71e8a9ec
DTSTAMP:20260222T083606Z
TRANSP:TRANSPARENT
DTSTART:20260812T050000Z
DTEND:20260812T140000Z
STATUS:CONFIRMED
SUMMARY:Yaz Tatili İller Arası Mazerete Bağlı Yer Değiştirme - Tebl
 igat ve İlişik Kesme
END:VEVENT
BEGIN:VEVENT
UID:5cad400d-19d6-4ace-8096-08de71e8a9ec
DTSTAMP:20260222T084013Z
TRANSP:TRANSPARENT
DTSTART:20260812T210000Z
DTEND:20260813T205900Z
STATUS:CONFIRMED
SUMMARY:İl İçi İsteğe Bağlı Yer Değiştirme Sıra Ataması - Sır
 anın Çalıştırılması ve Atama
END:VEVENT
BEGIN:VEVENT
UID:27512f2d-9ef7-403f-8097-08de71e8a9ec
DTSTAMP:20260222T084025Z
TRANSP:TRANSPARENT
DTSTART:20260814T050000Z
DTEND:20260814T140000Z
STATUS:CONFIRMED
SUMMARY:İl İçi İsteğe Bağlı Yer Değiştirme Sıra Ataması - Tebl
 igat ve İlişik Kesme
END:VEVENT
BEGIN:VEVENT
UID:741b9f0c-884a-418e-8098-08de71e8a9ec
DTSTAMP:20260222T084346Z
TRANSP:TRANSPARENT
DTSTART:20260816T210000Z
DTEND:20260819T205900Z
STATUS:CONFIRMED
SUMMARY:Norm Kadro Fazlası Öğretmenlerin Dağılımı - Norm Kadro Faz
 lalarının Belirlenmesi
END:VEVENT
BEGIN:VEVENT
UID:d9829bc8-ac51-4a7d-8099-08de71e8a9ec
DTSTAMP:20260222T084440Z
TRANSP:TRANSPARENT
DTSTART:20260819T210000Z
DTEND:20260821T205900Z
STATUS:CONFIRMED
SUMMARY:Norm Kadro Fazlası Öğretmenlerin Dağılımı - İtiraz
END:VEVENT
BEGIN:VEVENT
UID:c65b4d7c-1263-43f9-809a-08de71e8a9ec
DTSTAMP:20260222T084537Z
TRANSP:TRANSPARENT
DTSTART:20260823T210000Z
DTEND:20260824T205900Z
STATUS:CONFIRMED
SUMMARY:Norm Kadro Fazlası Öğretmenlerin Dağılımı - Kesin Sonuçla
 rın İlanı
END:VEVENT
BEGIN:VEVENT
UID:47cfae75-1ac0-48e6-809b-08de71e8a9ec
DTSTAMP:20260222T084647Z
TRANSP:TRANSPARENT
DTSTART:20260825T210000Z
DTEND:20260828T205900Z
STATUS:CONFIRMED
SUMMARY:Norm Kadro Fazlası Öğretmenlerin Dağılımı - Başvuru
END:VEVENT
BEGIN:VEVENT
UID:d5134c75-61b5-407a-809c-08de71e8a9ec
DTSTAMP:20260222T084822Z
TRANSP:TRANSPARENT
DTSTART:20260830T210000Z
DTEND:20260831T205900Z
STATUS:CONFIRMED
SUMMARY:Norm Kadro Fazlası Öğretmenlerin Dağılımı - Kadrolu ve Sö
 zleşmeli Öğretmenlerin Ataması
END:VEVENT
BEGIN:VEVENT
UID:0e010800-9401-4a1a-809d-08de71e8a9ec
DTSTAMP:20260222T084956Z
TRANSP:TRANSPARENT
DTSTART:20260901T050000Z
DTEND:20260901T140000Z
STATUS:CONFIRMED
SUMMARY:Norm Kadro Fazlası Öğretmenlerin Dağılımı - Tebligat ve İ
 lişik Kesme
END:VEVENT
BEGIN:VEVENT
UID:175f4bbd-f6f8-4a95-809e-08de71e8a9ec
DTSTAMP:20260222T085223Z
TRANSP:TRANSPARENT
DTSTART:20260823T210000Z
DTEND:20260826T205900Z
STATUS:CONFIRMED
SUMMARY:Her İkisi de Sözleşmeli Öğretmen Eşlerin Aile Birliğinden 
 Yer Değiştirmesi - Başvuru
END:VEVENT
BEGIN:VEVENT
UID:ed74aa33-31c5-4c1a-80a0-08de71e8a9ec
DTSTAMP:20260222T085244Z
TRANSP:TRANSPARENT
DTSTART:20260827T210000Z
DTEND:20260828T205900Z
STATUS:CONFIRMED
SUMMARY:Her İkisi de Sözleşmeli Öğretmen Eşlerin Aile Birliğinden 
 Yer Değiştirmesi - Atama
END:VEVENT
BEGIN:VEVENT
UID:b8e9cf47-41bd-4af8-80a1-08de71e8a9ec
DTSTAMP:20260222T085407Z
TRANSP:TRANSPARENT
DTSTART:20260831T050000Z
DTEND:20260831T140000Z
STATUS:CONFIRMED
SUMMARY:Her İkisi de Sözleşmeli Öğretmen Eşlerin Aile Birliğinden 
 Yer Değiştirmesi - Tebligat ve İlişik Kesme
END:VEVENT
END:VCALENDAR
