BEGIN:VCALENDAR
VERSION:2.0
PRODID:itakvim.com
CALSCALE:GREGORIAN
METHOD:PUBLISH
UID:dyios71pzhk
X-WR-CALNAME:Address İstanbul Takvimi
X-ITAKVIM-LANGUAGE:tr
X-ORIGINAL-URL:itakvim.com
REFRESH-INTERVAL;VALUE=DURATION:PT1H
X-ITAKVIM-REGION:TR
X-Robots-Tag:noindex
X-PUBLISHED-TTL:PT1H
BEGIN:VEVENT
UID:f81f7c97-8b15-4cff-597e-08de9f8ee600
DTSTAMP:20260421T101545Z
TRANSP:TRANSPARENT
DTSTART:20260308T060000Z
DTEND:20260308T150000Z
STATUS:CONFIRMED
SUMMARY:İngiltere Eğitim Günleri Fuarı
DESCRIPTION:Edukas Yurtdışı Eğitim Danışmanlık Ticaret Limited Şi
 rketi tarafından düzenlenen ingiltere eğitim kurumları ve kariyer fu
 arı konulu fuarda görüşmek üzere: \n\nWeb:www.educationukdays.com\n
 E-Posta: gozde@edukas.com.tr
LOCATION:Address İstanbul
BEGIN:VALARM
ACTION:DISPLAY
DESCRIPTION:İngiltere Eğitim Günleri Fuarı
TRIGGER:-PT24H
END:VALARM
END:VEVENT
BEGIN:VEVENT
UID:5ec02e7e-c94a-4420-597f-08de9f8ee600
DTSTAMP:20260421T101545Z
TRANSP:TRANSPARENT
DTSTART:20261004T060000Z
DTEND:20261004T150000Z
STATUS:CONFIRMED
SUMMARY:İngiltere Eğitim Günleri Fuarı
DESCRIPTION:Edukas Yurtdışı Eğitim Danışmanlık Ticaret Limited Şi
 rketi tarafından düzenlenen ingiltere eğitim kurumları ve kariyer fu
 arı konulu fuarda görüşmek üzere: \n\nWeb:www.educationukdays.com\n
 E-Posta: gozde@edukas.com.tr
LOCATION:Address İstanbul
BEGIN:VALARM
ACTION:DISPLAY
DESCRIPTION:İngiltere Eğitim Günleri Fuarı
TRIGGER:-PT24H
END:VALARM
END:VEVENT
END:VCALENDAR
