BEGIN:VCALENDAR
VERSION:2.0
PRODID:itakvim.com
CALSCALE:GREGORIAN
METHOD:PUBLISH
UID:e3a719a0nmx
X-WR-CALNAME:İstanbul Bosphorus Hilton Conference Center Takvimi
X-ITAKVIM-LANGUAGE:tr
X-ORIGINAL-URL:itakvim.com
REFRESH-INTERVAL;VALUE=DURATION:PT1H
X-ITAKVIM-REGION:TR
X-Robots-Tag:noindex
X-PUBLISHED-TTL:PT1H
BEGIN:VEVENT
UID:f5c204fa-385b-4ee4-ab71-08de8dc98ad6
DTSTAMP:20260329T193014Z
TRANSP:TRANSPARENT
DTSTART:20260502T060000Z
DTEND:20260503T150000Z
STATUS:CONFIRMED
SUMMARY:18. Gayrimenkul Projeleri Yatırım Fuarı Ve Zirvesi
DESCRIPTION:Jnr Group Fuarcılık Limited Şirketi tarafından düzenlene
 n gayrimenkul-emlak-yatırım konulu fuarda görüşmek üzere: \n\nWeb:
 www.realestatefairturkey.org\nE-Posta: info@jnrorg.com
LOCATION:İstanbul Bosphorus Hilton Conference Center
BEGIN:VALARM
ACTION:DISPLAY
DESCRIPTION:18. Gayrimenkul Projeleri Yatırım Fuarı Ve Zirvesi
TRIGGER:-PT24H
END:VALARM
END:VEVENT
END:VCALENDAR
