BEGIN:VCALENDAR
VERSION:2.0
PRODID:itakvim.com
CALSCALE:GREGORIAN
METHOD:PUBLISH
UID:e4q6u6s5y24
X-WR-CALNAME:Burdur Kapalı Çok Amaçlı Fuar Alanı (Uzay Çatı) Takvimi
X-ITAKVIM-LANGUAGE:tr
X-ORIGINAL-URL:itakvim.com
REFRESH-INTERVAL;VALUE=DURATION:PT1H
X-ITAKVIM-REGION:TR
X-Robots-Tag:noindex
X-PUBLISHED-TTL:PT1H
BEGIN:VEVENT
UID:9e7e44bf-05bb-4b5a-52c8-08de9f183112
DTSTAMP:20260420T200816Z
TRANSP:TRANSPARENT
DTSTART:20260507T060000Z
DTEND:20260510T150000Z
STATUS:CONFIRMED
SUMMARY:Teke Yöresi 11. Canlı Hayvan, Hayvancılık, Tarım Makineleri,
  Teknolojileri Ve Yem Fuarı
DESCRIPTION:Gl Platform Fuar Hizmetleri Limited Şirketi tarafından düz
 enlenen tarım\, hayvancılık ve makine teknolojileri konulu fuarda gö
 rüşmek üzere: \n\nWeb:www.glplatformfuar.com\nE-Posta: info@glplatfor
 mfuar.com
LOCATION:Burdur Kapalı Çok Amaçlı Fuar Alanı (Uzay Çatı)
BEGIN:VALARM
ACTION:DISPLAY
DESCRIPTION:Teke Yöresi 11. Canlı Hayvan, Hayvancılık, Tarım Makinel
 eri, Teknolojileri Ve Yem Fuarı
TRIGGER:-PT24H
END:VALARM
END:VEVENT
END:VCALENDAR
