BEGIN:VCALENDAR
VERSION:2.0
PRODID:itakvim.com
CALSCALE:GREGORIAN
METHOD:PUBLISH
UID:e9trrygiem3
X-WR-CALNAME:Antalya Konyaaltı Belediyesi Nazım Hikmet Kongre Ve Fuar Merkezi Konyaaltı Takvimi
X-ITAKVIM-LANGUAGE:tr
X-ORIGINAL-URL:itakvim.com
REFRESH-INTERVAL;VALUE=DURATION:PT1H
X-ITAKVIM-REGION:TR
X-Robots-Tag:noindex
X-PUBLISHED-TTL:PT1H
BEGIN:VEVENT
UID:a90cef4f-17ef-4ce4-9bd0-08de73a85838
DTSTAMP:20260224T132721Z
TRANSP:TRANSPARENT
DTSTART:20260415T060000Z
DTEND:20260417T150000Z
STATUS:CONFIRMED
SUMMARY:Tarım Kimyasalları Ve Gübre Fuarı Antalya
DESCRIPTION:1) B2b Faırs Fuarcılık Ticaret Limited Şirketi 2) Dlg Fua
 rcılık Ltd. Şti. tarafından düzenlenen bitki besleme\, bitki koruma
  ve tarımsal gübre ürünlerinin tanıtılması konulu fuarda görüş
 mek üzere: \n\nWeb:www.b2b-fairs.com\nE-Posta: info@b2b-fairs.com
LOCATION:Konyaaltı Belediyesi Nazım Hikmet Kongre Ve Fuar Merkezi Konyaaltı
END:VEVENT
END:VCALENDAR
