BEGIN:VCALENDAR
VERSION:2.0
PRODID:itakvim.com
CALSCALE:GREGORIAN
METHOD:PUBLISH
UID:ec3g3127by7
X-WR-CALNAME:Kurumlar Vergisi
X-ITAKVIM-LANGUAGE:tr
X-ORIGINAL-URL:itakvim.com
REFRESH-INTERVAL;VALUE=DURATION:PT1H
X-ITAKVIM-REGION:TR
X-Robots-Tag:noindex
X-PUBLISHED-TTL:PT1H
BEGIN:VEVENT
UID:1518467f-6b1f-410e-d2cf-08de9f271cd7
DTSTAMP:20260420T215235Z
TRANSP:TRANSPARENT
DTSTART:20260401T060000Z
DTEND:20260401T060000Z
STATUS:CONFIRMED
SUMMARY:2025 Yılına İlişkin Kurumlar Vergisinin Beyanı ve Ödemesi B
 aşlangıç
DESCRIPTION:2025 Yılı Kurumlar Vergisi Beyan ve Ödemesi
BEGIN:VALARM
ACTION:DISPLAY
DESCRIPTION:2025 Yılına İlişkin Kurumlar Vergisinin Beyanı ve Ödeme
 si Başlangıç
TRIGGER:PT0S
END:VALARM
END:VEVENT
BEGIN:VEVENT
UID:d22e383a-a9fb-401d-d2d0-08de9f271cd7
DTSTAMP:20260420T215235Z
TRANSP:TRANSPARENT
DTSTART:20260430T140000Z
DTEND:20260430T140000Z
STATUS:CONFIRMED
SUMMARY:2025 Yılı Kurumlar Vergisi Beyan ve Ödemesi Son Gün
DESCRIPTION:2025 Yılına İlişkin Kurumlar Vergisinin Beyanı ve Ödeme
 si
BEGIN:VALARM
ACTION:DISPLAY
DESCRIPTION:2025 Yılı Kurumlar Vergisi Beyan ve Ödemesi Son Gün
TRIGGER:-PT8H
END:VALARM
END:VEVENT
BEGIN:VEVENT
UID:bd9a7712-b9f7-428e-d2d1-08de9f271cd7
DTSTAMP:20260420T215235Z
TRANSP:TRANSPARENT
DTSTART:20260101T060000Z
DTEND:20260101T060000Z
STATUS:CONFIRMED
SUMMARY:2025 Yılı Ülke Bazlı Raporlamaya İlişkin Bildirim Formu (Ek
 -5) Başlangıç
DESCRIPTION:2025 Yılı Ülke Bazlı Raporlamaya İlişkin Bildirim Formu
BEGIN:VALARM
ACTION:DISPLAY
DESCRIPTION:2025 Yılı Ülke Bazlı Raporlamaya İlişkin Bildirim Formu
  (Ek-5) Başlangıç
TRIGGER:PT0S
END:VALARM
END:VEVENT
BEGIN:VEVENT
UID:9133fb2b-6e1b-4661-d2d2-08de9f271cd7
DTSTAMP:20260420T215235Z
TRANSP:TRANSPARENT
DTSTART:20260630T140000Z
DTEND:20260630T140000Z
STATUS:CONFIRMED
SUMMARY:2025 Yılı Ülke Bazlı Raporlamaya İlişkin Bildirim Formu Son
  Gün
DESCRIPTION:2025 Yılı Ülke Bazlı Raporlamaya İlişkin Bildirim Formu
  (Ek-5)
BEGIN:VALARM
ACTION:DISPLAY
DESCRIPTION:2025 Yılı Ülke Bazlı Raporlamaya İlişkin Bildirim Formu
  Son Gün
TRIGGER:-PT8H
END:VALARM
END:VEVENT
END:VCALENDAR
