BEGIN:VCALENDAR
VERSION:2.0
PRODID:itakvim.com
CALSCALE:GREGORIAN
METHOD:PUBLISH
UID:et5980evnj9
X-WR-CALNAME:Kaynak Kullanımını Destekleme Fonu
X-ITAKVIM-LANGUAGE:tr
X-ORIGINAL-URL:itakvim.com
REFRESH-INTERVAL;VALUE=DURATION:PT1H
X-ITAKVIM-REGION:TR
X-Robots-Tag:noindex
X-PUBLISHED-TTL:PT1H
BEGIN:VEVENT
UID:ec0f770e-1412-44e0-de76-08de9748e6b5
DTSTAMP:20260414T210018Z
TRANSP:TRANSPARENT
DTSTART:20260401T060000Z
DTEND:20260401T060000Z
STATUS:CONFIRMED
SUMMARY:Mart 2026 Dönemine Ait Kaynak Kullanımını Destekleme Fonu Kes
 intisi Bildirimi ve Ödemesi Başlangıç
DESCRIPTION:Mart 2026 Dönemi Kaynak Kullanımını Destekleme Fonu Bildi
 rim ve Ödemesi
BEGIN:VALARM
ACTION:DISPLAY
DESCRIPTION:Mart 2026 Dönemine Ait Kaynak Kullanımını Destekleme Fonu
  Kesintisi Bildirimi ve Ödemesi Başlangıç
TRIGGER:PT0S
END:VALARM
END:VEVENT
BEGIN:VEVENT
UID:8c0279bd-36bd-4688-de77-08de9748e6b5
DTSTAMP:20260414T210018Z
TRANSP:TRANSPARENT
DTSTART:20260415T140000Z
DTEND:20260415T140000Z
STATUS:CONFIRMED
SUMMARY:Mart 2026 Dönemi Kaynak Kullanımını Destekleme Fonu Bildirim 
 ve Ödemesi Son Gün
DESCRIPTION:Mart 2026 Dönemine Ait Kaynak Kullanımını Destekleme Fonu
  Kesintisi Bildirimi ve Ödemesi
BEGIN:VALARM
ACTION:DISPLAY
DESCRIPTION:Mart 2026 Dönemi Kaynak Kullanımını Destekleme Fonu Bildi
 rim ve Ödemesi Son Gün
TRIGGER:-PT8H
END:VALARM
END:VEVENT
BEGIN:VEVENT
UID:9758742d-debe-4248-de78-08de9748e6b5
DTSTAMP:20260414T210018Z
TRANSP:TRANSPARENT
DTSTART:20260401T060000Z
DTEND:20260401T060000Z
STATUS:CONFIRMED
SUMMARY:Mart 2026 Dönemine Ait Kaynak Kullanımını Destekleme Fonu Kes
 intisi Bildirimi ve Ödemesi Başlangıç
DESCRIPTION:Mart 2026 Dönemi Kaynak Kullanımını Destekleme Fonu Bildi
 rim ve Ödemesi
BEGIN:VALARM
ACTION:DISPLAY
DESCRIPTION:Mart 2026 Dönemine Ait Kaynak Kullanımını Destekleme Fonu
  Kesintisi Bildirimi ve Ödemesi Başlangıç
TRIGGER:PT0S
END:VALARM
END:VEVENT
BEGIN:VEVENT
UID:25302216-0754-40ee-de79-08de9748e6b5
DTSTAMP:20260414T210018Z
TRANSP:TRANSPARENT
DTSTART:20260415T140000Z
DTEND:20260415T140000Z
STATUS:CONFIRMED
SUMMARY:Mart 2026 Dönemi Kaynak Kullanımını Destekleme Fonu Bildirim 
 ve Ödemesi Son Gün
DESCRIPTION:Mart 2026 Dönemine Ait Kaynak Kullanımını Destekleme Fonu
  Kesintisi Bildirimi ve Ödemesi
BEGIN:VALARM
ACTION:DISPLAY
DESCRIPTION:Mart 2026 Dönemi Kaynak Kullanımını Destekleme Fonu Bildi
 rim ve Ödemesi Son Gün
TRIGGER:-PT8H
END:VALARM
END:VEVENT
END:VCALENDAR
