BEGIN:VCALENDAR
VERSION:2.0
PRODID:itakvim.com
CALSCALE:GREGORIAN
METHOD:PUBLISH
UID:ey5pm0zbknn
X-WR-CALNAME:Harçlar Kanunu
X-ITAKVIM-LANGUAGE:tr
X-ORIGINAL-URL:itakvim.com
REFRESH-INTERVAL;VALUE=DURATION:PT1H
X-ITAKVIM-REGION:TR
X-Robots-Tag:noindex
X-PUBLISHED-TTL:PT1H
BEGIN:VEVENT
UID:f705cc70-a020-41ed-d2d3-08de9f271cd7
DTSTAMP:20260420T215235Z
TRANSP:TRANSPARENT
DTSTART:20260401T060000Z
DTEND:20260401T060000Z
STATUS:CONFIRMED
SUMMARY:Denetim Kuruluşları Yetkilendirme Belgesi Yıllık Harç Bildir
 imi Verilmesi Başlangıç
DESCRIPTION:2026 Yılı Yıllık Harç Bildirimi
BEGIN:VALARM
ACTION:DISPLAY
DESCRIPTION:Denetim Kuruluşları Yetkilendirme Belgesi Yıllık Harç Bi
 ldirimi Verilmesi Başlangıç
TRIGGER:PT0S
END:VALARM
END:VEVENT
BEGIN:VEVENT
UID:8aee6a86-8945-47e3-d2d4-08de9f271cd7
DTSTAMP:20260420T215235Z
TRANSP:TRANSPARENT
DTSTART:20260430T140000Z
DTEND:20260430T140000Z
STATUS:CONFIRMED
SUMMARY:2026 Yılı Yıllık Harç Bildirimi Son Gün
DESCRIPTION:Denetim Kuruluşları Yetkilendirme Belgesi Yıllık Harç Bi
 ldirimi Verilmesi
BEGIN:VALARM
ACTION:DISPLAY
DESCRIPTION:2026 Yılı Yıllık Harç Bildirimi Son Gün
TRIGGER:-PT8H
END:VALARM
END:VEVENT
BEGIN:VEVENT
UID:8f48c626-18f9-447b-d2d5-08de9f271cd7
DTSTAMP:20260420T215235Z
TRANSP:TRANSPARENT
DTSTART:20260401T060000Z
DTEND:20260401T060000Z
STATUS:CONFIRMED
SUMMARY:Elektrik Üretimi Lisans Harçları Yıllık Harç Bildirimi Veri
 lmesi Başlangıç
DESCRIPTION:2026 Yılı Yıllık Harç Bildirimi
BEGIN:VALARM
ACTION:DISPLAY
DESCRIPTION:Elektrik Üretimi Lisans Harçları Yıllık Harç Bildirimi 
 Verilmesi Başlangıç
TRIGGER:PT0S
END:VALARM
END:VEVENT
BEGIN:VEVENT
UID:2d79e86b-de87-417c-d2d6-08de9f271cd7
DTSTAMP:20260420T215235Z
TRANSP:TRANSPARENT
DTSTART:20260430T140000Z
DTEND:20260430T140000Z
STATUS:CONFIRMED
SUMMARY:2026 Yılı Yıllık Harç Bildirimi Son Gün
DESCRIPTION:Elektrik Üretimi Lisans Harçları Yıllık Harç Bildirimi 
 Verilmesi
BEGIN:VALARM
ACTION:DISPLAY
DESCRIPTION:2026 Yılı Yıllık Harç Bildirimi Son Gün
TRIGGER:-PT8H
END:VALARM
END:VEVENT
END:VCALENDAR
