BEGIN:VCALENDAR
VERSION:2.0
PRODID:itakvim.com
CALSCALE:GREGORIAN
METHOD:PUBLISH
UID:vx0ognebpjh
X-WR-CALNAME:MTV Ödeme Takvimi
X-ITAKVIM-LANGUAGE:tr
X-ORIGINAL-URL:itakvim.com
REFRESH-INTERVAL;VALUE=DURATION:PT1H
X-ITAKVIM-REGION:TR
X-Robots-Tag:noindex
X-PUBLISHED-TTL:PT1H
BEGIN:VEVENT
UID:38e704fa-7b2e-4d66-94a8-c044410f0f15
DTSTAMP:20260421T060626Z
TRANSP:TRANSPARENT
DTSTART:20260202T090000Z
DTEND:20260202T090000Z
STATUS:CONFIRMED
SUMMARY:2026 Yılı 1. Taksiti Ödeme Son Günü
BEGIN:VALARM
ACTION:DISPLAY
DESCRIPTION:2026 Yılı 1. Taksiti Ödeme Son Günü
TRIGGER:PT0S
END:VALARM
END:VEVENT
BEGIN:VEVENT
UID:ebeffa16-b7d4-48d0-be80-4c996db0ddee
DTSTAMP:20260421T060626Z
TRANSP:TRANSPARENT
DTSTART:20260731T090000Z
DTEND:20260731T090000Z
STATUS:CONFIRMED
SUMMARY:2026 Yılı 2. Taksiti Ödeme Son Günü
BEGIN:VALARM
ACTION:DISPLAY
DESCRIPTION:2026 Yılı 2. Taksiti Ödeme Son Günü
TRIGGER:PT0S
END:VALARM
END:VEVENT
END:VCALENDAR
