BEGIN:VCALENDAR
VERSION:2.0
PRODID:itakvim.com
CALSCALE:GREGORIAN
METHOD:PUBLISH
UID:b1jm2vn1v68
X-WR-CALNAME:Emlak Vergisi Ödeme Takvimi
X-ITAKVIM-LANGUAGE:tr
X-ORIGINAL-URL:itakvim.com
REFRESH-INTERVAL;VALUE=DURATION:PT1H
X-ITAKVIM-REGION:TR
X-Robots-Tag:noindex
X-PUBLISHED-TTL:PT1H
BEGIN:VEVENT
UID:ded1acde-9102-4efa-8c91-697dae32a6d8
DTSTAMP:20260421T060419Z
TRANSP:TRANSPARENT
DTSTART:20260601T090000Z
DTEND:20260601T090000Z
STATUS:CONFIRMED
SUMMARY:2026 Yılı 1. Taksiti Ödeme Son Günü
BEGIN:VALARM
ACTION:DISPLAY
DESCRIPTION:2026 Yılı 1. Taksiti Ödeme Son Günü
TRIGGER:PT0S
END:VALARM
END:VEVENT
BEGIN:VEVENT
UID:f6279325-c184-4f96-af33-5aa431ae3cc2
DTSTAMP:20260421T060419Z
TRANSP:TRANSPARENT
DTSTART:20261130T090000Z
DTEND:20261130T090000Z
STATUS:CONFIRMED
SUMMARY:2026 Yılı 2. Taksiti Ödeme Son Günü
BEGIN:VALARM
ACTION:DISPLAY
DESCRIPTION:2026 Yılı 2. Taksiti Ödeme Son Günü
TRIGGER:PT0S
END:VALARM
END:VEVENT
END:VCALENDAR
