BEGIN:VCALENDAR
VERSION:2.0
PRODID:itakvim.com
CALSCALE:GREGORIAN
METHOD:PUBLISH
UID:f44boanbo7s
X-WR-CALNAME:GUY Sınav Takvimi
X-ITAKVIM-LANGUAGE:tr
X-ORIGINAL-URL:itakvim.com
REFRESH-INTERVAL;VALUE=DURATION:PT1H
X-ITAKVIM-REGION:TR
X-Robots-Tag:noindex
X-PUBLISHED-TTL:PT1H
BEGIN:VEVENT
UID:d9e1afd1-28d7-4d23-5748-08de9f8ee600
DTSTAMP:20260421T101525Z
TRANSP:TRANSPARENT
DTSTART:20260306T210000Z
DTEND:20260306T210000Z
STATUS:CONFIRMED
SUMMARY:GUY Gelir İdaresi Başkanlığı Gelir Uzman Yardımcılığı G
 iriş Sınavı 2026-GUY (ÖN BAŞVURU) Sınav
END:VEVENT
BEGIN:VEVENT
UID:7d493e49-2da2-4a90-5749-08de9f8ee600
DTSTAMP:20260421T101525Z
TRANSP:TRANSPARENT
DTSTART:20260114T070000Z
DTEND:20260114T070000Z
STATUS:CONFIRMED
SUMMARY:GUY Gelir İdaresi Başkanlığı Gelir Uzman Yardımcılığı G
 iriş Sınavı 2026-GUY (ÖN BAŞVURU) Başvuru Başlangıç
END:VEVENT
BEGIN:VEVENT
UID:cd588e79-4b03-49f5-574a-08de9f8ee600
DTSTAMP:20260421T101525Z
TRANSP:TRANSPARENT
DTSTART:20260121T205900Z
DTEND:20260121T205900Z
STATUS:CONFIRMED
SUMMARY:GUY Gelir İdaresi Başkanlığı Gelir Uzman Yardımcılığı G
 iriş Sınavı 2026-GUY (ÖN BAŞVURU) Başvuru Bitiş
END:VEVENT
BEGIN:VEVENT
UID:1721deef-ebd3-4e2e-574b-08de9f8ee600
DTSTAMP:20260421T101525Z
TRANSP:TRANSPARENT
DTSTART:20260129T210000Z
DTEND:20260129T210000Z
STATUS:CONFIRMED
SUMMARY:GUY Gelir İdaresi Başkanlığı Gelir Uzman Yardımcılığı G
 iriş Sınavı 2026-GUY (ÖN BAŞVURU) Sonuç
END:VEVENT
BEGIN:VEVENT
UID:7ccc3a11-38f1-47be-574c-08de9f8ee600
DTSTAMP:20260421T101525Z
TRANSP:TRANSPARENT
DTSTART:20260201T210000Z
DTEND:20260201T210000Z
STATUS:CONFIRMED
SUMMARY:GUY Gelir İdaresi Başkanlığı Gelir Uzman Yardımcılığı G
 iriş Sınavı 2026-GUY Başvuru Başlangıç
END:VEVENT
BEGIN:VEVENT
UID:6cf228dd-eb00-4a4c-574d-08de9f8ee600
DTSTAMP:20260421T101525Z
TRANSP:TRANSPARENT
DTSTART:20260204T210000Z
DTEND:20260204T210000Z
STATUS:CONFIRMED
SUMMARY:GUY Gelir İdaresi Başkanlığı Gelir Uzman Yardımcılığı G
 iriş Sınavı 2026-GUY Başvuru Bitiş
END:VEVENT
BEGIN:VEVENT
UID:56c000c5-eb2a-4779-574e-08de9f8ee600
DTSTAMP:20260421T101525Z
TRANSP:TRANSPARENT
DTSTART:20260209T210000Z
DTEND:20260209T210000Z
STATUS:CONFIRMED
SUMMARY:GUY Gelir İdaresi Başkanlığı Gelir Uzman Yardımcılığı G
 iriş Sınavı 2026-GUY Geç Başvuru Başlangıç
END:VEVENT
BEGIN:VEVENT
UID:7efc49c5-0733-4b46-574f-08de9f8ee600
DTSTAMP:20260421T101525Z
TRANSP:TRANSPARENT
DTSTART:20260210T205900Z
DTEND:20260210T205900Z
STATUS:CONFIRMED
SUMMARY:GUY Gelir İdaresi Başkanlığı Gelir Uzman Yardımcılığı G
 iriş Sınavı 2026-GUY Geç Başvuru Bitiş
END:VEVENT
BEGIN:VEVENT
UID:afe6aab2-4812-4dfb-5750-08de9f8ee600
DTSTAMP:20260421T101525Z
TRANSP:TRANSPARENT
DTSTART:20260326T210000Z
DTEND:20260326T210000Z
STATUS:CONFIRMED
SUMMARY:GUY Gelir İdaresi Başkanlığı Gelir Uzman Yardımcılığı G
 iriş Sınavı 2026-GUY Sonuç
END:VEVENT
END:VCALENDAR
