BEGIN:VCALENDAR
VERSION:2.0
PRODID:itakvim.com
CALSCALE:GREGORIAN
METHOD:PUBLISH
UID:f4cypenvyk1
X-WR-CALNAME:YDUS Sınav Takvimi
X-ITAKVIM-LANGUAGE:tr
X-ORIGINAL-URL:itakvim.com
REFRESH-INTERVAL;VALUE=DURATION:PT1H
X-ITAKVIM-REGION:TR
X-Robots-Tag:noindex
X-PUBLISHED-TTL:PT1H
BEGIN:VEVENT
UID:8839cbcb-ed9b-48bb-4f4c-08de9f183112
DTSTAMP:20260420T200538Z
TRANSP:TRANSPARENT
DTSTART:20260501T210000Z
DTEND:20260501T210000Z
STATUS:CONFIRMED
SUMMARY:YDUS Tıpta Yan Dal Uzmanlık Eğitimi Giriş Sınavı 2026-YDUS 
 Sınav
END:VEVENT
BEGIN:VEVENT
UID:dff4c1df-2c33-4c18-4f4d-08de9f183112
DTSTAMP:20260420T200538Z
TRANSP:TRANSPARENT
DTSTART:20260313T073000Z
DTEND:20260313T073000Z
STATUS:CONFIRMED
SUMMARY:YDUS Tıpta Yan Dal Uzmanlık Eğitimi Giriş Sınavı 2026-YDUS 
 Başvuru Başlangıç
END:VEVENT
BEGIN:VEVENT
UID:febe8a93-132c-4841-4f4e-08de9f183112
DTSTAMP:20260420T200538Z
TRANSP:TRANSPARENT
DTSTART:20260323T205900Z
DTEND:20260323T205900Z
STATUS:CONFIRMED
SUMMARY:YDUS Tıpta Yan Dal Uzmanlık Eğitimi Giriş Sınavı 2026-YDUS 
 Başvuru Bitiş
END:VEVENT
BEGIN:VEVENT
UID:d816afa1-e388-4a7e-4f4f-08de9f183112
DTSTAMP:20260420T200538Z
TRANSP:TRANSPARENT
DTSTART:20260401T210000Z
DTEND:20260401T210000Z
STATUS:CONFIRMED
SUMMARY:YDUS Tıpta Yan Dal Uzmanlık Eğitimi Giriş Sınavı 2026-YDUS 
 Geç Başvuru Başlangıç
END:VEVENT
BEGIN:VEVENT
UID:bd2eb577-0360-41a0-4f50-08de9f183112
DTSTAMP:20260420T200538Z
TRANSP:TRANSPARENT
DTSTART:20260402T205900Z
DTEND:20260402T205900Z
STATUS:CONFIRMED
SUMMARY:YDUS Tıpta Yan Dal Uzmanlık Eğitimi Giriş Sınavı 2026-YDUS 
 Geç Başvuru Bitiş
END:VEVENT
BEGIN:VEVENT
UID:874434e0-c928-4985-4f51-08de9f183112
DTSTAMP:20260420T200538Z
TRANSP:TRANSPARENT
DTSTART:20260603T210000Z
DTEND:20260603T210000Z
STATUS:CONFIRMED
SUMMARY:YDUS Tıpta Yan Dal Uzmanlık Eğitimi Giriş Sınavı 2026-YDUS 
 Sonuç
END:VEVENT
END:VCALENDAR
