BEGIN:VCALENDAR
VERSION:2.0
PRODID:itakvim.com
CALSCALE:GREGORIAN
METHOD:PUBLISH
UID:f4ft6u82jyp
X-WR-CALNAME:Emlak Vergisi
X-ITAKVIM-LANGUAGE:tr
X-ORIGINAL-URL:itakvim.com
REFRESH-INTERVAL;VALUE=DURATION:PT1H
X-ITAKVIM-REGION:TR
X-Robots-Tag:noindex
X-PUBLISHED-TTL:PT1H
BEGIN:VEVENT
UID:685c3dd5-3758-4184-d2d7-08de9f271cd7
DTSTAMP:20260420T215235Z
TRANSP:TRANSPARENT
DTSTART:20260301T060000Z
DTEND:20260301T060000Z
STATUS:CONFIRMED
SUMMARY:2026 Yılı Emlak Vergisinin 1. Taksit Ödemesi Başlangıç
DESCRIPTION:2026 Yılı 1. Taksit Emlak Vergisinin Taksit Ödemesi
BEGIN:VALARM
ACTION:DISPLAY
DESCRIPTION:2026 Yılı Emlak Vergisinin 1. Taksit Ödemesi Başlangıç
TRIGGER:PT0S
END:VALARM
END:VEVENT
BEGIN:VEVENT
UID:54722e2c-ac90-4f0e-d2d8-08de9f271cd7
DTSTAMP:20260420T215235Z
TRANSP:TRANSPARENT
DTSTART:20260601T140000Z
DTEND:20260601T140000Z
STATUS:CONFIRMED
SUMMARY:2026 Yılı 1. Taksit Emlak Vergisinin Taksit Ödemesi Son Gün
DESCRIPTION:2026 Yılı Emlak Vergisinin 1. Taksit Ödemesi
BEGIN:VALARM
ACTION:DISPLAY
DESCRIPTION:2026 Yılı 1. Taksit Emlak Vergisinin Taksit Ödemesi Son G
 ün
TRIGGER:-PT8H
END:VALARM
END:VEVENT
END:VCALENDAR
