BEGIN:VCALENDAR
VERSION:2.0
PRODID:itakvim.com
CALSCALE:GREGORIAN
METHOD:PUBLISH
UID:fd37q1inve4
X-WR-CALNAME:Diyarbakır Mezopotamya Uluslararası Fuar Ve Kongre Merkezi Takvimi
X-ITAKVIM-LANGUAGE:tr
X-ORIGINAL-URL:itakvim.com
REFRESH-INTERVAL;VALUE=DURATION:PT1H
X-ITAKVIM-REGION:TR
X-Robots-Tag:noindex
X-PUBLISHED-TTL:PT1H
BEGIN:VEVENT
UID:aec32358-1b5e-47ad-52c9-08de9f183112
DTSTAMP:20260420T200816Z
TRANSP:TRANSPARENT
DTSTART:20260421T060000Z
DTEND:20260425T150000Z
STATUS:CONFIRMED
SUMMARY:Mezopotamya Tarım Hayvancılık Fuarı
DESCRIPTION:Diyarbakır Fuarcılık Ve Ticaret Anonim Şirketi tarafında
 n düzenlenen tarım\, hayvancılık\,tavukçuluk\, süt endüstrisi\, v
 eterinerlik konulu fuarda görüşmek üzere: \n\nWeb:www.mezopotamyafua
 rcilik.com\nE-Posta: bilgi@dtso.org.tr
LOCATION:Mezopotamya Uluslararası Fuar Ve Kongre Merkezi
BEGIN:VALARM
ACTION:DISPLAY
DESCRIPTION:Mezopotamya Tarım Hayvancılık Fuarı
TRIGGER:-PT24H
END:VALARM
END:VEVENT
BEGIN:VEVENT
UID:6e85ae73-c66a-4357-52ca-08de9f183112
DTSTAMP:20260420T200816Z
TRANSP:TRANSPARENT
DTSTART:20260926T060000Z
DTEND:20261004T150000Z
STATUS:CONFIRMED
SUMMARY:Diyarbakır 10. Kitap Fuarı
DESCRIPTION:Tüyap Tüm Fuarcılık Yapım Anonim Şirketi tarafından d
 üzenlenen kitap ve süreli yayınlar konulu fuarda görüşmek üzere: 
 \n\nWeb:www.tuyap.com.tr\nE-Posta: tuyap@tuyap.com.tr
LOCATION:Mezopotamya Uluslararası Fuar Ve Kongre Merkezi
BEGIN:VALARM
ACTION:DISPLAY
DESCRIPTION:Diyarbakır 10. Kitap Fuarı
TRIGGER:-PT24H
END:VALARM
END:VEVENT
BEGIN:VEVENT
UID:27738789-4f71-4248-52cb-08de9f183112
DTSTAMP:20260420T200816Z
TRANSP:TRANSPARENT
DTSTART:20261117T060000Z
DTEND:20261122T150000Z
STATUS:CONFIRMED
SUMMARY:Mezopotamya Gurme Ve Yöresel Lezzetler Fuarı
DESCRIPTION:Diyarbakır Fuarcılık Ve Ticaret Anonim Şirketi tarafında
 n düzenlenen gıda\, İçecek\, yöresel ürünler\, gıda teknolojiler
 i konulu fuarda görüşmek üzere: \n\nWeb:www.mezopotamyafuarcilik.com
 \nE-Posta: bilgi@dtso.org.tr
LOCATION:Mezopotamya Uluslararası Fuar Ve Kongre Merkezi
BEGIN:VALARM
ACTION:DISPLAY
DESCRIPTION:Mezopotamya Gurme Ve Yöresel Lezzetler Fuarı
TRIGGER:-PT24H
END:VALARM
END:VEVENT
END:VCALENDAR
