BEGIN:VCALENDAR
VERSION:2.0
PRODID:itakvim.com
CALSCALE:GREGORIAN
METHOD:PUBLISH
UID:felf1jxdrx7
X-WR-CALNAME:Galatasaray A.Ş.
X-ITAKVIM-LANGUAGE:tr
X-ORIGINAL-URL:itakvim.com
REFRESH-INTERVAL;VALUE=DURATION:PT1H
X-ITAKVIM-REGION:TR
X-Robots-Tag:noindex
X-PUBLISHED-TTL:PT1H
BEGIN:VEVENT
UID:bd1c81ab-7da0-491e-dd3c-08de9c03c470
DTSTAMP:20260416T220746Z
TRANSP:TRANSPARENT
DTSTART:20260418T170000Z
DTEND:20260418T170000Z
STATUS:CONFIRMED
SUMMARY:NATURA DÜNYASI GENÇLERBİRLİĞİ - GALATASARAY A.Ş.
LOCATION:ERYAMAN STADYUMU - ANKARA
BEGIN:VALARM
ACTION:DISPLAY
DESCRIPTION:NATURA DÜNYASI GENÇLERBİRLİĞİ - GALATASARAY A.Ş.
TRIGGER:PT0S
END:VALARM
END:VEVENT
BEGIN:VEVENT
UID:42c054c6-8326-4ef7-dd3d-08de9c03c470
DTSTAMP:20260416T220746Z
TRANSP:TRANSPARENT
DTSTART:20260426T170000Z
DTEND:20260426T170000Z
STATUS:CONFIRMED
SUMMARY:GALATASARAY A.Ş. - FENERBAHÇE A.Ş.
LOCATION:ALİ SAMİ YEN SPOR KOMPLEKSİ RAMS PARK - İSTANBUL
BEGIN:VALARM
ACTION:DISPLAY
DESCRIPTION:GALATASARAY A.Ş. - FENERBAHÇE A.Ş.
TRIGGER:PT0S
END:VALARM
END:VEVENT
BEGIN:VEVENT
UID:cc599c40-9618-4888-dd3e-08de9c03c470
DTSTAMP:20260416T220746Z
TRANSP:TRANSPARENT
DTSTART:20260502T210000Z
DTEND:20260502T210000Z
STATUS:CONFIRMED
SUMMARY:SAMSUNSPOR A.Ş. - GALATASARAY A.Ş.
LOCATION:SAMSUN YENİ 19 MAYIS - SAMSUN
BEGIN:VALARM
ACTION:DISPLAY
DESCRIPTION:SAMSUNSPOR A.Ş. - GALATASARAY A.Ş.
TRIGGER:PT0S
END:VALARM
END:VEVENT
BEGIN:VEVENT
UID:86c3a2b0-3b71-48ba-dd3f-08de9c03c470
DTSTAMP:20260416T220746Z
TRANSP:TRANSPARENT
DTSTART:20260509T210000Z
DTEND:20260509T210000Z
STATUS:CONFIRMED
SUMMARY:GALATASARAY A.Ş. - HESAP.COM ANTALYASPOR
LOCATION:ALİ SAMİ YEN SPOR KOMPLEKSİ RAMS PARK - İSTANBUL
BEGIN:VALARM
ACTION:DISPLAY
DESCRIPTION:GALATASARAY A.Ş. - HESAP.COM ANTALYASPOR
TRIGGER:PT0S
END:VALARM
END:VEVENT
BEGIN:VEVENT
UID:735e484f-c906-4777-dd40-08de9c03c470
DTSTAMP:20260416T220746Z
TRANSP:TRANSPARENT
DTSTART:20260516T210000Z
DTEND:20260516T210000Z
STATUS:CONFIRMED
SUMMARY:KASIMPAŞA A.Ş. - GALATASARAY A.Ş.
LOCATION:RECEP TAYYİP ERDOĞAN STADYUMU
BEGIN:VALARM
ACTION:DISPLAY
DESCRIPTION:KASIMPAŞA A.Ş. - GALATASARAY A.Ş.
TRIGGER:PT0S
END:VALARM
END:VEVENT
END:VCALENDAR
