BEGIN:VCALENDAR
VERSION:2.0
PRODID:itakvim.com
CALSCALE:GREGORIAN
METHOD:PUBLISH
UID:fms0a4r3osb
X-WR-CALNAME:Eskişehir Eto-Tüyap Fuar Merkezi Takvimi
X-ITAKVIM-LANGUAGE:tr
X-ORIGINAL-URL:itakvim.com
REFRESH-INTERVAL;VALUE=DURATION:PT1H
X-ITAKVIM-REGION:TR
X-Robots-Tag:noindex
X-PUBLISHED-TTL:PT1H
BEGIN:VEVENT
UID:29caca3c-1402-406a-5988-08de9f8ee600
DTSTAMP:20260421T101545Z
TRANSP:TRANSPARENT
DTSTART:20260211T060000Z
DTEND:20260215T150000Z
STATUS:CONFIRMED
SUMMARY:Caravan Life Expo Iı. Eskişehir Kamp Karavan Ve Doğa Sporları
  Fuarı
DESCRIPTION:Anadolu Ekspo Fuar Ticaret Limited Şirketi tarafından düze
 nlenen karavan ve kavan ekipmanları konulu fuarda görüşmek üzere: \
 n\nWeb:www.anadoluexpo.com\nE-Posta: anadolu@anadoluekspo.com
LOCATION:Eto-Tüyap Fuar Merkezi
BEGIN:VALARM
ACTION:DISPLAY
DESCRIPTION:Caravan Life Expo Iı. Eskişehir Kamp Karavan Ve Doğa Sporl
 arı Fuarı
TRIGGER:-PT24H
END:VALARM
END:VEVENT
BEGIN:VEVENT
UID:f436e486-30f8-47be-5989-08de9f8ee600
DTSTAMP:20260421T101545Z
TRANSP:TRANSPARENT
DTSTART:20260509T060000Z
DTEND:20260517T150000Z
STATUS:CONFIRMED
SUMMARY:Eskişehir 5. Kitap Fuarı
DESCRIPTION:Tüyap Tüm Fuarcılık Yapım Anonim Şirketi tarafından d
 üzenlenen kitap\, süreli yayın\, gazete ve dergi yayıncılığı\, m
 edya kuruluşları\, sivil toplum kuruluşları\,  yerel yönetimler kon
 ulu fuarda görüşmek üzere: \n\nWeb:www.tuyap.com.tr\nE-Posta: tuyap@
 tuyap.com.tr
LOCATION:Eto-Tüyap Fuar Merkezi
BEGIN:VALARM
ACTION:DISPLAY
DESCRIPTION:Eskişehir 5. Kitap Fuarı
TRIGGER:-PT24H
END:VALARM
END:VEVENT
BEGIN:VEVENT
UID:fc0719c1-d1ca-4dbb-598a-08de9f8ee600
DTSTAMP:20260421T101545Z
TRANSP:TRANSPARENT
DTSTART:20260908T060000Z
DTEND:20260912T150000Z
STATUS:CONFIRMED
SUMMARY:Eskişehir Tarım Fuarı  7. Tarım, Hayvancılık Ve Teknolojile
 ri Fuarı
DESCRIPTION:Tüyap Tüm Fuarcılık Yapım A.Ş tarafından düzenlenen t
 arım\, hayvancılık ve teknolojileri\, tarımsal mekanizasyon konulu f
 uarda görüşmek üzere: \n\nWeb:www.tuyap.com.tr\nE-Posta: tuyap@tuyap
 .com.tr
LOCATION:Eto-Tüyap Fuar Merkezi
BEGIN:VALARM
ACTION:DISPLAY
DESCRIPTION:Eskişehir Tarım Fuarı  7. Tarım, Hayvancılık Ve Teknolo
 jileri Fuarı
TRIGGER:-PT24H
END:VALARM
END:VEVENT
END:VCALENDAR
