BEGIN:VCALENDAR
VERSION:2.0
PRODID:itakvim.com
CALSCALE:GREGORIAN
METHOD:PUBLISH
UID:g2ukklisnvs
X-WR-CALNAME:Lisans Yatay Geçiş, Çap, Yandal ve Ders İntibak Takvimi
X-ITAKVIM-LANGUAGE:tr
X-ORIGINAL-URL:itakvim.com
REFRESH-INTERVAL;VALUE=DURATION:PT1H
X-ITAKVIM-REGION:TR
X-Robots-Tag:noindex
X-PUBLISHED-TTL:PT1H
BEGIN:VEVENT
UID:9339cea5-30e5-4404-5863-08de9f8ee600
DTSTAMP:20260421T101525Z
TRANSP:TRANSPARENT
DTSTART:20250630T210000Z
DTEND:20250630T210000Z
STATUS:CONFIRMED
SUMMARY:İTÜ İçi Yatay Geçiş, ÇAP ve Yandal Kontenjanlarının İla
 nı
END:VEVENT
BEGIN:VEVENT
UID:ff4e3cfb-8892-4fc2-5864-08de9f8ee600
DTSTAMP:20260421T101525Z
TRANSP:TRANSPARENT
DTSTART:20250801T060000Z
DTEND:20250815T140000Z
STATUS:CONFIRMED
SUMMARY:Merkezi Yerleştirme Puanıyla Yatay Geçiş (Yatay Geçiş Ek Ma
 dde-1) Web'den Başvuruları
END:VEVENT
BEGIN:VEVENT
UID:5c3769ec-c132-4c58-5865-08de9f8ee600
DTSTAMP:20260421T101525Z
TRANSP:TRANSPARENT
DTSTART:20250811T060000Z
DTEND:20250822T140000Z
STATUS:CONFIRMED
SUMMARY:İTÜ Dışından Yatay Geçiş Başvuruları
END:VEVENT
BEGIN:VEVENT
UID:f901e60f-150e-40ee-5866-08de9f8ee600
DTSTAMP:20260421T101525Z
TRANSP:TRANSPARENT
DTSTART:20250818T060000Z
DTEND:20250827T140000Z
STATUS:CONFIRMED
SUMMARY:İTÜ İçi Yatay Geçiş, ÇAP ve Yandal İçin Web'den Başvuru
 ları
END:VEVENT
BEGIN:VEVENT
UID:7650d1ab-cdfe-4d4b-5867-08de9f8ee600
DTSTAMP:20260421T101525Z
TRANSP:TRANSPARENT
DTSTART:20250826T210000Z
DTEND:20250827T210000Z
STATUS:CONFIRMED
SUMMARY:Merkezi Yerleştirme Puanıyla Yatay Geçiş İçin Başvuran Ada
 yların Ders İntibak Komisyonları Tarafından Ders İntibaklarının Y
 apılması
END:VEVENT
BEGIN:VEVENT
UID:1b7319b3-8ccb-4898-5868-08de9f8ee600
DTSTAMP:20260421T101525Z
TRANSP:TRANSPARENT
DTSTART:20250827T210000Z
DTEND:20250828T210000Z
STATUS:CONFIRMED
SUMMARY:İTÜ Dışından Yatay Geçiş Başvurularının Fakültelerin 
 İlgili Komisyonları Tarafından Değerlendirilmesi
END:VEVENT
BEGIN:VEVENT
UID:b30a8a4a-f7d4-425c-5869-08de9f8ee600
DTSTAMP:20260421T101525Z
TRANSP:TRANSPARENT
DTSTART:20250831T210000Z
DTEND:20250831T210000Z
STATUS:CONFIRMED
SUMMARY:İTÜ Dışından Yatay Geçiş Hakkı Kazananların İlanı
END:VEVENT
BEGIN:VEVENT
UID:21e051fd-e80e-4830-586a-08de9f8ee600
DTSTAMP:20260421T101525Z
TRANSP:TRANSPARENT
DTSTART:20250901T210000Z
DTEND:20250901T210000Z
STATUS:CONFIRMED
SUMMARY:Merkezi Yerleştirme Puanıyla Yatay Geçiş Hakkı Kazananların
  İlanı
END:VEVENT
BEGIN:VEVENT
UID:0a1d1f8f-82cf-46b7-586b-08de9f8ee600
DTSTAMP:20260421T101525Z
TRANSP:TRANSPARENT
DTSTART:20250903T060000Z
DTEND:20250904T140000Z
STATUS:CONFIRMED
SUMMARY:İTÜ Dışından Yatay Geçiş Yapan Öğrencilerin Kabulleri
END:VEVENT
BEGIN:VEVENT
UID:e3320a9d-8da2-45c4-586c-08de9f8ee600
DTSTAMP:20260421T101525Z
TRANSP:TRANSPARENT
DTSTART:20250904T210000Z
DTEND:20250904T210000Z
STATUS:CONFIRMED
SUMMARY:İTÜ Dışından Yatay Geçiş Yedekten Asile Geçen Yedeklerin 
 İlanı
END:VEVENT
BEGIN:VEVENT
UID:f513e101-ea24-4be9-586d-08de9f8ee600
DTSTAMP:20260421T101525Z
TRANSP:TRANSPARENT
DTSTART:20250908T060000Z
DTEND:20250908T140000Z
STATUS:CONFIRMED
SUMMARY:İTÜ Dışından Yatay Geçiş Yedekten Asile Geçen Yedeklerin 
 Kabulü
END:VEVENT
BEGIN:VEVENT
UID:0d3a7c45-4355-4795-586e-08de9f8ee600
DTSTAMP:20260421T101525Z
TRANSP:TRANSPARENT
DTSTART:20250908T060000Z
DTEND:20250909T140000Z
STATUS:CONFIRMED
SUMMARY:Merkezi Yerleştirme Puanıyla Yatay Geçiş Hakkı Kazananların
  Kabulleri
END:VEVENT
BEGIN:VEVENT
UID:3b4ab38f-0cb4-4e3f-586f-08de9f8ee600
DTSTAMP:20260421T101525Z
TRANSP:TRANSPARENT
DTSTART:20250908T210000Z
DTEND:20250908T210000Z
STATUS:CONFIRMED
SUMMARY:ÇAP, Yandal ve İTÜ İçi Yatay Geçişlerin Fakülte Yönetim 
 Kurulu Kararı İle Onayı
END:VEVENT
BEGIN:VEVENT
UID:1fe0e107-4a1c-4200-5870-08de9f8ee600
DTSTAMP:20260421T101525Z
TRANSP:TRANSPARENT
DTSTART:20250908T210000Z
DTEND:20250908T210000Z
STATUS:CONFIRMED
SUMMARY:ÇAP, Yandal ve İTÜ İçi Yatay Geçişlerin İlanı
END:VEVENT
BEGIN:VEVENT
UID:644fecea-7f72-4041-5871-08de9f8ee600
DTSTAMP:20260421T101525Z
TRANSP:TRANSPARENT
DTSTART:20250910T060000Z
DTEND:20250910T140000Z
STATUS:CONFIRMED
SUMMARY:ÇAP, Yandal ve İTÜ içinden Yatay Geçiş Hakkı Kazanan Öğr
 encilerin (ÖİDB) (WEB’den) Kabulü
END:VEVENT
BEGIN:VEVENT
UID:1109e121-e997-439c-5872-08de9f8ee600
DTSTAMP:20260421T101525Z
TRANSP:TRANSPARENT
DTSTART:20250911T060000Z
DTEND:20250911T140000Z
STATUS:CONFIRMED
SUMMARY:ÇAP, Yandal ve İTÜ İçi Yatay Geçiş Yedekten Asile Geçen Y
 edeklerin İlanı ve Kabulü (WEB’den)
END:VEVENT
BEGIN:VEVENT
UID:69dd9fb7-190a-437d-5873-08de9f8ee600
DTSTAMP:20260421T101525Z
TRANSP:TRANSPARENT
DTSTART:20250916T210000Z
DTEND:20250916T210000Z
STATUS:CONFIRMED
SUMMARY:İTÜ İçi ve Dışı Yatay Geçiş, Dikey Geçiş ve YKS sonucu
 nda yeniden yerleşen öğrencilerin daha önceki Yükseköğretim Kurum
 larından aldıkları MAT, FIZ, KIM, ING, ATA, TUR, BIL, EKO, HUK, ITB, 
 SNT kodlu derslerinin genel havuz intibak komisyonları tarafından değ
 erlendirilmesi
END:VEVENT
BEGIN:VEVENT
UID:697a358a-9321-4c4c-5874-08de9f8ee600
DTSTAMP:20260421T101525Z
TRANSP:TRANSPARENT
DTSTART:20250917T210000Z
DTEND:20250917T210000Z
STATUS:CONFIRMED
SUMMARY:İTÜ İçi ve Dışı Yatay Geçiş,  Dikey Geçiş ve YKS sonuc
 unda yeniden yerleşen öğrencilerin daha önceki Yükseköğretim Kuru
 mlarından aldıkları genel havuz dersleri dışında Fakülte/Konserva
 tuar intibak komisyonları tarafından değerlendirilmesi
END:VEVENT
BEGIN:VEVENT
UID:c23f5e76-b5aa-4f9f-5875-08de9f8ee600
DTSTAMP:20260421T101525Z
TRANSP:TRANSPARENT
DTSTART:20250918T210000Z
DTEND:20250918T210000Z
STATUS:CONFIRMED
SUMMARY:İTÜ İçi ve Dışı Yatay Geçiş, Merkezi Yerleştirme Puanı
 yla Yatay Geçiş, Dikey Geçiş ve YKS ile Üniversitemize Yerleşen Ö
 ğrencilerin Daha Önceki Kurumlarında Almış Oldukları Derslerin Mua
 fiyetlerinin Fakülte Yönetim Kurulu Kararlarının Fakülteler Tarafı
 ndan Bildirilmesi
END:VEVENT
END:VCALENDAR
