BEGIN:VCALENDAR
VERSION:2.0
PRODID:itakvim.com
CALSCALE:GREGORIAN
METHOD:PUBLISH
UID:gf9aruur0v1
X-WR-CALNAME:Marintürk İstanbul City Port Pendik Marina Takvimi
X-ITAKVIM-LANGUAGE:tr
X-ORIGINAL-URL:itakvim.com
REFRESH-INTERVAL;VALUE=DURATION:PT1H
X-ITAKVIM-REGION:TR
X-Robots-Tag:noindex
X-PUBLISHED-TTL:PT1H
BEGIN:VEVENT
UID:065c0567-24ac-427e-52ce-08de9f183112
DTSTAMP:20260420T200816Z
TRANSP:TRANSPARENT
DTSTART:20260910T060000Z
DTEND:20260913T150000Z
STATUS:CONFIRMED
SUMMARY:Vı.Marmaraka  Kamp Karavan Ve Doğa Sporları Fuarı
DESCRIPTION:Anadolu Ekspo Fuar Tic.Ltd.Şti. tarafından düzenlenen kara
 van ve karavan malzemeleri konulu fuarda görüşmek üzere: \n\nWeb:www
 .anadoluekspo.com\nE-Posta: anadolu@anadoluekspo.com
LOCATION:Marintürk İstanbul City Port Pendik Marina
BEGIN:VALARM
ACTION:DISPLAY
DESCRIPTION:Vı.Marmaraka  Kamp Karavan Ve Doğa Sporları Fuarı
TRIGGER:-PT24H
END:VALARM
END:VEVENT
END:VCALENDAR
