BEGIN:VCALENDAR
VERSION:2.0
PRODID:itakvim.com
CALSCALE:GREGORIAN
METHOD:PUBLISH
UID:gmsmaismu36
X-WR-CALNAME:Lisans Önkayıt Takvimi
X-ITAKVIM-LANGUAGE:tr
X-ORIGINAL-URL:itakvim.com
REFRESH-INTERVAL;VALUE=DURATION:PT1H
X-ITAKVIM-REGION:TR
X-Robots-Tag:noindex
X-PUBLISHED-TTL:PT1H
BEGIN:VEVENT
UID:c08ce4dc-0523-4845-51e3-08de9f183112
DTSTAMP:20260420T200724Z
TRANSP:TRANSPARENT
DTSTART:20250731T210000Z
DTEND:20250808T140000Z
STATUS:CONFIRMED
SUMMARY:Suny Moda Tasarımı Programı ve Suny Tekstil Geliştirme ve Paz
 arlama Programı Ön Kayıt Başvuruları
END:VEVENT
BEGIN:VEVENT
UID:f5977bbb-ba0d-42a7-51e4-08de9f183112
DTSTAMP:20260420T200724Z
TRANSP:TRANSPARENT
DTSTART:20250810T210000Z
DTEND:20250814T210000Z
STATUS:CONFIRMED
SUMMARY:SUNY Tekstil Geliştirme ve Pazarlama Programı Mülakat Sınavı
END:VEVENT
BEGIN:VEVENT
UID:86e3335d-7dc5-47eb-51e5-08de9f183112
DTSTAMP:20260420T200724Z
TRANSP:TRANSPARENT
DTSTART:20250810T210000Z
DTEND:20250814T210000Z
STATUS:CONFIRMED
SUMMARY:SUNY Moda Tasarımı Programı Mülakat Sınavı
END:VEVENT
BEGIN:VEVENT
UID:e1f536fb-193e-469a-51e6-08de9f183112
DTSTAMP:20260420T200724Z
TRANSP:TRANSPARENT
DTSTART:20250818T210000Z
DTEND:20250818T210000Z
STATUS:CONFIRMED
SUMMARY:SUNY Moda Tasarımı Programına ve SUNY Tekstil Geliştirme ve P
 azarlama Programı Kayıt Hakkı Kazananların İlanı
END:VEVENT
BEGIN:VEVENT
UID:aa899fad-5195-430f-51e7-08de9f183112
DTSTAMP:20260420T200724Z
TRANSP:TRANSPARENT
DTSTART:20250901T060000Z
DTEND:20250902T140000Z
STATUS:CONFIRMED
SUMMARY:SUNY Moda Tasarımı Programı ve SUNY Tekstil Geliştirme ve Paz
 arlama Programlarına Yerleşen Öğrencilerin Kesin Kayıtları
END:VEVENT
BEGIN:VEVENT
UID:6f2ab782-f7ee-4839-51e8-08de9f183112
DTSTAMP:20260420T200724Z
TRANSP:TRANSPARENT
DTSTART:20250903T210000Z
DTEND:20250903T210000Z
STATUS:CONFIRMED
SUMMARY:SUNY Moda Tasarımı Programı ve SUNY Tekstil Geliştirme ve Paz
 arlama Programına Kayıt Yapmayanların Yerine Yedekten Asile Çıkan 
 Öğrencilerin İlanı
END:VEVENT
BEGIN:VEVENT
UID:28ccb5d7-678f-408d-51e9-08de9f183112
DTSTAMP:20260420T200724Z
TRANSP:TRANSPARENT
DTSTART:20250905T060000Z
DTEND:20250905T140000Z
STATUS:CONFIRMED
SUMMARY:SUNY Moda Tasarımı Programı ve SUNY Tekstil Geliştirme ve Paz
 arlama Programına Kayıt Yapmayanların Yerine Yedekten Asile Çıkan 
 Öğrencilerin Kayıtları
END:VEVENT
BEGIN:VEVENT
UID:10a5a419-0d7d-4575-51ea-08de9f183112
DTSTAMP:20260420T200724Z
TRANSP:TRANSPARENT
DTSTART:20250602T060000Z
DTEND:20250815T140000Z
STATUS:CONFIRMED
SUMMARY:Yurtdışı Kontenjanından Başvuran Adayların Ön Kayıtları
END:VEVENT
BEGIN:VEVENT
UID:88088cba-498b-4237-51eb-08de9f183112
DTSTAMP:20260420T200724Z
TRANSP:TRANSPARENT
DTSTART:20250818T210000Z
DTEND:20250821T100000Z
STATUS:CONFIRMED
SUMMARY:Yurtdışı Kontenjanından Başvuran Adayların Listelerinin Fak
 ültelerce Değerlendirilmesi
END:VEVENT
BEGIN:VEVENT
UID:c60e216b-c92b-4607-51ec-08de9f183112
DTSTAMP:20260420T200724Z
TRANSP:TRANSPARENT
DTSTART:20250824T210000Z
DTEND:20250824T210000Z
STATUS:CONFIRMED
SUMMARY:Yurtdışı Kontenjanından Başvuran ve Kayıt Hakkı Kazanan Ad
 ayların İlanı
END:VEVENT
BEGIN:VEVENT
UID:eae4e53e-7bb9-415e-51ed-08de9f183112
DTSTAMP:20260420T200724Z
TRANSP:TRANSPARENT
DTSTART:20250901T210000Z
DTEND:20250904T130000Z
STATUS:CONFIRMED
SUMMARY:Yurtdışı Kontenjanından Yeni Yerleştirilen Öğrencilerin Ö
 ğrenim Ücretlerinin Yatırılması
END:VEVENT
BEGIN:VEVENT
UID:3a2e4dd6-cb19-43a7-51ee-08de9f183112
DTSTAMP:20260420T200724Z
TRANSP:TRANSPARENT
DTSTART:20250902T060000Z
DTEND:20250904T130000Z
STATUS:CONFIRMED
SUMMARY:Yurtdışı Kontenjanından Başvuran Öğrencilerin Kesin Kaydı
END:VEVENT
BEGIN:VEVENT
UID:76eb9722-5f34-4a20-51ef-08de9f183112
DTSTAMP:20260420T200724Z
TRANSP:TRANSPARENT
DTSTART:20250904T210000Z
DTEND:20250904T210000Z
STATUS:CONFIRMED
SUMMARY:Yurtdışı Kontenjanından Başvuran ve Kayıt Hakkı Kazananlar
 dan Kayıt Yapmayanların Yerine Yedekten Asile Çıkan Öğrencilerin 
 İlanı
END:VEVENT
BEGIN:VEVENT
UID:9a7bfafb-4348-4299-51f0-08de9f183112
DTSTAMP:20260420T200724Z
TRANSP:TRANSPARENT
DTSTART:20250910T060000Z
DTEND:20250911T130000Z
STATUS:CONFIRMED
SUMMARY:Yurtdışı Kontenjanından Başvuran ve Kayıt Hakkı Kazananlar
 dan Kayıt Yapmayanların Yerine Yedekten Asile Çıkan Öğrencilerin K
 ayıtları
END:VEVENT
BEGIN:VEVENT
UID:3899606d-3408-4dca-51f1-08de9f183112
DTSTAMP:20260420T200724Z
TRANSP:TRANSPARENT
DTSTART:20250912T060000Z
DTEND:20250916T140000Z
STATUS:CONFIRMED
SUMMARY:Yurtdışı Kontenjanından İkinci Başvuru Alınması
END:VEVENT
BEGIN:VEVENT
UID:f7872bb2-e134-41dc-51f2-08de9f183112
DTSTAMP:20260420T200724Z
TRANSP:TRANSPARENT
DTSTART:20250916T210000Z
DTEND:20250917T210000Z
STATUS:CONFIRMED
SUMMARY:Yurtdışı Kontenjanından İkinci Başvuru Döneminde Başvuran
  Adayların Listelerinin Fakültelerce Değerlendirilmesi
END:VEVENT
BEGIN:VEVENT
UID:46c82d5c-ce2c-4551-51f3-08de9f183112
DTSTAMP:20260420T200724Z
TRANSP:TRANSPARENT
DTSTART:20250918T210000Z
DTEND:20250918T210000Z
STATUS:CONFIRMED
SUMMARY:Yurtdışı Kontenjanından İkinci Başvuru Döneminde Başvuran
  ve Kayıt Hakkı Kazanan Adayların İlanı
END:VEVENT
BEGIN:VEVENT
UID:4232b4c3-d81b-4beb-51f4-08de9f183112
DTSTAMP:20260420T200724Z
TRANSP:TRANSPARENT
DTSTART:20250925T060000Z
DTEND:20250926T130000Z
STATUS:CONFIRMED
SUMMARY:Yurtdışı Kontenjanından İkinci Başvuru Döneminde Yeni Yerl
 eştirilen Öğrencilerin Kesin Kayıtları ve Öğrenim Ücretlerinin Y
 atırılması
END:VEVENT
BEGIN:VEVENT
UID:4b108c79-31ea-46e2-51f5-08de9f183112
DTSTAMP:20260420T200724Z
TRANSP:TRANSPARENT
DTSTART:20250728T060000Z
DTEND:20250807T140000Z
STATUS:CONFIRMED
SUMMARY:Konservatuvar Ön Kayıtları (Web Kaydı)
END:VEVENT
BEGIN:VEVENT
UID:f5d939e6-57e5-4673-51f6-08de9f183112
DTSTAMP:20260420T200724Z
TRANSP:TRANSPARENT
DTSTART:20250810T210000Z
DTEND:20250813T210000Z
STATUS:CONFIRMED
SUMMARY:Konservatuvar Eleme Sınavları
END:VEVENT
BEGIN:VEVENT
UID:154b7af6-5f10-444c-51f7-08de9f183112
DTSTAMP:20260420T200724Z
TRANSP:TRANSPARENT
DTSTART:20250814T210000Z
DTEND:20250814T210000Z
STATUS:CONFIRMED
SUMMARY:Konservatuvar Eleme Sınav Sonuçlarının İlanı
END:VEVENT
BEGIN:VEVENT
UID:1600fd6f-2945-4c97-51f8-08de9f183112
DTSTAMP:20260420T200724Z
TRANSP:TRANSPARENT
DTSTART:20250817T210000Z
DTEND:20250821T210000Z
STATUS:CONFIRMED
SUMMARY:Konservatuvar Kesin Kabul Sınavları
END:VEVENT
BEGIN:VEVENT
UID:2315bd8a-ce29-4b47-51f9-08de9f183112
DTSTAMP:20260420T200724Z
TRANSP:TRANSPARENT
DTSTART:20250826T210000Z
DTEND:20250826T210000Z
STATUS:CONFIRMED
SUMMARY:Konservatuvar Kesin Kabul Sınav Sonuçlarının İlanı
END:VEVENT
BEGIN:VEVENT
UID:41eb1604-1641-4e05-51fa-08de9f183112
DTSTAMP:20260420T200724Z
TRANSP:TRANSPARENT
DTSTART:20250901T060000Z
DTEND:20250902T140000Z
STATUS:CONFIRMED
SUMMARY:Konservatuvar  Programlarına Yerleşen Öğrencilerin Kesin Kay
 ıtları
END:VEVENT
BEGIN:VEVENT
UID:d6354be5-f2d6-427b-51fb-08de9f183112
DTSTAMP:20260420T200724Z
TRANSP:TRANSPARENT
DTSTART:20250903T210000Z
DTEND:20250903T210000Z
STATUS:CONFIRMED
SUMMARY:Konservatuvar Programlarına Kayıt Yapmayanların Yerine Yedekte
 n Asile Çıkan Öğrencilerin İlanı
END:VEVENT
BEGIN:VEVENT
UID:331764ed-523f-403f-51fc-08de9f183112
DTSTAMP:20260420T200724Z
TRANSP:TRANSPARENT
DTSTART:20250905T060000Z
DTEND:20250905T140000Z
STATUS:CONFIRMED
SUMMARY:Konservatuvar Programlarına Kayıt Yapmayanların Yerine Yedekte
 n Asile Çıkan Öğrencilerin Kayıtları
END:VEVENT
END:VCALENDAR
