BEGIN:VCALENDAR
VERSION:2.0
PRODID:itakvim.com
CALSCALE:GREGORIAN
METHOD:PUBLISH
UID:grwtmsev7fl
X-WR-CALNAME:DİB-MBSTS Sınav Takvimi
X-ITAKVIM-LANGUAGE:tr
X-ORIGINAL-URL:itakvim.com
REFRESH-INTERVAL;VALUE=DURATION:PT1H
X-ITAKVIM-REGION:TR
X-Robots-Tag:noindex
X-PUBLISHED-TTL:PT1H
BEGIN:VEVENT
UID:f8e7e0fe-77ba-469a-4f52-08de9f183112
DTSTAMP:20260420T200538Z
TRANSP:TRANSPARENT
DTSTART:20260329T114500Z
DTEND:20260329T114500Z
STATUS:CONFIRMED
SUMMARY:DİB-MBSTS Diyanet İşleri Başkanlığı Mesleki Bilgiler Seviy
 e Tespit Sınavı 2026-DİB-MBSTS Sınav
END:VEVENT
BEGIN:VEVENT
UID:88fe8ab4-4b74-4d26-4f53-08de9f183112
DTSTAMP:20260420T200538Z
TRANSP:TRANSPARENT
DTSTART:20260211T073000Z
DTEND:20260211T073000Z
STATUS:CONFIRMED
SUMMARY:DİB-MBSTS Diyanet İşleri Başkanlığı Mesleki Bilgiler Seviy
 e Tespit Sınavı 2026-DİB-MBSTS Başvuru Başlangıç
END:VEVENT
BEGIN:VEVENT
UID:37fb4400-6ebe-4fa5-4f54-08de9f183112
DTSTAMP:20260420T200538Z
TRANSP:TRANSPARENT
DTSTART:20260219T205900Z
DTEND:20260219T205900Z
STATUS:CONFIRMED
SUMMARY:DİB-MBSTS Diyanet İşleri Başkanlığı Mesleki Bilgiler Seviy
 e Tespit Sınavı 2026-DİB-MBSTS Başvuru Bitiş
END:VEVENT
BEGIN:VEVENT
UID:6c6c431e-9a03-40a3-4f55-08de9f183112
DTSTAMP:20260420T200538Z
TRANSP:TRANSPARENT
DTSTART:20260224T210000Z
DTEND:20260224T210000Z
STATUS:CONFIRMED
SUMMARY:DİB-MBSTS Diyanet İşleri Başkanlığı Mesleki Bilgiler Seviy
 e Tespit Sınavı 2026-DİB-MBSTS Geç Başvuru Başlangıç
END:VEVENT
BEGIN:VEVENT
UID:b4d93c50-d216-4bdb-4f56-08de9f183112
DTSTAMP:20260420T200538Z
TRANSP:TRANSPARENT
DTSTART:20260225T205900Z
DTEND:20260225T205900Z
STATUS:CONFIRMED
SUMMARY:DİB-MBSTS Diyanet İşleri Başkanlığı Mesleki Bilgiler Seviy
 e Tespit Sınavı 2026-DİB-MBSTS Geç Başvuru Bitiş
END:VEVENT
BEGIN:VEVENT
UID:f534bbe1-1978-4f19-4f57-08de9f183112
DTSTAMP:20260420T200538Z
TRANSP:TRANSPARENT
DTSTART:20260415T210000Z
DTEND:20260415T210000Z
STATUS:CONFIRMED
SUMMARY:DİB-MBSTS Diyanet İşleri Başkanlığı Mesleki Bilgiler Seviy
 e Tespit Sınavı 2026-DİB-MBSTS Sonuç
END:VEVENT
END:VCALENDAR
