BEGIN:VCALENDAR
VERSION:2.0
PRODID:itakvim.com
CALSCALE:GREGORIAN
METHOD:PUBLISH
UID:gt11cmmokgv
X-WR-CALNAME:Çevre Kanunu
X-ITAKVIM-LANGUAGE:tr
X-ORIGINAL-URL:itakvim.com
REFRESH-INTERVAL;VALUE=DURATION:PT1H
X-ITAKVIM-REGION:TR
X-Robots-Tag:noindex
X-PUBLISHED-TTL:PT1H
BEGIN:VEVENT
UID:07c7c443-7a5a-4f67-d2d9-08de9f271cd7
DTSTAMP:20260420T215235Z
TRANSP:TRANSPARENT
DTSTART:20260401T060000Z
DTEND:20260401T060000Z
STATUS:CONFIRMED
SUMMARY:Ocak-Şubat-Mart 2026 Dönemine Ait Geri Kazanım Katılım Payı
  Beyannamesinin Verilmesi ve Ödemesi Başlangıç
DESCRIPTION:Ocak-Şubat-Mart 2026 Dönemi Geri Kazanım Katılım Payı B
 eyan ve Ödemesi
BEGIN:VALARM
ACTION:DISPLAY
DESCRIPTION:Ocak-Şubat-Mart 2026 Dönemine Ait Geri Kazanım Katılım P
 ayı Beyannamesinin Verilmesi ve Ödemesi Başlangıç
TRIGGER:PT0S
END:VALARM
END:VEVENT
BEGIN:VEVENT
UID:36401d2b-56f9-4db3-d2da-08de9f271cd7
DTSTAMP:20260420T215235Z
TRANSP:TRANSPARENT
DTSTART:20260430T140000Z
DTEND:20260430T140000Z
STATUS:CONFIRMED
SUMMARY:Ocak-Şubat-Mart 2026 Dönemi Geri Kazanım Katılım Payı Beyan
  ve Ödemesi Son Gün
DESCRIPTION:Ocak-Şubat-Mart 2026 Dönemine Ait Geri Kazanım Katılım P
 ayı Beyannamesinin Verilmesi ve Ödemesi
BEGIN:VALARM
ACTION:DISPLAY
DESCRIPTION:Ocak-Şubat-Mart 2026 Dönemi Geri Kazanım Katılım Payı B
 eyan ve Ödemesi Son Gün
TRIGGER:-PT8H
END:VALARM
END:VEVENT
END:VCALENDAR
