BEGIN:VCALENDAR
VERSION:2.0
PRODID:itakvim.com
CALSCALE:GREGORIAN
METHOD:PUBLISH
UID:h1ulu99hky3
X-WR-CALNAME:İstanbul Tüyap Fuar Ve Kongre Merkezi Takvimi
X-ITAKVIM-LANGUAGE:tr
X-ORIGINAL-URL:itakvim.com
REFRESH-INTERVAL;VALUE=DURATION:PT1H
X-ITAKVIM-REGION:TR
X-Robots-Tag:noindex
X-PUBLISHED-TTL:PT1H
BEGIN:VEVENT
UID:031e1f11-16ae-44a5-52d0-08de9f183112
DTSTAMP:20260420T200816Z
TRANSP:TRANSPARENT
DTSTART:20260416T060000Z
DTEND:20260418T150000Z
STATUS:CONFIRMED
SUMMARY:Ekspomed Eurasıa 33.Uluslararası İstanbul Tıbbi Analiz, Teşh
 is, Tedavi, Koruma Ve Rehabilitasyon,Laboratuvar,Ürün, Cihaz, Sistem, 
 Teknoloji, Donanım Ve Hastaneler Fuarı - (Reçetesiz Ürünler Otc Sa
 ğlıklı Yaşam Ürünleri Bitkisel İlaçlar, Gıda Takviyeleri, Kişi
 sel Bakım, Dermokozmetik, Doğal Ve Organik Ürünler Özel  Bölümü 
 )
DESCRIPTION:Reed Tüyap Fuarcılık Anonim Şirketi tarafından düzenlen
 en tıbbi cihazlar\, sistemler\, teknolojiler\, ürünler\, donanımlar\
 , sarf malzemeleri\, ortopedik ürünler\, sağlık hizmetleri\, laborat
 uvar\,analiz\,teşhis\,hastane ekipmanları konulu fuarda görüşmek ü
 zere: \n\nWeb:www.tuyap.com.tr\nE-Posta: isilgordi@hotmail.com
LOCATION:Tüyap Fuar Ve Kongre Merkezi
BEGIN:VALARM
ACTION:DISPLAY
DESCRIPTION:Ekspomed Eurasıa 33.Uluslararası İstanbul Tıbbi Analiz, T
 eşhis, Tedavi, Koruma Ve Rehabilitasyon,Laboratuvar,Ürün, Cihaz, Sist
 em, Teknoloji, Donanım Ve Hastaneler Fuarı - (Reçetesiz Ürünler Otc
  Sağlıklı Yaşam Ürünleri Bitkisel İlaçlar, Gıda Takviyeleri, Ki
 şisel Bakım, Dermokozmetik, Doğal Ve Organik Ürünler Özel  Bölüm
 ü )
TRIGGER:-PT24H
END:VALARM
END:VEVENT
BEGIN:VEVENT
UID:59537a4f-ce0d-4eb5-52d1-08de9f183112
DTSTAMP:20260420T200816Z
TRANSP:TRANSPARENT
DTSTART:20260427T060000Z
DTEND:20260430T150000Z
STATUS:CONFIRMED
SUMMARY:48. Yapı Fuarı - Turkeybuild İstanbul 2026 (Yapı Fuarı'nda H
 ırdavat Özel Bölümü İle)
DESCRIPTION:Ica Buıld Fuarcılık Anonim Şirketi tarafından düzenlene
 n yapı\, İnşaat malzemeleri ve teknolojileri fuarı konulu fuarda gö
 rüşmek üzere: \n\nWeb:www.icaevents.com.tr\nE-Posta: info.turkey@icae
 vents.com.tr
LOCATION:Tüyap Fuar Ve Kongre Merkezi
BEGIN:VALARM
ACTION:DISPLAY
DESCRIPTION:48. Yapı Fuarı - Turkeybuild İstanbul 2026 (Yapı Fuarı'n
 da Hırdavat Özel Bölümü İle)
TRIGGER:-PT24H
END:VALARM
END:VEVENT
BEGIN:VEVENT
UID:0a756145-e81d-4f80-52d2-08de9f183112
DTSTAMP:20260420T200816Z
TRANSP:TRANSPARENT
DTSTART:20260507T060000Z
DTEND:20260509T150000Z
STATUS:CONFIRMED
SUMMARY:7.Beauty İstanbul, Kozmetik, Güzellik, Kuaför, Temizlik, Priva
 te Label, Ambalaj, Hammadde Fuarı
DESCRIPTION:İpekyolu Uluslararası Fuarcılık Limited Şirketi tarafın
 dan düzenlenen kozmetik\, güzellik\, kuaför\, temizlik\, ambalaj\, ha
 mmadde konulu fuarda görüşmek üzere: \n\nWeb:www.beauty-istanbul.com
 \nE-Posta: info@beauty-istanbul.com
LOCATION:Tüyap Fuar Ve Kongre Merkezi
BEGIN:VALARM
ACTION:DISPLAY
DESCRIPTION:7.Beauty İstanbul, Kozmetik, Güzellik, Kuaför, Temizlik, P
 rivate Label, Ambalaj, Hammadde Fuarı
TRIGGER:-PT24H
END:VALARM
END:VEVENT
BEGIN:VEVENT
UID:c91611d7-2f7e-4c0a-52d3-08de9f183112
DTSTAMP:20260420T200816Z
TRANSP:TRANSPARENT
DTSTART:20260519T060000Z
DTEND:20260522T150000Z
STATUS:CONFIRMED
SUMMARY:Automechanıka Istanbul
DESCRIPTION:1) Messe Frankfurt İstanbul Ulus. Fuarcılık Ltd. Şti. 2) 
 Hannover Faırs Turkey Fuarcılık A.Ş. tarafından düzenlenen uluslar
 arası otomotiv üretim\, dağıtım\, bakım ve servis ekipmanları fua
 rı konulu fuarda görüşmek üzere: \n\nWeb:www.automechanika.com.tr\n
 E-Posta: info@turkey.messefrankfurt.com
LOCATION:Tüyap Fuar Ve Kongre Merkezi
BEGIN:VALARM
ACTION:DISPLAY
DESCRIPTION:Automechanıka Istanbul
TRIGGER:-PT24H
END:VALARM
END:VEVENT
BEGIN:VEVENT
UID:7089f61b-b9c9-458b-52d4-08de9f183112
DTSTAMP:20260420T200816Z
TRANSP:TRANSPARENT
DTSTART:20260609T060000Z
DTEND:20260613T150000Z
STATUS:CONFIRMED
SUMMARY:Itm 2026 Uluslararası  Tekstil Makineleri Fuarı
DESCRIPTION:1) Tüyap Tüm Fuarcılık Yapım Anonim Şirketi 2) Teknik F
 uarcılık A.Ş. tarafından düzenlenen tekstil\, İplik\, dokuma\, ör
 gü\, boya\, terbiye\, baskı\, dijital baskı\, çorap makineleri\, yan
  sanayileri ve kimyasalları konulu fuarda görüşmek üzere: \n\nWeb:w
 ww.itmexhibition.com\nE-Posta: tuyap@tuyap.com.tr
LOCATION:Tüyap Fuar Ve Kongre Merkezi
BEGIN:VALARM
ACTION:DISPLAY
DESCRIPTION:Itm 2026 Uluslararası  Tekstil Makineleri Fuarı
TRIGGER:-PT24H
END:VALARM
END:VEVENT
BEGIN:VEVENT
UID:96bd0ff0-363e-4f4c-52d5-08de9f183112
DTSTAMP:20260420T200816Z
TRANSP:TRANSPARENT
DTSTART:20260609T060000Z
DTEND:20260613T150000Z
STATUS:CONFIRMED
SUMMARY:Hıghtex 2026 Uluslararası Teknik Tekstiller Ve Nonwoven  Fuarı
DESCRIPTION:1) Tüyap Tüm Fuarcılık Yapım Anonim Şirketi 2) Teknik F
 uarcılık A.Ş. tarafından düzenlenen teknik tekstiller\, nonwovenlar
 \,konfeksiyon makineleri ve yan sanayii konulu fuarda görüşmek üzere
 : \n\nWeb:www.hightex.com.tr\nE-Posta: tuyap@tuyap.com.tr
LOCATION:Tüyap Fuar Ve Kongre Merkezi
BEGIN:VALARM
ACTION:DISPLAY
DESCRIPTION:Hıghtex 2026 Uluslararası Teknik Tekstiller Ve Nonwoven  Fu
 arı
TRIGGER:-PT24H
END:VALARM
END:VEVENT
BEGIN:VEVENT
UID:6c83b74a-bb05-4174-52d6-08de9f183112
DTSTAMP:20260420T200816Z
TRANSP:TRANSPARENT
DTSTART:20260901T060000Z
DTEND:20260904T150000Z
STATUS:CONFIRMED
SUMMARY:Foodist  2026  İstanbul Gıda Ve İçecek Ürünleri Fuarı
DESCRIPTION:1) Tüyap Tüm Fuarcılık Yapım A.Ş 2) Alz Grup Uluslarara
 sı Fuar  Kongre Ve Danışmanlık A.Ş. tarafından düzenlenen gıda v
 e İçecek ürünleri\, su ürünleri\, yaş meyve ve sebze\, private la
 bel ürünler\, gıda depolama raf sistemleri\, soğuk zincir ve gıda l
 ojistiği konulu fuarda görüşmek üzere: \n\nWeb:www.tuyap.com.tr\nE-
 Posta: tuyap@tuyap.com.tr
LOCATION:Tüyap Fuar Ve Kongre Merkezi
BEGIN:VALARM
ACTION:DISPLAY
DESCRIPTION:Foodist  2026  İstanbul Gıda Ve İçecek Ürünleri Fuarı
TRIGGER:-PT24H
END:VALARM
END:VEVENT
BEGIN:VEVENT
UID:ae118503-7e64-4799-52d7-08de9f183112
DTSTAMP:20260420T200816Z
TRANSP:TRANSPARENT
DTSTART:20260909T060000Z
DTEND:20260912T150000Z
STATUS:CONFIRMED
SUMMARY:Zuchex 36. Uluslararası Ev Ve Mutfak Eşyaları Fuarı
DESCRIPTION:Informa Fuarcılık Anonim Şirketi tarafından düzenlenen z
 üccaciye\, porselen\, seramik\, ev elektroniği\, elektrikli ev eşyala
 rı konulu fuarda görüşmek üzere: \n\nWeb:www.zuchex.com\nE-Posta: a
 ynur.turan@informa.com
LOCATION:Tüyap Fuar Ve Kongre Merkezi
BEGIN:VALARM
ACTION:DISPLAY
DESCRIPTION:Zuchex 36. Uluslararası Ev Ve Mutfak Eşyaları Fuarı
TRIGGER:-PT24H
END:VALARM
END:VEVENT
BEGIN:VEVENT
UID:6b971f7f-2d32-4cda-52d8-08de9f183112
DTSTAMP:20260420T200816Z
TRANSP:TRANSPARENT
DTSTART:20260917T060000Z
DTEND:20260920T150000Z
STATUS:CONFIRMED
SUMMARY:Intermob 2026    28.Uluslararası Mobilya Yan Sanayi, Aksesuarlar
 ı Orman Ürünleri Ve Ahşap Teknolojisi Fuarı
DESCRIPTION:Reed Tüyap Fuarcılık Anonim Şirketi tarafından düzenlen
 en ahşap orman ürünleri ve malzemeler\, mobilya aksesuarları\, oturm
 a grubu ve yatak üretim malzemeleri konulu fuarda görüşmek üzere: \
 n\nWeb:www.tuyap.com.tr\nE-Posta: isilgordi@hotmail.com
LOCATION:Tüyap Fuar Ve Kongre Merkezi
BEGIN:VALARM
ACTION:DISPLAY
DESCRIPTION:Intermob 2026    28.Uluslararası Mobilya Yan Sanayi, Aksesua
 rları Orman Ürünleri Ve Ahşap Teknolojisi Fuarı
TRIGGER:-PT24H
END:VALARM
END:VEVENT
BEGIN:VEVENT
UID:932a6082-513d-48ea-52d9-08de9f183112
DTSTAMP:20260420T200816Z
TRANSP:TRANSPARENT
DTSTART:20260917T060000Z
DTEND:20260920T150000Z
STATUS:CONFIRMED
SUMMARY:Fastener Expo Eurasia 
Avrasya Endüstriyel Bağlantı Ve Sabitle
 me Elemanları Fuarı
DESCRIPTION:Reed Tüyap Fuarcılık Anonim Şirketi tarafından düzenlen
 en endüstriyel bağlantı ve sabitleme elemanları\, üretim teknolojil
 eri konulu fuarda görüşmek üzere: \n\nWeb:www.tuyap.com.tr\nE-Posta:
  isilgordi@hotmail.com
LOCATION:Tüyap Fuar Ve Kongre Merkezi
BEGIN:VALARM
ACTION:DISPLAY
DESCRIPTION:Fastener Expo Eurasia 
Avrasya Endüstriyel Bağlantı Ve Sab
 itleme Elemanları Fuarı
TRIGGER:-PT24H
END:VALARM
END:VEVENT
BEGIN:VEVENT
UID:862ca465-da0b-4489-52da-08de9f183112
DTSTAMP:20260420T200816Z
TRANSP:TRANSPARENT
DTSTART:20260928T060000Z
DTEND:20261003T150000Z
STATUS:CONFIRMED
SUMMARY:Maktek Avrasya 2026 -  9. Uluslararası Takım Tezgahları, Metal
  Sac İşleme Makineleri, Tutucular -Kesici Takımlar, Kalite Kontrol, 
 Ölçüm Sistemleri, Cad/Cam, Plm, Yazılımları, Ve Üretim Teknolojil
 eri Fuarı
DESCRIPTION:Tüyap Tüm Fuarcılık Yapım Anonim Şirketi tarafından d
 üzenlenen takım tezgahları\, metal İşleme makineleri\, kaynak\, kes
 me\, delme teknolojileri\, kalite kontrol\, test ve ölçüm cihazları 
 konulu fuarda görüşmek üzere: \n\nWeb:www.tuyap.com.tr\nE-Posta: tuy
 ap@tuyap.com.tr
LOCATION:Tüyap Fuar Ve Kongre Merkezi
BEGIN:VALARM
ACTION:DISPLAY
DESCRIPTION:Maktek Avrasya 2026 -  9. Uluslararası Takım Tezgahları, M
 etal Sac İşleme Makineleri, Tutucular -Kesici Takımlar, Kalite Kontro
 l, Ölçüm Sistemleri, Cad/Cam, Plm, Yazılımları, Ve Üretim Teknolo
 jileri Fuarı
TRIGGER:-PT24H
END:VALARM
END:VEVENT
BEGIN:VEVENT
UID:ecfa77ad-35ac-408f-52db-08de9f183112
DTSTAMP:20260420T200816Z
TRANSP:TRANSPARENT
DTSTART:20261013T060000Z
DTEND:20261016T150000Z
STATUS:CONFIRMED
SUMMARY:Avrasya Ambalaj 2026- İstanbul 31.Uluslararası Ambalaj Endüstr
 isi Fuarı (Printpack&Converting-Ambalaj Baskı Teknolojileri, Oluklu Mu
 kavva-Kağıt-Karton Ambalaj Üretim Teknolojileri Özel Bölümü) /Foo
 dtech Eurasia Gıda İçecek Üretim Ve İşleme Teknolojileri Özel Bö
 lümü
DESCRIPTION:Reed Tüyap Fuarcılık Anonim Şirketi tarafından düzenlen
 en ambalaj ürünleri\, makineleri\, İçecek ve sıvı gıda teknolojil
 eri\, baskı teknolojiler\, oluklu mukavva karton\, gıda İçecek üret
 im ve İşleme teknolojileri konulu fuarda görüşmek üzere: \n\nWeb:w
 ww.tuyap.com.tr\nE-Posta: isilgordi@hotmail.com
LOCATION:Tüyap Fuar Ve Kongre Merkezi
BEGIN:VALARM
ACTION:DISPLAY
DESCRIPTION:Avrasya Ambalaj 2026- İstanbul 31.Uluslararası Ambalaj End
 üstrisi Fuarı (Printpack&Converting-Ambalaj Baskı Teknolojileri, Oluk
 lu Mukavva-Kağıt-Karton Ambalaj Üretim Teknolojileri Özel Bölümü)
  /Foodtech Eurasia Gıda İçecek Üretim Ve İşleme Teknolojileri Öze
 l Bölümü
TRIGGER:-PT24H
END:VALARM
END:VEVENT
BEGIN:VEVENT
UID:e7a97d0d-42b7-4225-52dc-08de9f183112
DTSTAMP:20260420T200816Z
TRANSP:TRANSPARENT
DTSTART:20261022T060000Z
DTEND:20261025T150000Z
STATUS:CONFIRMED
SUMMARY:Woodtech 2026 - 39.Uluslararası Ağaç İşleme Makineleri, Kesi
 ci Takımlar, El Aletleri Fuarı
DESCRIPTION:Reed Tüyap Fuarcılık Anonim Şirketi tarafından düzenlen
 en ağaç İşleme makineleri\, mobilya İmal  makine ve tezgahları\, k
 esici takımlar\, el aletleri konulu fuarda görüşmek üzere: \n\nWeb:
 www.tuyap.com.tr\nE-Posta: isilgordi@hotmail.com
LOCATION:Tüyap Fuar Ve Kongre Merkezi
BEGIN:VALARM
ACTION:DISPLAY
DESCRIPTION:Woodtech 2026 - 39.Uluslararası Ağaç İşleme Makineleri, 
 Kesici Takımlar, El Aletleri Fuarı
TRIGGER:-PT24H
END:VALARM
END:VEVENT
BEGIN:VEVENT
UID:a26a38ea-d5b1-4764-52dd-08de9f183112
DTSTAMP:20260420T200816Z
TRANSP:TRANSPARENT
DTSTART:20261031T060000Z
DTEND:20261103T150000Z
STATUS:CONFIRMED
SUMMARY:Promogıft Istanbul 2026, Kurumsal Tanıtım Ve Reklam Ürünleri
  Fuarı
DESCRIPTION:Informa Fuarcılık Anonim Şirketi tarafından düzenlenen k
 urumsal tanıtım ve reklam ürünleri konulu fuarda görüşmek üzere:
  \n\nWeb:www.promogiftistanbul.com\nE-Posta: aynur.turan@informa.com
LOCATION:Tüyap Fuar Ve Kongre Merkezi
BEGIN:VALARM
ACTION:DISPLAY
DESCRIPTION:Promogıft Istanbul 2026, Kurumsal Tanıtım Ve Reklam Ürün
 leri Fuarı
TRIGGER:-PT24H
END:VALARM
END:VEVENT
BEGIN:VEVENT
UID:431988be-9316-43a3-52de-08de9f183112
DTSTAMP:20260420T200816Z
TRANSP:TRANSPARENT
DTSTART:20261110T060000Z
DTEND:20261114T150000Z
STATUS:CONFIRMED
SUMMARY:Hostech By Tusıd  İstanbul Uluslararası  Otel, Restoran, Kafe 
 Gastronomi, Unlu Mamuller Ve Teknolojileri Fuarı
DESCRIPTION:Tüyap Tüm Fuarcılık Yapım Anonim Şirketi tarafından d
 üzenlenen mutfak ve catering donanımı\, masaüstü ekipmanları\, oda
  banyo ekipmanları\, çamaşırhane ekipmanları\, otel tekstili\, mobi
 lya ve dekorasyon end\, spor-havuz-spor ve rekreasyon endüstrisi\, kafe
  gastronomi\, unlu mamuller konulu fuarda görüşmek üzere: \n\nWeb:ww
 w.tuyap.com.tr\nE-Posta: tuyap@tuyap.com.tr
LOCATION:Tüyap Fuar Ve Kongre Merkezi
BEGIN:VALARM
ACTION:DISPLAY
DESCRIPTION:Hostech By Tusıd  İstanbul Uluslararası  Otel, Restoran, K
 afe Gastronomi, Unlu Mamuller Ve Teknolojileri Fuarı
TRIGGER:-PT24H
END:VALARM
END:VEVENT
BEGIN:VEVENT
UID:5e4a833b-92ad-47f7-52df-08de9f183112
DTSTAMP:20260420T200816Z
TRANSP:TRANSPARENT
DTSTART:20261121T060000Z
DTEND:20261124T150000Z
STATUS:CONFIRMED
SUMMARY:Avrasya Pencere& Avrasya Kapı 2026 - 27. Uluslararası Pencere, 
 Kapı, Panjur, Cephe Sistemleri Ve Aksesuarları, Profil Üretim Teknolo
 jileri Ve Makineleri, Yalıtım Malzemeleri, Hammadde Ve Tamamlayıcı 
 Ürünler Fuarı(Alüminyum Profil, Cephe Sistemleri Ve Aksesuarları Ö
 zel Bölümü /Gölgelendirme, Koruma Ve Kapatma Sistemleri Özel Bölü
 mü/Kapı, Kepenk, Geçiş Kontrol Sistemleri, Kilit Ve Aksesuarı  Öze
 l Bölümü )
DESCRIPTION:Reed Tüyap Fuarcılık Anonim Şirketi tarafından düzenlen
 en pencere\,kapı\, panjur\,cephe ve profil\,üretim makineleri\, aksesu
 ar\, yalıtım m\, hammadde konulu fuarda görüşmek üzere: \n\nWeb:ww
 w.tuyap.com.tr\nE-Posta: isilgordi@hotmail.com
LOCATION:Tüyap Fuar Ve Kongre Merkezi
BEGIN:VALARM
ACTION:DISPLAY
DESCRIPTION:Avrasya Pencere& Avrasya Kapı 2026 - 27. Uluslararası Pence
 re, Kapı, Panjur, Cephe Sistemleri Ve Aksesuarları, Profil Üretim Tek
 nolojileri Ve Makineleri, Yalıtım Malzemeleri, Hammadde Ve Tamamlayıc
 ı Ürünler Fuarı(Alüminyum Profil, Cephe Sistemleri Ve Aksesuarları
  Özel Bölümü /Gölgelendirme, Koruma Ve Kapatma Sistemleri Özel Bö
 lümü/Kapı, Kepenk, Geçiş Kontrol Sistemleri, Kilit Ve Aksesuarı  
 Özel Bölümü )
TRIGGER:-PT24H
END:VALARM
END:VEVENT
BEGIN:VEVENT
UID:48f3ec98-1176-4967-52e0-08de9f183112
DTSTAMP:20260420T200816Z
TRANSP:TRANSPARENT
DTSTART:20261121T060000Z
DTEND:20261124T150000Z
STATUS:CONFIRMED
SUMMARY:Avrasya Cam 2026 - 16. Uluslararası Cam Ürünleri Ve Uygulamala
 rı, Üretim-İşleme Teknolojileri Ve Makineleri, Tamamlayıcı Ürün 
 Ve Kimyasalları Fuarı
DESCRIPTION:Reed Tüyap Fuarcılık Anonim Şirketi tarafından düzenlen
 en cam ürünleri\, uygulamaları\, üretim İşleme teknolojileri ve ma
 kineleri\, tamamlayıcı ürün ve kimyasalları konulu fuarda görüşm
 ek üzere: \n\nWeb:www.tuyap.com.tr\nE-Posta: isilgordi@hotmail.com
LOCATION:Tüyap Fuar Ve Kongre Merkezi
BEGIN:VALARM
ACTION:DISPLAY
DESCRIPTION:Avrasya Cam 2026 - 16. Uluslararası Cam Ürünleri Ve Uygula
 maları, Üretim-İşleme Teknolojileri Ve Makineleri, Tamamlayıcı Ür
 ün Ve Kimyasalları Fuarı
TRIGGER:-PT24H
END:VALARM
END:VEVENT
BEGIN:VEVENT
UID:12541b41-02c7-4013-52e1-08de9f183112
DTSTAMP:20260420T200816Z
TRANSP:TRANSPARENT
DTSTART:20261202T060000Z
DTEND:20261205T150000Z
STATUS:CONFIRMED
SUMMARY:Plast  Eurasia  İstanbul    35.Uluslararası  Plastik Endüstris
 i Fuarı
DESCRIPTION:Tüyap Tüm Fuarcılık Yapım Anonim Şirketi tarafından d
 üzenlenen plastik makineleri\, hammaddeler\, kalıp\, isı\, kontrol ci
 hazları\, hidrolik-pnömatik konulu fuarda görüşmek üzere: \n\nWeb:
 www.tuyap.com.tr\nE-Posta: tuyap@tuyap.com.tr
LOCATION:Tüyap Fuar Ve Kongre Merkezi
BEGIN:VALARM
ACTION:DISPLAY
DESCRIPTION:Plast  Eurasia  İstanbul    35.Uluslararası  Plastik Endüs
 trisi Fuarı
TRIGGER:-PT24H
END:VALARM
END:VEVENT
BEGIN:VEVENT
UID:03e3bd87-646a-4982-52e2-08de9f183112
DTSTAMP:20260420T200816Z
TRANSP:TRANSPARENT
DTSTART:20261212T060000Z
DTEND:20261220T150000Z
STATUS:CONFIRMED
SUMMARY:İstanbul 43. Uluslararası  Kitap Fuarı
DESCRIPTION:Tüyap Tüm Fuarcılık Yapım Anonim Şirketi tarafından d
 üzenlenen kitap\, süreli yayın konulu fuarda görüşmek üzere: \n\n
 Web:www.tuyap.com.tr\nE-Posta: tuyap@tuyap.com.tr
LOCATION:Tüyap Fuar Ve Kongre Merkezi
BEGIN:VALARM
ACTION:DISPLAY
DESCRIPTION:İstanbul 43. Uluslararası  Kitap Fuarı
TRIGGER:-PT24H
END:VALARM
END:VEVENT
END:VCALENDAR
