BEGIN:VCALENDAR
VERSION:2.0
PRODID:itakvim.com
CALSCALE:GREGORIAN
METHOD:PUBLISH
UID:h2g14k7ehy4
X-WR-CALNAME:Tekirdağ Çorlu Yeni Fuar Alanı Takvimi
X-ITAKVIM-LANGUAGE:tr
X-ORIGINAL-URL:itakvim.com
REFRESH-INTERVAL;VALUE=DURATION:PT1H
X-ITAKVIM-REGION:TR
X-Robots-Tag:noindex
X-PUBLISHED-TTL:PT1H
BEGIN:VEVENT
UID:33ad0e62-14d2-440f-52e3-08de9f183112
DTSTAMP:20260420T200816Z
TRANSP:TRANSPARENT
DTSTART:20260519T060000Z
DTEND:20260524T150000Z
STATUS:CONFIRMED
SUMMARY:5. Doğada Yaşam- Trakya Kamp, Karavan, Doğa Sporları, Avcıl
 ık, Atıcılık, Balıkçılık, Alternatif Turizm, Arazi Araçları, S
 por Ve Outdoor Giyim Ve Aksesuarları Fuarı
DESCRIPTION:Renkli Fuarcılık Ltd. Şti. tarafından düzenlenen kamp\, 
 karavan\, doğa sporları\, avcılık\, atıcılık\, balıkçılık\, a
 lternatif turizm\, arazi araçları\, spor ve dış giyim konulu fuarda 
 görüşmek üzere: \n\nWeb:www.renklyfuar.com\nE-Posta: info@renklyfuar
 .com
LOCATION:Çorlu Yeni Fuar Alanı
BEGIN:VALARM
ACTION:DISPLAY
DESCRIPTION:5. Doğada Yaşam- Trakya Kamp, Karavan, Doğa Sporları, Avc
 ılık, Atıcılık, Balıkçılık, Alternatif Turizm, Arazi Araçları
 , Spor Ve Outdoor Giyim Ve Aksesuarları Fuarı
TRIGGER:-PT24H
END:VALARM
END:VEVENT
BEGIN:VEVENT
UID:925b3c1b-0b18-43d6-52e4-08de9f183112
DTSTAMP:20260420T200816Z
TRANSP:TRANSPARENT
DTSTART:20260810T060000Z
DTEND:20260815T150000Z
STATUS:CONFIRMED
SUMMARY:9. Euro Animalia Trakya Avrupa Hayvancılık Süt Ve Süt Ürünl
 eri Edüstrisi, İş Makinaları Fuarı
DESCRIPTION:Renkli Fuarcılık Ltd. Şti. tarafından düzenlenen hayvanc
 ılık ekipmanları\, süt teknolojileri\, kümes hayvanları\, mekaniza
 syon\, hayvan barınakları\, İş makinaları konulu fuarda görüşmek
  üzere: \n\nWeb:www.renklyfuar.com\nE-Posta: info@renklyfuar.com
LOCATION:Çorlu Yeni Fuar Alanı
BEGIN:VALARM
ACTION:DISPLAY
DESCRIPTION:9. Euro Animalia Trakya Avrupa Hayvancılık Süt Ve Süt Ür
 ünleri Edüstrisi, İş Makinaları Fuarı
TRIGGER:-PT24H
END:VALARM
END:VEVENT
BEGIN:VEVENT
UID:98c6b22c-23d7-475e-52e5-08de9f183112
DTSTAMP:20260420T200816Z
TRANSP:TRANSPARENT
DTSTART:20260810T060000Z
DTEND:20260815T150000Z
STATUS:CONFIRMED
SUMMARY:Çorlu 19.Tarımtech Trakya Avrupa Hayvancılık Sanayi Ve Gıda 
 Fuarı
DESCRIPTION:Renkli Fuarcılık Ltd. Şti. tarafından düzenlenen tarım 
 hayvancılık\, tohum\, gıda\, tohum\, meyvecilik\, sulama teknolojiler
 i konulu fuarda görüşmek üzere: \n\nWeb:www.renklyfuar.com\nE-Posta:
  info@renklyfuar.com
LOCATION:Çorlu Yeni Fuar Alanı
BEGIN:VALARM
ACTION:DISPLAY
DESCRIPTION:Çorlu 19.Tarımtech Trakya Avrupa Hayvancılık Sanayi Ve G
 ıda Fuarı
TRIGGER:-PT24H
END:VALARM
END:VEVENT
END:VCALENDAR
