BEGIN:VCALENDAR
VERSION:2.0
PRODID:itakvim.com
CALSCALE:GREGORIAN
METHOD:PUBLISH
UID:h5uz0h57va4
X-WR-CALNAME:Gelir Vergisi
X-ITAKVIM-LANGUAGE:tr
X-ORIGINAL-URL:itakvim.com
REFRESH-INTERVAL;VALUE=DURATION:PT1H
X-ITAKVIM-REGION:TR
X-Robots-Tag:noindex
X-PUBLISHED-TTL:PT1H
BEGIN:VEVENT
UID:622c27e2-566c-453b-7259-08dea0b24f2e
DTSTAMP:20260422T210149Z
TRANSP:TRANSPARENT
DTSTART:20260401T060000Z
DTEND:20260401T060000Z
STATUS:CONFIRMED
SUMMARY:Mart 2026 Dönemine Ait GVK 94. Madde ile KVK 15. ve 30. Maddeler
 ine Göre Yapılan Tevkifatların Muhtasar ve Prim Hizmet Beyannamesi il
 e Beyanı ve Ödemesi Başlangıç
DESCRIPTION:Mart 2026 Dönemi Gelir ve Kurumlar Vergisi Tevkifatlarının
  Beyan ve Ödemesi
BEGIN:VALARM
ACTION:DISPLAY
DESCRIPTION:Mart 2026 Dönemine Ait GVK 94. Madde ile KVK 15. ve 30. Madd
 elerine Göre Yapılan Tevkifatların Muhtasar ve Prim Hizmet Beyannames
 i ile Beyanı ve Ödemesi Başlangıç
TRIGGER:PT0S
END:VALARM
END:VEVENT
BEGIN:VEVENT
UID:e2deb5b3-6fc8-4965-725a-08dea0b24f2e
DTSTAMP:20260422T210149Z
TRANSP:TRANSPARENT
DTSTART:20260427T140000Z
DTEND:20260427T140000Z
STATUS:CONFIRMED
SUMMARY:Mart 2026 Dönemi Gelir ve Kurumlar Vergisi Tevkifatlarının Bey
 an ve Ödemesi Son Gün
DESCRIPTION:Mart 2026 Dönemine Ait GVK 94. Madde ile KVK 15. ve 30. Madd
 elerine Göre Yapılan Tevkifatların Muhtasar ve Prim Hizmet Beyannames
 i ile Beyanı ve Ödemesi
BEGIN:VALARM
ACTION:DISPLAY
DESCRIPTION:Mart 2026 Dönemi Gelir ve Kurumlar Vergisi Tevkifatlarının
  Beyan ve Ödemesi Son Gün
TRIGGER:-PT8H
END:VALARM
END:VEVENT
BEGIN:VEVENT
UID:b901d3c1-bae1-4694-725b-08dea0b24f2e
DTSTAMP:20260422T210149Z
TRANSP:TRANSPARENT
DTSTART:20260401T060000Z
DTEND:20260401T060000Z
STATUS:CONFIRMED
SUMMARY:Ocak-Şubat-Mart 2026 Dönemine Ait Tevkifatların Muhtasar ve Pr
 im Hizmet Beyannamesi ile Beyanı ve Ödemesi (GVK 98. Mad. 3. Fık. G
 öre Üçer Aylık Beyanname Verme Hakkından Yararlananlar İçin) Baş
 langıç
DESCRIPTION:Ocak-Şubat-Mart 2026 Dönemi Üçer Aylık Tevkifatların Be
 yan ve Ödemesi
BEGIN:VALARM
ACTION:DISPLAY
DESCRIPTION:Ocak-Şubat-Mart 2026 Dönemine Ait Tevkifatların Muhtasar v
 e Prim Hizmet Beyannamesi ile Beyanı ve Ödemesi (GVK 98. Mad. 3. Fık
 . Göre Üçer Aylık Beyanname Verme Hakkından Yararlananlar İçin) B
 aşlangıç
TRIGGER:PT0S
END:VALARM
END:VEVENT
BEGIN:VEVENT
UID:2ce8e1a7-c657-42a4-725c-08dea0b24f2e
DTSTAMP:20260422T210149Z
TRANSP:TRANSPARENT
DTSTART:20260427T140000Z
DTEND:20260427T140000Z
STATUS:CONFIRMED
SUMMARY:Ocak-Şubat-Mart 2026 Dönemi Üçer Aylık Tevkifatların Beyan 
 ve Ödemesi Son Gün
DESCRIPTION:Ocak-Şubat-Mart 2026 Dönemine Ait Tevkifatların Muhtasar v
 e Prim Hizmet Beyannamesi ile Beyanı ve Ödemesi (GVK 98. Mad. 3. Fık
 . Göre Üçer Aylık Beyanname Verme Hakkından Yararlananlar İçin)
BEGIN:VALARM
ACTION:DISPLAY
DESCRIPTION:Ocak-Şubat-Mart 2026 Dönemi Üçer Aylık Tevkifatların Be
 yan ve Ödemesi Son Gün
TRIGGER:-PT8H
END:VALARM
END:VEVENT
BEGIN:VEVENT
UID:dbbe2cd2-1e5b-4b8a-725d-08dea0b24f2e
DTSTAMP:20260422T210149Z
TRANSP:TRANSPARENT
DTSTART:20260401T060000Z
DTEND:20260401T060000Z
STATUS:CONFIRMED
SUMMARY:Ocak-Şubat-Mart 2026 Dönemine Ait GVK Geçici 67. Madde Kapsam
 ında Yapılan Tevkifatların Beyanı ve Ödemesi Başlangıç
DESCRIPTION:Ocak-Şubat-Mart 2026 Dönemi Üçer Aylık Tevkifatların Be
 yan ve Ödemesi
BEGIN:VALARM
ACTION:DISPLAY
DESCRIPTION:Ocak-Şubat-Mart 2026 Dönemine Ait GVK Geçici 67. Madde Kap
 samında Yapılan Tevkifatların Beyanı ve Ödemesi Başlangıç
TRIGGER:PT0S
END:VALARM
END:VEVENT
BEGIN:VEVENT
UID:3e13b0ad-c2d6-4e5e-725e-08dea0b24f2e
DTSTAMP:20260422T210149Z
TRANSP:TRANSPARENT
DTSTART:20260427T140000Z
DTEND:20260427T140000Z
STATUS:CONFIRMED
SUMMARY:Ocak-Şubat-Mart 2026 Dönemi Üçer Aylık Tevkifatların Beyan 
 ve Ödemesi Son Gün
DESCRIPTION:Ocak-Şubat-Mart 2026 Dönemine Ait GVK Geçici 67. Madde Kap
 samında Yapılan Tevkifatların Beyanı ve Ödemesi
BEGIN:VALARM
ACTION:DISPLAY
DESCRIPTION:Ocak-Şubat-Mart 2026 Dönemi Üçer Aylık Tevkifatların Be
 yan ve Ödemesi Son Gün
TRIGGER:-PT8H
END:VALARM
END:VEVENT
END:VCALENDAR
