BEGIN:VCALENDAR
VERSION:2.0
PRODID:itakvim.com
CALSCALE:GREGORIAN
METHOD:PUBLISH
UID:h7871g9hsxn
X-WR-CALNAME:Muğla Göcek Kültür Merkezi,Göcek Amfi Tiyatro,Göcek Muçev Marina Takvimi
X-ITAKVIM-LANGUAGE:tr
X-ORIGINAL-URL:itakvim.com
REFRESH-INTERVAL;VALUE=DURATION:PT1H
X-ITAKVIM-REGION:TR
X-Robots-Tag:noindex
X-PUBLISHED-TTL:PT1H
BEGIN:VEVENT
UID:e627d46b-aa9f-47b2-52e6-08de9f183112
DTSTAMP:20260420T200816Z
TRANSP:TRANSPARENT
DTSTART:20260506T060000Z
DTEND:20260510T150000Z
STATUS:CONFIRMED
SUMMARY:Super Yacht Show Türkiye
DESCRIPTION:Memetti Denizcilik Turizm Seyahat Sanayi Ve Ticaret Limited 
 Şirketi tarafından düzenlenen ticari charter teknelerin tanıtımlar
 ı\,türkiyede ve dünyada üretilen bot \,yatların tanıtımları konu
 lu fuarda görüşmek üzere: \n\nWeb:superyachtshowturkiye.com\nE-Posta
 : info@memettiyachting.com
LOCATION:Göcek Kültür Merkezi,Göcek Amfi Tiyatro,Göcek Muçev Marina
BEGIN:VALARM
ACTION:DISPLAY
DESCRIPTION:Super Yacht Show Türkiye
TRIGGER:-PT24H
END:VALARM
END:VEVENT
END:VCALENDAR
