BEGIN:VCALENDAR
VERSION:2.0
PRODID:itakvim.com
CALSCALE:GREGORIAN
METHOD:PUBLISH
UID:h9gq2od1pku
X-WR-CALNAME:İstanbul Intercontinental Istanbul Takvimi
X-ITAKVIM-LANGUAGE:tr
X-ORIGINAL-URL:itakvim.com
REFRESH-INTERVAL;VALUE=DURATION:PT1H
X-ITAKVIM-REGION:TR
X-Robots-Tag:noindex
X-PUBLISHED-TTL:PT1H
BEGIN:VEVENT
UID:1e534185-ef12-4033-52e7-08de9f183112
DTSTAMP:20260420T200816Z
TRANSP:TRANSPARENT
DTSTART:20260926T060000Z
DTEND:20260926T150000Z
STATUS:CONFIRMED
SUMMARY:Qs Discover Master Fuarı
DESCRIPTION:Study Expo Fuarcılık A.Ş. tarafından düzenlenen yurtdı
 şında yüksek lisans eğitimi konulu fuarda görüşmek üzere: \n\nWe
 b:www.qs.topuniversities.com/tr/events/masters/istanbul\nE-Posta: info@s
 tudyexpo.com
LOCATION:Intercontinental Istanbul
BEGIN:VALARM
ACTION:DISPLAY
DESCRIPTION:Qs Discover Master Fuarı
TRIGGER:-PT24H
END:VALARM
END:VEVENT
END:VCALENDAR
