BEGIN:VCALENDAR
VERSION:2.0
PRODID:itakvim.com
CALSCALE:GREGORIAN
METHOD:PUBLISH
UID:h9m6qc6y7bn
X-WR-CALNAME:Gençlerbirliği
X-ITAKVIM-LANGUAGE:tr
X-ORIGINAL-URL:itakvim.com
REFRESH-INTERVAL;VALUE=DURATION:PT1H
X-ITAKVIM-REGION:TR
X-Robots-Tag:noindex
X-PUBLISHED-TTL:PT1H
BEGIN:VEVENT
UID:0976e6ca-7b10-42bf-f1c8-08de803bfc4d
DTSTAMP:20260312T134544Z
TRANSP:TRANSPARENT
DTSTART:20250809T160000Z
DTEND:20250809T173000Z
STATUS:CONFIRMED
SUMMARY:SAMSUNSPOR A.Ş. - GENÇLERBİRLİĞİ
LOCATION:SAMSUN YENİ 19 MAYIS - SAMSUN - SAMSUN MERKEZ
END:VEVENT
BEGIN:VEVENT
UID:6c5af388-45de-40a7-f1c9-08de803bfc4d
DTSTAMP:20260312T134544Z
TRANSP:TRANSPARENT
DTSTART:20250817T160000Z
DTEND:20250817T173000Z
STATUS:CONFIRMED
SUMMARY:GENÇLERBİRLİĞİ - HESAP.COM ANTALYASPOR
LOCATION:ERYAMAN STADYUMU - ANKARA - ETİMESGUT
END:VEVENT
BEGIN:VEVENT
UID:d0960d2c-0288-4237-f1ca-08de803bfc4d
DTSTAMP:20260312T134544Z
TRANSP:TRANSPARENT
DTSTART:20250823T183000Z
DTEND:20250823T200000Z
STATUS:CONFIRMED
SUMMARY:GAZİANTEP FUTBOL KULÜBÜ A.Ş. - GENÇLERBİRLİĞİ
LOCATION:GAZİANTEP STADYUMU - GAZİANTEP - ŞEHİTKAMİL
END:VEVENT
BEGIN:VEVENT
UID:6ec4a7b7-a5ca-4363-f1cb-08de803bfc4d
DTSTAMP:20260312T134544Z
TRANSP:TRANSPARENT
DTSTART:20250831T160000Z
DTEND:20250831T173000Z
STATUS:CONFIRMED
SUMMARY:GENÇLERBİRLİĞİ - FENERBAHÇE A.Ş.
LOCATION:ERYAMAN STADYUMU - ANKARA - ETİMESGUT
END:VEVENT
BEGIN:VEVENT
UID:3a3cf8e6-e51f-43a8-f1cc-08de803bfc4d
DTSTAMP:20260312T134544Z
TRANSP:TRANSPARENT
DTSTART:20250915T170000Z
DTEND:20250915T183000Z
STATUS:CONFIRMED
SUMMARY:ÇAYKUR RİZESPOR A.Ş. - GENÇLERBİRLİĞİ
LOCATION:ÇAYKUR DİDİ - RİZE - RİZE MERKEZ
END:VEVENT
BEGIN:VEVENT
UID:dfed396b-ce9c-40b8-f1cd-08de803bfc4d
DTSTAMP:20260312T134544Z
TRANSP:TRANSPARENT
DTSTART:20250920T140000Z
DTEND:20250920T153000Z
STATUS:CONFIRMED
SUMMARY:GENÇLERBİRLİĞİ - İKAS EYÜPSPOR
LOCATION:ERYAMAN STADYUMU - ANKARA - ETİMESGUT
END:VEVENT
BEGIN:VEVENT
UID:ea46ce04-8243-4424-f1ce-08de803bfc4d
DTSTAMP:20260312T134544Z
TRANSP:TRANSPARENT
DTSTART:20250928T170000Z
DTEND:20250928T183000Z
STATUS:CONFIRMED
SUMMARY:ZECORNER KAYSERİSPOR - GENÇLERBİRLİĞİ
LOCATION:RHG ENERTÜRK ENERJİ STADYUMU - KAYSERİ - MERKEZ
END:VEVENT
BEGIN:VEVENT
UID:2eacae9f-7649-4a59-f1cf-08de803bfc4d
DTSTAMP:20260312T134544Z
TRANSP:TRANSPARENT
DTSTART:20251004T113000Z
DTEND:20251004T130000Z
STATUS:CONFIRMED
SUMMARY:GENÇLERBİRLİĞİ - CORENDON ALANYASPOR
LOCATION:ERYAMAN STADYUMU - ANKARA - ETİMESGUT
END:VEVENT
BEGIN:VEVENT
UID:4f16e9b0-5b61-4694-f1d0-08de803bfc4d
DTSTAMP:20260312T134544Z
TRANSP:TRANSPARENT
DTSTART:20251018T140300Z
DTEND:20251018T153300Z
STATUS:CONFIRMED
SUMMARY:BEŞİKTAŞ A.Ş. - GENÇLERBİRLİĞİ
LOCATION:BEŞİKTAŞ PARK - İSTANBUL - BEŞİKTAŞ
END:VEVENT
BEGIN:VEVENT
UID:02006b78-8cdd-42e6-f1d1-08de803bfc4d
DTSTAMP:20260312T134544Z
TRANSP:TRANSPARENT
DTSTART:20251026T140000Z
DTEND:20251026T153000Z
STATUS:CONFIRMED
SUMMARY:GENÇLERBİRLİĞİ - TÜMOSAN KONYASPOR
LOCATION:ERYAMAN STADYUMU - ANKARA - ETİMESGUT
END:VEVENT
BEGIN:VEVENT
UID:4fcacef8-5a30-40ea-f1d2-08de803bfc4d
DTSTAMP:20260312T134544Z
TRANSP:TRANSPARENT
DTSTART:20251101T140000Z
DTEND:20251101T153000Z
STATUS:CONFIRMED
SUMMARY:GÖZTEPE A.Ş. - GENÇLERBİRLİĞİ
LOCATION:GÜRSEL AKSEL STADYUMU - İZMİR - KONAK
END:VEVENT
BEGIN:VEVENT
UID:88f3744f-8e5f-4251-f1d3-08de803bfc4d
DTSTAMP:20260312T134544Z
TRANSP:TRANSPARENT
DTSTART:20251107T170000Z
DTEND:20251107T183000Z
STATUS:CONFIRMED
SUMMARY:GENÇLERBİRLİĞİ - RAMS BAŞAKŞEHİR FUTBOL KULÜBÜ
LOCATION:ERYAMAN STADYUMU - ANKARA - ETİMESGUT
END:VEVENT
BEGIN:VEVENT
UID:7580a8e3-1ba2-4c55-f1d4-08de803bfc4d
DTSTAMP:20260312T134544Z
TRANSP:TRANSPARENT
DTSTART:20251122T170000Z
DTEND:20251122T183000Z
STATUS:CONFIRMED
SUMMARY:GALATASARAY A.Ş. - GENÇLERBİRLİĞİ
LOCATION:ALİ SAMİ YEN SPOR KOMPLEKSİ RAMS PARK - İSTANBUL -
END:VEVENT
BEGIN:VEVENT
UID:ff3b0b1f-0c6e-420f-f1d5-08de803bfc4d
DTSTAMP:20260312T134544Z
TRANSP:TRANSPARENT
DTSTART:20251128T170000Z
DTEND:20251128T183000Z
STATUS:CONFIRMED
SUMMARY:KOCAELİSPOR - GENÇLERBİRLİĞİ
LOCATION:KOCAELİ STADYUMU - KOCAELİ - KOCAELİ MERKEZ
END:VEVENT
BEGIN:VEVENT
UID:21d03e2c-e30d-49bc-f1d6-08de803bfc4d
DTSTAMP:20260312T134544Z
TRANSP:TRANSPARENT
DTSTART:20251207T113000Z
DTEND:20251207T130000Z
STATUS:CONFIRMED
SUMMARY:GENÇLERBİRLİĞİ - MISIRLI.COM.TR FATİH KARAGÜMRÜK
LOCATION:ERYAMAN STADYUMU - ANKARA - ETİMESGUT
END:VEVENT
BEGIN:VEVENT
UID:a5f48a56-1b06-49bd-f1d7-08de803bfc4d
DTSTAMP:20260312T134544Z
TRANSP:TRANSPARENT
DTSTART:20251212T170000Z
DTEND:20251212T183000Z
STATUS:CONFIRMED
SUMMARY:KASIMPAŞA A.Ş. - GENÇLERBİRLİĞİ
LOCATION:RECEP TAYYİP ERDOĞAN STADYUMU - İSTANBUL - BEYOĞLU
END:VEVENT
BEGIN:VEVENT
UID:57b59998-7ca6-4557-f1d8-08de803bfc4d
DTSTAMP:20260312T134544Z
TRANSP:TRANSPARENT
DTSTART:20251222T170000Z
DTEND:20251222T183000Z
STATUS:CONFIRMED
SUMMARY:GENÇLERBİRLİĞİ - TRABZONSPOR A.Ş.
LOCATION:ERYAMAN STADYUMU - ANKARA - ETİMESGUT
END:VEVENT
BEGIN:VEVENT
UID:8def3042-f848-4de7-f1d9-08de803bfc4d
DTSTAMP:20260312T134544Z
TRANSP:TRANSPARENT
DTSTART:20260118T140000Z
DTEND:20260118T153000Z
STATUS:CONFIRMED
SUMMARY:GENÇLERBİRLİĞİ - SAMSUNSPOR A.Ş.
LOCATION:ERYAMAN STADYUMU - ANKARA - ETİMESGUT
END:VEVENT
BEGIN:VEVENT
UID:da9b6b6e-e5b4-4e0b-f1da-08de803bfc4d
DTSTAMP:20260312T134544Z
TRANSP:TRANSPARENT
DTSTART:20260125T140000Z
DTEND:20260125T153000Z
STATUS:CONFIRMED
SUMMARY:HESAP.COM ANTALYASPOR - GENÇLERBİRLİĞİ
LOCATION:CORENDON AIRLINES PARK ANTALYA STADI - ANTALYA - A
END:VEVENT
BEGIN:VEVENT
UID:1314ea80-cb03-4d87-f1db-08de803bfc4d
DTSTAMP:20260312T134544Z
TRANSP:TRANSPARENT
DTSTART:20260201T140000Z
DTEND:20260201T153000Z
STATUS:CONFIRMED
SUMMARY:GENÇLERBİRLİĞİ - GAZİANTEP FUTBOL KULÜBÜ A.Ş.
LOCATION:ERYAMAN STADYUMU - ANKARA - ETİMESGUT
END:VEVENT
END:VCALENDAR
