BEGIN:VCALENDAR
VERSION:2.0
PRODID:itakvim.com
CALSCALE:GREGORIAN
METHOD:PUBLISH
UID:haz2epi786y
X-WR-CALNAME:Wow İstanbul Hotels And Conventıon Center Takvimi
X-ITAKVIM-LANGUAGE:tr
X-ORIGINAL-URL:itakvim.com
REFRESH-INTERVAL;VALUE=DURATION:PT1H
X-ITAKVIM-REGION:TR
X-Robots-Tag:noindex
X-PUBLISHED-TTL:PT1H
BEGIN:VEVENT
UID:45bfcdce-4979-4685-59ad-08de9f8ee600
DTSTAMP:20260421T101546Z
TRANSP:TRANSPARENT
DTSTART:20261209T060000Z
DTEND:20261210T150000Z
STATUS:CONFIRMED
SUMMARY:İstanbul Yerel Marketler Buluşması Ve Fuarı
DESCRIPTION:Focus Fuar Ve Kongre Yönetimi Anonim Şirketi tarafından d
 üzenlenen yerli üretici ve perakendecilerin iş geliştirmelerini sağ
 lamak konulu fuarda görüşmek üzere: \n\nWeb:www.focusfairs.com\nE-Po
 sta: d.kuran@focusfairs.com
LOCATION:Wow İstanbul Hotels And Conventıon Center
BEGIN:VALARM
ACTION:DISPLAY
DESCRIPTION:İstanbul Yerel Marketler Buluşması Ve Fuarı
TRIGGER:-PT24H
END:VALARM
END:VEVENT
END:VCALENDAR
