BEGIN:VCALENDAR
VERSION:2.0
PRODID:itakvim.com
CALSCALE:GREGORIAN
METHOD:PUBLISH
UID:hjg55c7vwdt
X-WR-CALNAME:Bursa Fuar Merkezi Takvimi
X-ITAKVIM-LANGUAGE:tr
X-ORIGINAL-URL:itakvim.com
REFRESH-INTERVAL;VALUE=DURATION:PT1H
X-ITAKVIM-REGION:TR
X-Robots-Tag:noindex
X-PUBLISHED-TTL:PT1H
BEGIN:VEVENT
UID:becd5954-2739-418e-52e9-08de9f183112
DTSTAMP:20260420T200816Z
TRANSP:TRANSPARENT
DTSTART:20260421T060000Z
DTEND:20260426T150000Z
STATUS:CONFIRMED
SUMMARY:Karavan Show Bursa
DESCRIPTION:Birleşik Fuar Yapım Anonim Şirketi tarafından düzenlenen
  2.kamp \, karavan ve ekipmanları\, alternatif turizm fuarı konulu fua
 rda görüşmek üzere: \n\nWeb:www.bifasfuar.com\nE-Posta: info@bifasfu
 ar.com
LOCATION:Bursa Fuar Merkezi
BEGIN:VALARM
ACTION:DISPLAY
DESCRIPTION:Karavan Show Bursa
TRIGGER:-PT24H
END:VALARM
END:VEVENT
BEGIN:VEVENT
UID:5ca56547-ee05-4c5b-52ea-08de9f183112
DTSTAMP:20260420T200816Z
TRANSP:TRANSPARENT
DTSTART:20260423T060000Z
DTEND:20260426T150000Z
STATUS:CONFIRMED
SUMMARY:Rısıng Cıty & Yapı Ve Yaşam Fuarı
DESCRIPTION:Kfa Fuarcılık Anonim Şirketi tarafından düzenlenen yapı
  malzemeleri\, gayrimenkul ve gayrimenkul projeleri konulu fuarda görü
 şmek üzere: \n\nWeb:www.kfa.com.tr\nE-Posta: info@kfa.com.tr
LOCATION:Bursa Fuar Merkezi
BEGIN:VALARM
ACTION:DISPLAY
DESCRIPTION:Rısıng Cıty & Yapı Ve Yaşam Fuarı
TRIGGER:-PT24H
END:VALARM
END:VEVENT
BEGIN:VEVENT
UID:1fd1bd39-0082-4ada-52eb-08de9f183112
DTSTAMP:20260420T200816Z
TRANSP:TRANSPARENT
DTSTART:20260611T060000Z
DTEND:20260613T150000Z
STATUS:CONFIRMED
SUMMARY:Bursa Food Poınt Gıda Ürünleri Ve Teknolojileri Fuarı
DESCRIPTION:Kfa Fuarcılık Anonim Şirketi tarafından düzenlenen gıda
  ürünleri ve teknolojileri konulu fuarda görüşmek üzere: \n\nWeb:w
 ww.kfa.com.tr\nE-Posta: info@kfa.com.tr
LOCATION:Bursa Fuar Merkezi
BEGIN:VALARM
ACTION:DISPLAY
DESCRIPTION:Bursa Food Poınt Gıda Ürünleri Ve Teknolojileri Fuarı
TRIGGER:-PT24H
END:VALARM
END:VEVENT
BEGIN:VEVENT
UID:56975c24-4915-4ed8-52ec-08de9f183112
DTSTAMP:20260420T200816Z
TRANSP:TRANSPARENT
DTSTART:20260611T060000Z
DTEND:20260613T150000Z
STATUS:CONFIRMED
SUMMARY:Turfood/ 7.Bursa Gıda Fuarı
DESCRIPTION:Network Fuarcılık Ticaret Ltd. Şti. tarafından düzenlene
 n horeca\, gıda ürünleri ve teknolojileri konulu fuarda görüşmek 
 üzere: \n\nWeb:www.networkfuar.com\nE-Posta: info@networkfuar.com
LOCATION:Bursa Fuar Merkezi
BEGIN:VALARM
ACTION:DISPLAY
DESCRIPTION:Turfood/ 7.Bursa Gıda Fuarı
TRIGGER:-PT24H
END:VALARM
END:VEVENT
BEGIN:VEVENT
UID:5f4367d1-047e-448d-52ed-08de9f183112
DTSTAMP:20260420T200816Z
TRANSP:TRANSPARENT
DTSTART:20261001T060000Z
DTEND:20261003T150000Z
STATUS:CONFIRMED
SUMMARY:Komtrans Ticari Araçlar Fuarı
DESCRIPTION:Kfa Fuarcılık Anonim Şirketi tarafından düzenlenen ticar
 i araçlar ve tedarik sanayii konulu fuarda görüşmek üzere: \n\nWeb:
 www.kfa.com.tr\nE-Posta: info@kfa.com.tr
LOCATION:Bursa Fuar Merkezi
BEGIN:VALARM
ACTION:DISPLAY
DESCRIPTION:Komtrans Ticari Araçlar Fuarı
TRIGGER:-PT24H
END:VALARM
END:VEVENT
BEGIN:VEVENT
UID:1d3c0ec5-4fd6-4d8c-52ee-08de9f183112
DTSTAMP:20260420T200816Z
TRANSP:TRANSPARENT
DTSTART:20261014T060000Z
DTEND:20261017T150000Z
STATUS:CONFIRMED
SUMMARY:Agrogreen Bursa 2. Tarım, Hayvancılık, Süt, Sera Teknolojile
 ri, Tohum Fide Fidan Ve Canlı Hayvan Fuarı
DESCRIPTION:Gl Platform Fuar Hizmetleri Limited Şirketi tarafından düz
 enlenen canlı hayvan\, tarım\, hayvancılık\, tarım makineleri\, et\
 , süt\, sera teknolojileri\, yem\, tohum konulu fuarda görüşmek üze
 re: \n\nWeb:www.agrogreenfairbursa.com\nE-Posta: info@glplatformfuar.com
LOCATION:Bursa Fuar Merkezi
BEGIN:VALARM
ACTION:DISPLAY
DESCRIPTION:Agrogreen Bursa 2. Tarım, Hayvancılık, Süt, Sera Teknolo
 jileri, Tohum Fide Fidan Ve Canlı Hayvan Fuarı
TRIGGER:-PT24H
END:VALARM
END:VEVENT
BEGIN:VEVENT
UID:af4f24b8-f66d-4e5a-52ef-08de9f183112
DTSTAMP:20260420T200816Z
TRANSP:TRANSPARENT
DTSTART:20261125T060000Z
DTEND:20261128T150000Z
STATUS:CONFIRMED
SUMMARY:Meexx Makine Ve Teknolojileri Fuarı
DESCRIPTION:Kfa Fuarcılık Anonim Şirketi tarafından düzenlenen makin
 e ve makine teknolojileri konulu fuarda görüşmek üzere: \n\nWeb:www.
 kfa.com.tr\nE-Posta: info@kfa.com.tr
LOCATION:Bursa Fuar Merkezi
BEGIN:VALARM
ACTION:DISPLAY
DESCRIPTION:Meexx Makine Ve Teknolojileri Fuarı
TRIGGER:-PT24H
END:VALARM
END:VEVENT
END:VCALENDAR
