BEGIN:VCALENDAR
VERSION:2.0
PRODID:itakvim.com
CALSCALE:GREGORIAN
METHOD:PUBLISH
UID:hjkku4q021y
X-WR-CALNAME:Amasya Merzifon Kapalı Pazar Yeri Ve Fuar Alanı Takvimi
X-ITAKVIM-LANGUAGE:tr
X-ORIGINAL-URL:itakvim.com
REFRESH-INTERVAL;VALUE=DURATION:PT1H
X-ITAKVIM-REGION:TR
X-Robots-Tag:noindex
X-PUBLISHED-TTL:PT1H
BEGIN:VEVENT
UID:6bd7b585-1848-48ec-52f0-08de9f183112
DTSTAMP:20260420T200816Z
TRANSP:TRANSPARENT
DTSTART:20260514T060000Z
DTEND:20260517T150000Z
STATUS:CONFIRMED
SUMMARY:Okaf Orta Karadeniz Tarım, Hayvancılık Ve Gıda Sanayi Fuarı
DESCRIPTION:Btkexpo Fuarcılık Etkinlik Caterıng Reklam Tanıtım Ve St
 ant Üretim Hizmetleri Limited Şirketi tarafından düzenlenen tarım\,
  hayvancılık\, mekanizasyon ve gıda konulu fuarda görüşmek üzere:
  \n\nWeb:btkexpo.com\nE-Posta: daghank@gmail.com
LOCATION:Merzifon Kapalı Pazar Yeri Ve Fuar Alanı
BEGIN:VALARM
ACTION:DISPLAY
DESCRIPTION:Okaf Orta Karadeniz Tarım, Hayvancılık Ve Gıda Sanayi Fua
 rı
TRIGGER:-PT24H
END:VALARM
END:VEVENT
END:VCALENDAR
