BEGIN:VCALENDAR
VERSION:2.0
PRODID:itakvim.com
CALSCALE:GREGORIAN
METHOD:PUBLISH
UID:hpez908arp6
X-WR-CALNAME:Corendon Alanyaspor
X-ITAKVIM-LANGUAGE:tr
X-ORIGINAL-URL:itakvim.com
REFRESH-INTERVAL;VALUE=DURATION:PT1H
X-ITAKVIM-REGION:TR
X-Robots-Tag:noindex
X-PUBLISHED-TTL:PT1H
BEGIN:VEVENT
UID:ddb66982-747f-476b-dd41-08de9c03c470
DTSTAMP:20260416T220746Z
TRANSP:TRANSPARENT
DTSTART:20260419T113000Z
DTEND:20260419T113000Z
STATUS:CONFIRMED
SUMMARY:KASIMPAŞA A.Ş. - CORENDON ALANYASPOR
LOCATION:RECEP TAYYİP ERDOĞAN STADYUMU - İSTANBUL
BEGIN:VALARM
ACTION:DISPLAY
DESCRIPTION:KASIMPAŞA A.Ş. - CORENDON ALANYASPOR
TRIGGER:PT0S
END:VALARM
END:VEVENT
BEGIN:VEVENT
UID:2b7ef1f2-e705-4cd8-dd42-08de9c03c470
DTSTAMP:20260416T220746Z
TRANSP:TRANSPARENT
DTSTART:20260427T140000Z
DTEND:20260427T140000Z
STATUS:CONFIRMED
SUMMARY:CORENDON ALANYASPOR - SAMSUNSPOR A.Ş.
LOCATION:ALANYA OBA STADYUMU - ANTALYA
BEGIN:VALARM
ACTION:DISPLAY
DESCRIPTION:CORENDON ALANYASPOR - SAMSUNSPOR A.Ş.
TRIGGER:PT0S
END:VALARM
END:VEVENT
BEGIN:VEVENT
UID:ff85b8d9-f971-435c-dd43-08de9c03c470
DTSTAMP:20260416T220746Z
TRANSP:TRANSPARENT
DTSTART:20260502T210000Z
DTEND:20260502T210000Z
STATUS:CONFIRMED
SUMMARY:HESAP.COM ANTALYASPOR - CORENDON ALANYASPOR
LOCATION:CORENDON AIRLINES PARK ANTALYA STADI - ANTALYA
BEGIN:VALARM
ACTION:DISPLAY
DESCRIPTION:HESAP.COM ANTALYASPOR - CORENDON ALANYASPOR
TRIGGER:PT0S
END:VALARM
END:VEVENT
BEGIN:VEVENT
UID:3815694c-9f9c-468b-dd44-08de9c03c470
DTSTAMP:20260416T220746Z
TRANSP:TRANSPARENT
DTSTART:20260509T210000Z
DTEND:20260509T210000Z
STATUS:CONFIRMED
SUMMARY:CORENDON ALANYASPOR - ZECORNER KAYSERİSPOR
LOCATION:ALANYA OBA STADYUMU - ANTALYA
BEGIN:VALARM
ACTION:DISPLAY
DESCRIPTION:CORENDON ALANYASPOR - ZECORNER KAYSERİSPOR
TRIGGER:PT0S
END:VALARM
END:VEVENT
BEGIN:VEVENT
UID:4699848a-36b5-48eb-dd45-08de9c03c470
DTSTAMP:20260416T220746Z
TRANSP:TRANSPARENT
DTSTART:20260516T210000Z
DTEND:20260516T210000Z
STATUS:CONFIRMED
SUMMARY:MISIRLI.COM.TR FATİH KARAGÜMRÜK - CORENDON ALANYASPOR
LOCATION:ATATÜRK OLİMPİYAT
BEGIN:VALARM
ACTION:DISPLAY
DESCRIPTION:MISIRLI.COM.TR FATİH KARAGÜMRÜK - CORENDON ALANYASPOR
TRIGGER:PT0S
END:VALARM
END:VEVENT
END:VCALENDAR
