BEGIN:VCALENDAR
VERSION:2.0
PRODID:itakvim.com
CALSCALE:GREGORIAN
METHOD:PUBLISH
UID:hrj83oq1rdm
X-WR-CALNAME:Ankara Ato Kongre Ve Sergi Sarayı 'Congresıum' Takvimi
X-ITAKVIM-LANGUAGE:tr
X-ORIGINAL-URL:itakvim.com
REFRESH-INTERVAL;VALUE=DURATION:PT1H
X-ITAKVIM-REGION:TR
X-Robots-Tag:noindex
X-PUBLISHED-TTL:PT1H
BEGIN:VEVENT
UID:ce1410d6-c40f-493e-59b7-08de9f8ee600
DTSTAMP:20260421T101545Z
TRANSP:TRANSPARENT
DTSTART:20260325T060000Z
DTEND:20260329T150000Z
STATUS:CONFIRMED
SUMMARY:Artankara 12.Uluslararası Çağdaş  Sanat Fuarı
DESCRIPTION:Atis Fuarcılık Anonim Şirketi tarafından düzenlenen sana
 t ve sanatsal ürünler konulu fuarda görüşmek üzere: \n\nWeb:www.ar
 tfairankara.com\nE-Posta: info@atisfuar.com
LOCATION:Ato Kongre Ve Sergi Sarayı 'Congresıum'
BEGIN:VALARM
ACTION:DISPLAY
DESCRIPTION:Artankara 12.Uluslararası Çağdaş  Sanat Fuarı
TRIGGER:-PT24H
END:VALARM
END:VEVENT
BEGIN:VEVENT
UID:dff7b476-1ec3-4d87-59b8-08de9f8ee600
DTSTAMP:20260421T101545Z
TRANSP:TRANSPARENT
DTSTART:20260403T060000Z
DTEND:20260412T150000Z
STATUS:CONFIRMED
SUMMARY:23. Ankara Kitap Fuarı
DESCRIPTION:Eylül Fuar Organizasyon Sergi Ve Panayır Tanıtım Ticaret 
 Limited Şirketi tarafından düzenlenen kitap ve süreli yayınlar konu
 lu fuarda görüşmek üzere: \n\nWeb:www.eylulfuar.com\nE-Posta: aslisa
 nversmmm@gmail.com
LOCATION:Ato Kongre Ve Sergi Sarayı 'Congresıum'
BEGIN:VALARM
ACTION:DISPLAY
DESCRIPTION:23. Ankara Kitap Fuarı
TRIGGER:-PT24H
END:VALARM
END:VEVENT
BEGIN:VEVENT
UID:07e00e55-6153-4271-59b9-08de9f8ee600
DTSTAMP:20260421T101545Z
TRANSP:TRANSPARENT
DTSTART:20260416T060000Z
DTEND:20260419T150000Z
STATUS:CONFIRMED
SUMMARY:Teknoloji Ve Verimlilik Fuarı
DESCRIPTION:Likapa Fair Fuarcılık Ticaret Anonim Şirketi tarafından d
 üzenlenen verimlilik\, teknoloji\, bilişim\, telekomünikasyon\, akıl
 lı çözümler konulu fuarda görüşmek üzere: \n\nWeb:www.verimlilik
 veteknoloji.com\nE-Posta: likapafair@gmail.com
LOCATION:Ato Kongre Ve Sergi Sarayı 'Congresıum'
BEGIN:VALARM
ACTION:DISPLAY
DESCRIPTION:Teknoloji Ve Verimlilik Fuarı
TRIGGER:-PT24H
END:VALARM
END:VEVENT
BEGIN:VEVENT
UID:8ba99c21-d0b2-49b9-59ba-08de9f8ee600
DTSTAMP:20260421T101545Z
TRANSP:TRANSPARENT
DTSTART:20260507T060000Z
DTEND:20260510T150000Z
STATUS:CONFIRMED
SUMMARY:Tesbih Ve Antika Fuarı
DESCRIPTION:Anatolıa Fuar A.Ş. tarafından düzenlenen tesbih doğal ta
 şlar antikalar konulu fuarda görüşmek üzere: \n\nWeb:www.anatoliagr
 up.com.tr\nE-Posta: info@anatoliagrup.com.tr
LOCATION:Ato Kongre Ve Sergi Sarayı 'Congresıum'
BEGIN:VALARM
ACTION:DISPLAY
DESCRIPTION:Tesbih Ve Antika Fuarı
TRIGGER:-PT24H
END:VALARM
END:VEVENT
BEGIN:VEVENT
UID:4a0311d5-5a60-474a-59bb-08de9f8ee600
DTSTAMP:20260421T101545Z
TRANSP:TRANSPARENT
DTSTART:20260611T060000Z
DTEND:20260614T150000Z
STATUS:CONFIRMED
SUMMARY:Sweet Home Yapı Ve Dekorasyon Fuarı
DESCRIPTION:Atis Fuarcılık Anonim Şirketi tarafından düzenlenen inş
 aat ve dekorasyon malzemeleri konulu fuarda görüşmek üzere: \n\nWeb:
 www.atisfuar.com\nE-Posta: info@atisfuar.com
LOCATION:Ato Kongre Ve Sergi Sarayı 'Congresıum'
BEGIN:VALARM
ACTION:DISPLAY
DESCRIPTION:Sweet Home Yapı Ve Dekorasyon Fuarı
TRIGGER:-PT24H
END:VALARM
END:VEVENT
BEGIN:VEVENT
UID:34269d66-a7e1-4737-59bc-08de9f8ee600
DTSTAMP:20260421T101545Z
TRANSP:TRANSPARENT
DTSTART:20260617T060000Z
DTEND:20260621T150000Z
STATUS:CONFIRMED
SUMMARY:İslam Sanatları Fuarı
DESCRIPTION:Likapa Fair Fuarcılık Ticaret A.Ş. tarafından düzenlenen
  islam sanatları konulu fuarda görüşmek üzere: \n\nWeb:islamsanatla
 rifuari.com\nE-Posta: likapafair@gmail.com
LOCATION:Ato Kongre Ve Sergi Sarayı 'Congresıum'
BEGIN:VALARM
ACTION:DISPLAY
DESCRIPTION:İslam Sanatları Fuarı
TRIGGER:-PT24H
END:VALARM
END:VEVENT
BEGIN:VEVENT
UID:ebe4480f-c5b6-4ef2-59bd-08de9f8ee600
DTSTAMP:20260421T101545Z
TRANSP:TRANSPARENT
DTSTART:20261014T060000Z
DTEND:20261016T150000Z
STATUS:CONFIRMED
SUMMARY:Ida Türkiye - Savunma Ve Havacılıkta Endüstriyel İşbirliği
  Günleri Ve Fuarı
DESCRIPTION:Ostim Proje Ve Teknoloji Gelişim Eğitim Danışmanlık Hizm
 etleri Anonim Şirketi tarafından düzenlenen savunma ve askeri ve sivi
 l havacılık teknolojileri konulu fuarda görüşmek üzere: \n\nWeb:ww
 w.icdda.com.tr\nE-Posta: mbiber@omedya.com
LOCATION:Ato Kongre Ve Sergi Sarayı 'Congresıum'
BEGIN:VALARM
ACTION:DISPLAY
DESCRIPTION:Ida Türkiye - Savunma Ve Havacılıkta Endüstriyel İşbirl
 iği Günleri Ve Fuarı
TRIGGER:-PT24H
END:VALARM
END:VEVENT
BEGIN:VEVENT
UID:c0055be0-341c-4a68-59be-08de9f8ee600
DTSTAMP:20260421T101545Z
TRANSP:TRANSPARENT
DTSTART:20261021T060000Z
DTEND:20261025T150000Z
STATUS:CONFIRMED
SUMMARY:Artnouva  3.Sanat Fuarı
DESCRIPTION:Atis Fuarcılık Anonim Şirketi tarafından düzenlenen sana
 t ve sanatsal ürünler konulu fuarda görüşmek üzere: \n\nWeb:www.ar
 tnovafair.com\nE-Posta: info@atisfuar.com
LOCATION:Ato Kongre Ve Sergi Sarayı 'Congresıum'
BEGIN:VALARM
ACTION:DISPLAY
DESCRIPTION:Artnouva  3.Sanat Fuarı
TRIGGER:-PT24H
END:VALARM
END:VEVENT
BEGIN:VEVENT
UID:58f22015-8376-4b3d-59bf-08de9f8ee600
DTSTAMP:20260421T101545Z
TRANSP:TRANSPARENT
DTSTART:20261030T060000Z
DTEND:20261101T150000Z
STATUS:CONFIRMED
SUMMARY:5.Ankara Beautylıfe Expo Estetik Güzellik Kozmetik Fuarı
DESCRIPTION:Us Fuarcılık Ve Organizasyon Ltd. Şti. tarafından düzenl
 enen güzellik&bakım\,kozmetik\,spa &sağlık ve  estetik konulu fuarda
  görüşmek üzere: \n\nWeb:www.usfuar.com\nE-Posta: info@usfuar.com
LOCATION:Ato Kongre Ve Sergi Sarayı 'Congresıum'
BEGIN:VALARM
ACTION:DISPLAY
DESCRIPTION:5.Ankara Beautylıfe Expo Estetik Güzellik Kozmetik Fuarı
TRIGGER:-PT24H
END:VALARM
END:VEVENT
BEGIN:VEVENT
UID:e4e94737-1b45-40e3-59c0-08de9f8ee600
DTSTAMP:20260421T101545Z
TRANSP:TRANSPARENT
DTSTART:20261104T060000Z
DTEND:20261107T150000Z
STATUS:CONFIRMED
SUMMARY:Kalite Ankara 2026
DESCRIPTION:Kalite Fuar Yapım Anonim Şirketi tarafından düzenlenen 1.
  kontrol\, havacılık ve uzay teknolojileri\,otomotiv test ekipmanları
 \, metroloji ve endüstriyel yazılım fuarı konulu fuarda görüşmek 
 üzere: \n\nWeb:www.kalitefuarcilik.com\nE-Posta: info@kalitefuarcilik.c
 om
LOCATION:Ato Kongre Ve Sergi Sarayı 'Congresıum'
BEGIN:VALARM
ACTION:DISPLAY
DESCRIPTION:Kalite Ankara 2026
TRIGGER:-PT24H
END:VALARM
END:VEVENT
BEGIN:VEVENT
UID:99ed69f6-0c1c-4f00-59c1-08de9f8ee600
DTSTAMP:20260421T101545Z
TRANSP:TRANSPARENT
DTSTART:20261112T060000Z
DTEND:20261114T150000Z
STATUS:CONFIRMED
SUMMARY:İgef'26 - 3.Uluslararası İç Güvenlik Ekipmanları Fuarı
DESCRIPTION:Expolınk Fuarcılık Hizmetleri Ticaret Anonim Şirketi tara
 fından düzenlenen iç güvenlik\, polis\, özel güvenlik\, jandarma  
 ekipmanları ve teknolojileri konulu fuarda görüşmek üzere: \n\nWeb:
 www.igef.com.tr\nE-Posta: zekierdogan06@gmail.com
LOCATION:Ato Kongre Ve Sergi Sarayı 'Congresıum'
BEGIN:VALARM
ACTION:DISPLAY
DESCRIPTION:İgef'26 - 3.Uluslararası İç Güvenlik Ekipmanları Fuarı
TRIGGER:-PT24H
END:VALARM
END:VEVENT
BEGIN:VEVENT
UID:35303566-9a16-4a69-59c2-08de9f8ee600
DTSTAMP:20260421T101545Z
TRANSP:TRANSPARENT
DTSTART:20261119T060000Z
DTEND:20261121T150000Z
STATUS:CONFIRMED
SUMMARY:Travel Expo Ankara 9. Uluslararası Turizm Ve Seyahat Fuarı
DESCRIPTION:Atis Fuarcılık Anonim Şirketi tarafından düzenlenen turi
 zm konulu fuarda görüşmek üzere: \n\nWeb:www.atisfuar.com\nE-Posta: 
 info@atisfuar.com
LOCATION:Ato Kongre Ve Sergi Sarayı 'Congresıum'
BEGIN:VALARM
ACTION:DISPLAY
DESCRIPTION:Travel Expo Ankara 9. Uluslararası Turizm Ve Seyahat Fuarı
TRIGGER:-PT24H
END:VALARM
END:VEVENT
END:VCALENDAR
