BEGIN:VCALENDAR
VERSION:2.0
PRODID:itakvim.com
CALSCALE:GREGORIAN
METHOD:PUBLISH
UID:i5azvou80y1
X-WR-CALNAME:Düzce Kapalı Pazar Yeri Ve Fuar Alanı Takvimi
X-ITAKVIM-LANGUAGE:tr
X-ORIGINAL-URL:itakvim.com
REFRESH-INTERVAL;VALUE=DURATION:PT1H
X-ITAKVIM-REGION:TR
X-Robots-Tag:noindex
X-PUBLISHED-TTL:PT1H
BEGIN:VEVENT
UID:75f37bda-055f-4a98-52fb-08de9f183112
DTSTAMP:20260420T200817Z
TRANSP:TRANSPARENT
DTSTART:20261022T060000Z
DTEND:20261025T150000Z
STATUS:CONFIRMED
SUMMARY:1.Düzce Tarım, Hayvancılık Ve Sanayi Fuarı
DESCRIPTION:Lina Fuarcılık Hizmetleri Sanayi Ve Ticaret Limited Şirket
 i tarafından düzenlenen tarım\, hayvancılık ve makine \,gıda konul
 u fuarda görüşmek üzere: \n\nWeb:www.linafair.com\nE-Posta: info@lin
 afair.com
LOCATION:Düzce Kapalı Pazar Yeri Ve Fuar Alanı
BEGIN:VALARM
ACTION:DISPLAY
DESCRIPTION:1.Düzce Tarım, Hayvancılık Ve Sanayi Fuarı
TRIGGER:-PT24H
END:VALARM
END:VEVENT
END:VCALENDAR
