BEGIN:VCALENDAR
VERSION:2.0
PRODID:itakvim.com
CALSCALE:GREGORIAN
METHOD:PUBLISH
UID:ir5g8n68u7w
X-WR-CALNAME:STS Eczacılık Sınav Takvimi
X-ITAKVIM-LANGUAGE:tr
X-ORIGINAL-URL:itakvim.com
REFRESH-INTERVAL;VALUE=DURATION:PT1H
X-ITAKVIM-REGION:TR
X-Robots-Tag:noindex
X-PUBLISHED-TTL:PT1H
BEGIN:VEVENT
UID:21ede3a8-5ca3-4742-4f58-08de9f183112
DTSTAMP:20260420T200538Z
TRANSP:TRANSPARENT
DTSTART:20261106T210000Z
DTEND:20261106T210000Z
STATUS:CONFIRMED
SUMMARY:STS Eczacılık Eczacılık Alanında Yurt Dışı Yükseköğret
 im Diploma Denkliği İçin Seviye Tespit Sınavı 2026-STS Eczacılık 
 Sınav
END:VEVENT
BEGIN:VEVENT
UID:5def085c-190b-45e4-4f59-08de9f183112
DTSTAMP:20260420T200538Z
TRANSP:TRANSPARENT
DTSTART:20260922T210000Z
DTEND:20260922T210000Z
STATUS:CONFIRMED
SUMMARY:STS Eczacılık Eczacılık Alanında Yurt Dışı Yükseköğret
 im Diploma Denkliği İçin Seviye Tespit Sınavı 2026-STS Eczacılık 
 Başvuru Başlangıç
END:VEVENT
BEGIN:VEVENT
UID:c2bb8df0-141b-4850-4f5a-08de9f183112
DTSTAMP:20260420T200538Z
TRANSP:TRANSPARENT
DTSTART:20260930T210000Z
DTEND:20260930T210000Z
STATUS:CONFIRMED
SUMMARY:STS Eczacılık Eczacılık Alanında Yurt Dışı Yükseköğret
 im Diploma Denkliği İçin Seviye Tespit Sınavı 2026-STS Eczacılık 
 Başvuru Bitiş
END:VEVENT
BEGIN:VEVENT
UID:375244de-4fff-4d5b-4f5b-08de9f183112
DTSTAMP:20260420T200538Z
TRANSP:TRANSPARENT
DTSTART:20261007T210000Z
DTEND:20261007T210000Z
STATUS:CONFIRMED
SUMMARY:STS Eczacılık Eczacılık Alanında Yurt Dışı Yükseköğret
 im Diploma Denkliği İçin Seviye Tespit Sınavı 2026-STS Eczacılık 
 Geç Başvuru Başlangıç
END:VEVENT
BEGIN:VEVENT
UID:fbcf150d-3e36-4252-4f5c-08de9f183112
DTSTAMP:20260420T200538Z
TRANSP:TRANSPARENT
DTSTART:20261008T205900Z
DTEND:20261008T205900Z
STATUS:CONFIRMED
SUMMARY:STS Eczacılık Eczacılık Alanında Yurt Dışı Yükseköğret
 im Diploma Denkliği İçin Seviye Tespit Sınavı 2026-STS Eczacılık 
 Geç Başvuru Bitiş
END:VEVENT
BEGIN:VEVENT
UID:06255f75-18c1-4602-4f5d-08de9f183112
DTSTAMP:20260420T200538Z
TRANSP:TRANSPARENT
DTSTART:20261126T210000Z
DTEND:20261126T210000Z
STATUS:CONFIRMED
SUMMARY:STS Eczacılık Eczacılık Alanında Yurt Dışı Yükseköğret
 im Diploma Denkliği İçin Seviye Tespit Sınavı 2026-STS Eczacılık 
 Sonuç
END:VEVENT
END:VCALENDAR
