BEGIN:VCALENDAR
VERSION:2.0
PRODID:itakvim.com
CALSCALE:GREGORIAN
METHOD:PUBLISH
UID:iugjhfa93sf
X-WR-CALNAME:İBB Güngören Erdem Beyazıt Kültür Merkezi
X-ITAKVIM-LANGUAGE:tr
X-ORIGINAL-URL:itakvim.com
REFRESH-INTERVAL;VALUE=DURATION:PT1H
X-ITAKVIM-REGION:TR
X-Robots-Tag:noindex
X-PUBLISHED-TTL:PT1H
BEGIN:VEVENT
UID:00cfc117-89b5-4019-9929-08de835f0588
DTSTAMP:20260316T132945Z
TRANSP:TRANSPARENT
DTSTART:20260317T170000Z
DTEND:20260317T170000Z
STATUS:CONFIRMED
SUMMARY:Yatak Odası Komedisi
LOCATION:İBB Güngören Erdem Beyazıt Kültür Merkezi
END:VEVENT
END:VCALENDAR
